BEGIN:VCALENDAR
VERSION:2.0
PRODID:-//85.13.129.106//NONSGML kigkonsult.se iCalcreator 2.10.23//
BEGIN:VEVENT
UID:20260422T153849CEST-3894oB9t9g@85.13.129.106
DTSTAMP:20260422T133849Z
DESCRIPTION:
DTSTART;TZID=Europe/Berlin:20171021T103000
DTEND;TZID=Europe/Berlin:20171021T121500
LOCATION:
SUMMARY:17/18 E2-Jun. 1KK-Ost: TSV Germ. Sonneberg West E - 1. FC Sonneberg
  04 E2
END:VEVENT
BEGIN:VEVENT
UID:20260422T153849CEST-3899hJ16Gm@85.13.129.106
DTSTAMP:20260422T133849Z
DESCRIPTION:
DTSTART;TZID=Europe/Berlin:20171027T173000
DTEND;TZID=Europe/Berlin:20171027T191500
LOCATION:
SUMMARY:17/18 E2-Jun. 1KK-Ost: SV 03 Eisfeld E2 - TSV Germ. Sonneberg West 
 E
END:VEVENT
BEGIN:VEVENT
UID:20260422T153849CEST-3903atP9iS@85.13.129.106
DTSTAMP:20260422T133849Z
DESCRIPTION:
DTSTART;TZID=Europe/Berlin:20171118T103000
DTEND;TZID=Europe/Berlin:20171118T121500
LOCATION:
SUMMARY:17/18 E2-Jun. 1KK-Ost: TSV Germ. Sonneberg West E - SV Iso. Neuhaus
  Schierschnitz E
END:VEVENT
BEGIN:VEVENT
UID:20260422T153849CEST-3908GJuj7S@85.13.129.106
DTSTAMP:20260422T133849Z
DESCRIPTION:Schalkau
DTSTART;TZID=Europe/Berlin:20180406T173000
DTEND;TZID=Europe/Berlin:20180406T191500
LOCATION:Katzberger Straße 6\n96528 Schalkau\, 96528 Schalkau
SUMMARY:17/18 E2-Jun. 1KK-Ost: SG Schalkau/Effelder E2 - TSV Germ. Sonneber
 g West E
END:VEVENT
BEGIN:VEVENT
UID:20260422T153849CEST-3912hNRPLF@85.13.129.106
DTSTAMP:20260422T133849Z
DESCRIPTION:Schalkau
DTSTART;TZID=Europe/Berlin:20180413T173000
DTEND;TZID=Europe/Berlin:20180413T191500
LOCATION:Katzberger Straße 6\n96528 Schalkau\, 96528 Schalkau
SUMMARY:17/18 E2-Jun. 1KK-Ost: TSV Germ. Sonneberg West E - SG Meng.-Hämmer
 n/Rauenstein E
END:VEVENT
BEGIN:VEVENT
UID:20260422T153849CEST-3916U2Wh2C@85.13.129.106
DTSTAMP:20260422T133849Z
DESCRIPTION:Schalkau
DTSTART;TZID=Europe/Berlin:20180420T173000
DTEND;TZID=Europe/Berlin:20180420T191500
LOCATION:Katzberger Straße 6\n96528 Schalkau\, 96528 Schalkau
SUMMARY:17/18 E2-Jun. 1KK-Ost: 1. FC Sonneberg 04 E2 - TSV Germ. Sonneberg 
 West E
END:VEVENT
BEGIN:VEVENT
UID:20260422T153849CEST-3921EHvhOs@85.13.129.106
DTSTAMP:20260422T133849Z
DESCRIPTION:Schalkau
DTSTART;TZID=Europe/Berlin:20180504T170000
DTEND;TZID=Europe/Berlin:20180504T184500
LOCATION:Katzberger Straße 6\n96528 Schalkau\, 96528 Schalkau
SUMMARY:17/18 E2-Jun. 1KK-Ost: TSV Germ. Sonneberg West E - SV 03 Eisfeld E
 2
END:VEVENT
BEGIN:VEVENT
UID:20260422T153849CEST-3925vOa0im@85.13.129.106
DTSTAMP:20260422T133849Z
DESCRIPTION:Schalkau
DTSTART;TZID=Europe/Berlin:20180511T170000
DTEND;TZID=Europe/Berlin:20180511T184500
LOCATION:Katzberger Straße 6\n96528 Schalkau\, 96528 Schalkau
SUMMARY:17/18 E2-Jun. 1KK-Ost: SV Iso. Neuhaus Schierschnitz E - TSV Germ. 
 Sonneberg West E
END:VEVENT
BEGIN:VEVENT
UID:20260422T153849CEST-3930isZKDf@85.13.129.106
DTSTAMP:20260422T133849Z
DESCRIPTION:Schalkau
DTSTART;TZID=Europe/Berlin:20180527T103000
DTEND;TZID=Europe/Berlin:20180527T121500
LOCATION:Katzberger Straße 6\n96528 Schalkau\, 96528 Schalkau
SUMMARY:17/18 E2-Jun. 1KK-Ost: TSV Germ. Sonneberg West E - SG Schalkau/Eff
 elder E2
END:VEVENT
BEGIN:VEVENT
UID:20260422T153849CEST-3934fp9suz@85.13.129.106
DTSTAMP:20260422T133849Z
DESCRIPTION:Schalkau
DTSTART;TZID=Europe/Berlin:20180609T103000
DTEND;TZID=Europe/Berlin:20180609T121500
LOCATION:Katzberger Straße 6\n96528 Schalkau\, 96528 Schalkau
SUMMARY:17/18 E2-Jun. 1KK-Ost: SG Meng.-Hämmern/Rauenstein E - TSV Germ. So
 nneberg West E
END:VEVENT
END:VCALENDAR
