BEGIN:VCALENDAR
VERSION:2.0
PRODID:-//85.13.129.106//NONSGML kigkonsult.se iCalcreator 2.10.23//
BEGIN:VEVENT
UID:20260422T115610CEST-3689DaE0LX@85.13.129.106
DTSTAMP:20260422T095610Z
DESCRIPTION:Schalkau
DTSTART;TZID=Europe/Berlin:20170827T103000
DTEND;TZID=Europe/Berlin:20170827T121500
LOCATION:Katzberger Straße 6\n96528 Schalkau\, 96528 Schalkau
SUMMARY:17/18 E1-Jun. KL Mitte: SG Schalkau/Effelder E - SV Falke Sachsenbr
 unn E
END:VEVENT
BEGIN:VEVENT
UID:20260422T115610CEST-3694d6JOI3@85.13.129.106
DTSTAMP:20260422T095610Z
DESCRIPTION:Schalkau
DTSTART;TZID=Europe/Berlin:20170903T103000
DTEND;TZID=Europe/Berlin:20170903T121500
LOCATION:Katzberger Straße 6\n96528 Schalkau\, 96528 Schalkau
SUMMARY:17/18 E1-Jun. KL Mitte: SV Falke Sachsenbrunn E - SV Schleusegrund 
 Schönbrunn E
END:VEVENT
BEGIN:VEVENT
UID:20260422T115610CEST-3698SvPTzu@85.13.129.106
DTSTAMP:20260422T095610Z
DESCRIPTION:Schalkau
DTSTART;TZID=Europe/Berlin:20170909T103000
DTEND;TZID=Europe/Berlin:20170909T121500
LOCATION:Katzberger Straße 6\n96528 Schalkau\, 96528 Schalkau
SUMMARY:17/18 E1-Jun. KL Mitte: SV EK Veilsdorf E - SV Falke Sachsenbrunn E
END:VEVENT
BEGIN:VEVENT
UID:20260422T115610CEST-3702ujuul4@85.13.129.106
DTSTAMP:20260422T095610Z
DESCRIPTION:Schalkau
DTSTART;TZID=Europe/Berlin:20170924T103000
DTEND;TZID=Europe/Berlin:20170924T121500
LOCATION:Katzberger Straße 6\n96528 Schalkau\, 96528 Schalkau
SUMMARY:17/18 E1-Jun. KL Mitte: SV Falke Sachsenbrunn E - SV 03 Eisfeld E
END:VEVENT
END:VCALENDAR
