BEGIN:VCALENDAR
VERSION:2.0
PRODID:-//85.13.129.106//NONSGML kigkonsult.se iCalcreator 2.10.23//
BEGIN:VEVENT
UID:20260424T041428CEST-4565mtDxAt@85.13.129.106
DTSTAMP:20260424T021428Z
DESCRIPTION:
DTSTART;TZID=Europe/Berlin:20170927T173000
DTEND;TZID=Europe/Berlin:20170927T181500
LOCATION:
SUMMARY:17/18 E-Jun. Kreispokal: SG Römhild E2 - SV EK Veilsdorf E
END:VEVENT
BEGIN:VEVENT
UID:20260424T041428CEST-4570GxjGkn@85.13.129.106
DTSTAMP:20260424T021428Z
DESCRIPTION:
DTSTART;TZID=Europe/Berlin:20171111T103000
DTEND;TZID=Europe/Berlin:20171111T111500
LOCATION:
SUMMARY:17/18 E-Jun. Kreispokal: SV EK Veilsdorf E - 1. FC Sonneberg 04 E
END:VEVENT
END:VCALENDAR
