BEGIN:VCALENDAR
VERSION:2.0
PRODID:-//85.13.129.106//NONSGML kigkonsult.se iCalcreator 2.10.23//
BEGIN:VEVENT
UID:20260425T194201CEST-2055zsOT9P@85.13.129.106
DTSTAMP:20260425T174201Z
DESCRIPTION:
DTSTART;TZID=Europe/Berlin:20170818T173000
DTEND;TZID=Europe/Berlin:20170818T181500
LOCATION:
SUMMARY:17/18 E-Jun. Kreispokal: FSV 06 Eintr. Hildburghausen E2 - SV Eintr
 acht Heldburg E
END:VEVENT
END:VCALENDAR
