BEGIN:VCALENDAR
VERSION:2.0
PRODID:-//85.13.129.106//NONSGML kigkonsult.se iCalcreator 2.10.23//
BEGIN:VEVENT
UID:20260421T034920CEST-4904SrpSt0@85.13.129.106
DTSTAMP:20260421T014920Z
DESCRIPTION:
DTSTART;TZID=Europe/Berlin:20170811T173000
DTEND;TZID=Europe/Berlin:20170811T191500
LOCATION:
SUMMARY:17/18 C-Jun. Kreispokal: SV EK Veilsdorf C - SG Goßmannsrod/Oberlan
 d C
END:VEVENT
BEGIN:VEVENT
UID:20260421T034920CEST-4909JzFVSr@85.13.129.106
DTSTAMP:20260421T014920Z
DESCRIPTION:
DTSTART;TZID=Europe/Berlin:20170930T103000
DTEND;TZID=Europe/Berlin:20170930T121500
LOCATION:
SUMMARY:17/18 C-Jun. Kreispokal: SG Goßmannsrod/Oberland C - FSV 06 Eintr. 
 Hildburghausen C
END:VEVENT
BEGIN:VEVENT
UID:20260421T034920CEST-49138l6hk9@85.13.129.106
DTSTAMP:20260421T014920Z
DESCRIPTION:
DTSTART;TZID=Europe/Berlin:20180508T183000
DTEND;TZID=Europe/Berlin:20180508T201500
LOCATION:
SUMMARY:17/18 C-Jun. Kreispokal: SV Iso. Neuhaus Schierschnitz C - SG Goßma
 nnsrod/Oberland C
END:VEVENT
END:VCALENDAR
