BEGIN:VCALENDAR
VERSION:2.0
PRODID:-//85.13.129.106//NONSGML kigkonsult.se iCalcreator 2.10.23//
BEGIN:VEVENT
UID:20260423T143934CEST-8195cvAV3U@85.13.129.106
DTSTAMP:20260423T123934Z
DESCRIPTION:
DTSTART;TZID=Europe/Berlin:20170819T103000
DTEND;TZID=Europe/Berlin:20170819T121500
LOCATION:
SUMMARY:17/18 C-Jun. KOL: SG Meng.-Hämmern/Köpp./Rauenst. C - SG Goßmannsro
 d/Oberland C
END:VEVENT
BEGIN:VEVENT
UID:20260423T143934CEST-8203i3o4Nz@85.13.129.106
DTSTAMP:20260423T123934Z
DESCRIPTION:
DTSTART;TZID=Europe/Berlin:20170905T180000
DTEND;TZID=Europe/Berlin:20170905T194500
LOCATION:
SUMMARY:17/18 C-Jun. KOL: SG Goßmannsrod/Oberland C - SG SV 08 Steinach/FC 
 Sonneberg C
END:VEVENT
BEGIN:VEVENT
UID:20260423T143934CEST-8210uUCNUX@85.13.129.106
DTSTAMP:20260423T123934Z
DESCRIPTION:
DTSTART;TZID=Europe/Berlin:20170910T103000
DTEND;TZID=Europe/Berlin:20170910T121500
LOCATION:
SUMMARY:17/18 C-Jun. KOL: SG Goßmannsrod/Oberland C - SV Iso. Neuhaus Schie
 rschnitz C
END:VEVENT
BEGIN:VEVENT
UID:20260423T143934CEST-8218hHTvdU@85.13.129.106
DTSTAMP:20260423T123934Z
DESCRIPTION:
DTSTART;TZID=Europe/Berlin:20170920T180000
DTEND;TZID=Europe/Berlin:20170920T194500
LOCATION:
SUMMARY:17/18 C-Jun. KOL: SG Lauscha/Neuhaus C - SG Goßmannsrod/Oberland C
END:VEVENT
BEGIN:VEVENT
UID:20260423T143934CEST-8225a3AiFT@85.13.129.106
DTSTAMP:20260423T123934Z
DESCRIPTION:
DTSTART;TZID=Europe/Berlin:20170924T103000
DTEND;TZID=Europe/Berlin:20170924T121500
LOCATION:
SUMMARY:17/18 C-Jun. KOL: SG Goßmannsrod/Oberland C - FSV 06 Eintr. Hildbur
 ghausen C
END:VEVENT
BEGIN:VEVENT
UID:20260423T143934CEST-8233u26mdW@85.13.129.106
DTSTAMP:20260423T123934Z
DESCRIPTION:
DTSTART;TZID=Europe/Berlin:20171022T103000
DTEND;TZID=Europe/Berlin:20171022T121500
LOCATION:
SUMMARY:17/18 C-Jun. KOL: SG Goßmannsrod/Oberland C - SV EK Veilsdorf C
END:VEVENT
BEGIN:VEVENT
UID:20260423T143934CEST-8240OV0xdm@85.13.129.106
DTSTAMP:20260423T123934Z
DESCRIPTION:
DTSTART;TZID=Europe/Berlin:20171027T170000
DTEND;TZID=Europe/Berlin:20171027T184500
LOCATION:
SUMMARY:17/18 C-Jun. KOL: SG Römhild C - SG Goßmannsrod/Oberland C
END:VEVENT
BEGIN:VEVENT
UID:20260423T143934CEST-8249z9UUVX@85.13.129.106
DTSTAMP:20260423T123934Z
DESCRIPTION:
DTSTART;TZID=Europe/Berlin:19700101T010000
DTEND;TZID=Europe/Berlin:19700101T010000
LOCATION:
SUMMARY:17/18 C-Jun. KOL: SG Goßmannsrod/Oberland C - FC-BW Schalkau C
END:VEVENT
BEGIN:VEVENT
UID:20260423T143934CEST-8256iu24eH@85.13.129.106
DTSTAMP:20260423T123934Z
DESCRIPTION:
DTSTART;TZID=Europe/Berlin:20180525T183000
DTEND;TZID=Europe/Berlin:20180525T201500
LOCATION:
SUMMARY:17/18 C-Jun. KOL: SG Goßmannsrod/Oberland C - SG Meng.-Hämmern/Köpp
 ./Rauenst. C
END:VEVENT
BEGIN:VEVENT
UID:20260423T143934CEST-8264VuKMuc@85.13.129.106
DTSTAMP:20260423T123934Z
DESCRIPTION:
DTSTART;TZID=Europe/Berlin:20180408T103000
DTEND;TZID=Europe/Berlin:20180408T121500
LOCATION:
SUMMARY:17/18 C-Jun. KOL: SG SV 08 Steinach/FC Sonneberg C - SG Goßmannsrod
 /Oberland C
END:VEVENT
BEGIN:VEVENT
UID:20260423T143934CEST-8271SaVlIU@85.13.129.106
DTSTAMP:20260423T123934Z
DESCRIPTION:
DTSTART;TZID=Europe/Berlin:20180425T183000
DTEND;TZID=Europe/Berlin:20180425T201500
LOCATION:
SUMMARY:17/18 C-Jun. KOL: SV Iso. Neuhaus Schierschnitz C - SG Goßmannsrod/
 Oberland C
END:VEVENT
BEGIN:VEVENT
UID:20260423T143934CEST-8279F3VUit@85.13.129.106
DTSTAMP:20260423T123934Z
DESCRIPTION:
DTSTART;TZID=Europe/Berlin:20180522T180000
DTEND;TZID=Europe/Berlin:20180522T194500
LOCATION:
SUMMARY:17/18 C-Jun. KOL: SG Goßmannsrod/Oberland C - SG Lauscha/Neuhaus C
END:VEVENT
BEGIN:VEVENT
UID:20260423T143934CEST-8287o8Wv6A@85.13.129.106
DTSTAMP:20260423T123934Z
DESCRIPTION:
DTSTART;TZID=Europe/Berlin:20180412T103000
DTEND;TZID=Europe/Berlin:20180412T121500
LOCATION:
SUMMARY:17/18 C-Jun. KOL: FSV 06 Eintr. Hildburghausen C - SG Goßmannsrod/O
 berland C
END:VEVENT
BEGIN:VEVENT
UID:20260423T143934CEST-8295tUrTGA@85.13.129.106
DTSTAMP:20260423T123934Z
DESCRIPTION:
DTSTART;TZID=Europe/Berlin:20180514T103000
DTEND;TZID=Europe/Berlin:20180514T121500
LOCATION:
SUMMARY:17/18 C-Jun. KOL: SV EK Veilsdorf C - SG Goßmannsrod/Oberland C
END:VEVENT
BEGIN:VEVENT
UID:20260423T143934CEST-8303A04bvw@85.13.129.106
DTSTAMP:20260423T123934Z
DESCRIPTION:
DTSTART;TZID=Europe/Berlin:20180527T103000
DTEND;TZID=Europe/Berlin:20180527T121500
LOCATION:
SUMMARY:17/18 C-Jun. KOL: SG Goßmannsrod/Oberland C - SG Römhild C
END:VEVENT
BEGIN:VEVENT
UID:20260423T143934CEST-8311UBkt7u@85.13.129.106
DTSTAMP:20260423T123934Z
DESCRIPTION:Schalkau
DTSTART;TZID=Europe/Berlin:20180602T140000
DTEND;TZID=Europe/Berlin:20180602T154500
LOCATION:Katzberger Straße 6\n96528 Schalkau\, 96528 Schalkau
SUMMARY:17/18 C-Jun. KOL: FC-BW Schalkau C - SG Goßmannsrod/Oberland C
END:VEVENT
END:VCALENDAR
