BEGIN:VCALENDAR
VERSION:2.0
PRODID:-//85.13.129.106//NONSGML kigkonsult.se iCalcreator 2.10.23//
BEGIN:VEVENT
UID:20260422T192407CEST-8650vwtT4p@85.13.129.106
DTSTAMP:20260422T172407Z
DESCRIPTION:
DTSTART;TZID=Europe/Berlin:20170730T150000
DTEND;TZID=Europe/Berlin:20170730T164500
LOCATION:
SUMMARY:17/18 Herren Kreispokal: TSV 1868 Ummerstadt II - TSV 08 Gleichambe
 rg
END:VEVENT
END:VCALENDAR
