BEGIN:VCALENDAR
VERSION:2.0
PRODID:-//85.13.129.106//NONSGML kigkonsult.se iCalcreator 2.10.23//
BEGIN:VEVENT
UID:20260420T125438CEST-50415zEcof@85.13.129.106
DTSTAMP:20260420T105438Z
DESCRIPTION:
DTSTART;TZID=Europe/Berlin:20170430T100000
DTEND;TZID=Europe/Berlin:20170430T114500
LOCATION:
SUMMARY:16/17 F2-Jun. KL-Runde 2: SV 08 Steinach F - 1. FC Sonneberg 04 F2
END:VEVENT
BEGIN:VEVENT
UID:20260420T125438CEST-5046zvHUGK@85.13.129.106
DTSTAMP:20260420T105438Z
DESCRIPTION:
DTSTART;TZID=Europe/Berlin:20170430T103000
DTEND;TZID=Europe/Berlin:20170430T121500
LOCATION:
SUMMARY:16/17 F2-Jun. KL-Runde 2: SV 08 Steinach F - SG Lauscha/Neuhaus F
END:VEVENT
BEGIN:VEVENT
UID:20260420T125438CEST-5050JSdh2p@85.13.129.106
DTSTAMP:20260420T105438Z
DESCRIPTION:
DTSTART;TZID=Europe/Berlin:20170430T120000
DTEND;TZID=Europe/Berlin:20170430T134500
LOCATION:
SUMMARY:16/17 F2-Jun. KL-Runde 2: SV 08 Steinach F - SG Effelder/Schalkau F
 2
END:VEVENT
BEGIN:VEVENT
UID:20260420T125438CEST-5054cg3CoD@85.13.129.106
DTSTAMP:20260420T105438Z
DESCRIPTION:
DTSTART;TZID=Europe/Berlin:20170514T100000
DTEND;TZID=Europe/Berlin:20170514T114500
LOCATION:
SUMMARY:16/17 F2-Jun. KL-Runde 2: 1. FC Sonneberg 04 F2 - SV 08 Steinach F
END:VEVENT
BEGIN:VEVENT
UID:20260420T125438CEST-5059CN2Guo@85.13.129.106
DTSTAMP:20260420T105438Z
DESCRIPTION:
DTSTART;TZID=Europe/Berlin:20170514T103000
DTEND;TZID=Europe/Berlin:20170514T121500
LOCATION:
SUMMARY:16/17 F2-Jun. KL-Runde 2: SG Lauscha/Neuhaus F - SV 08 Steinach F
END:VEVENT
BEGIN:VEVENT
UID:20260420T125438CEST-5063BfKE3u@85.13.129.106
DTSTAMP:20260420T105438Z
DESCRIPTION:
DTSTART;TZID=Europe/Berlin:20170514T113000
DTEND;TZID=Europe/Berlin:20170514T131500
LOCATION:
SUMMARY:16/17 F2-Jun. KL-Runde 2: SG Effelder/Schalkau F2 - SV 08 Steinach 
 F
END:VEVENT
BEGIN:VEVENT
UID:20260420T125438CEST-5068dO6Vzj@85.13.129.106
DTSTAMP:20260420T105438Z
DESCRIPTION:
DTSTART;TZID=Europe/Berlin:20170528T100000
DTEND;TZID=Europe/Berlin:20170528T114500
LOCATION:
SUMMARY:16/17 F2-Jun. KL-Runde 2: SV 08 Steinach F - 1. FC Sonneberg 04 F2
END:VEVENT
BEGIN:VEVENT
UID:20260420T125438CEST-5072iPcvkU@85.13.129.106
DTSTAMP:20260420T105438Z
DESCRIPTION:
DTSTART;TZID=Europe/Berlin:20170528T103000
DTEND;TZID=Europe/Berlin:20170528T121500
LOCATION:
SUMMARY:16/17 F2-Jun. KL-Runde 2: SV 08 Steinach F - SG Lauscha/Neuhaus F
END:VEVENT
BEGIN:VEVENT
UID:20260420T125438CEST-5076HBSu1c@85.13.129.106
DTSTAMP:20260420T105438Z
DESCRIPTION:
DTSTART;TZID=Europe/Berlin:20170528T113000
DTEND;TZID=Europe/Berlin:20170528T131500
LOCATION:
SUMMARY:16/17 F2-Jun. KL-Runde 2: SV 08 Steinach F - SG Effelder/Schalkau F
 2
END:VEVENT
BEGIN:VEVENT
UID:20260420T125438CEST-5081V6Ns1p@85.13.129.106
DTSTAMP:20260420T105438Z
DESCRIPTION:
DTSTART;TZID=Europe/Berlin:20170618T100000
DTEND;TZID=Europe/Berlin:20170618T114500
LOCATION:
SUMMARY:16/17 F2-Jun. KL-Runde 2: 1. FC Sonneberg 04 F2 - SV 08 Steinach F
END:VEVENT
BEGIN:VEVENT
UID:20260420T125438CEST-5085Bbm2Vp@85.13.129.106
DTSTAMP:20260420T105438Z
DESCRIPTION:
DTSTART;TZID=Europe/Berlin:20170618T103000
DTEND;TZID=Europe/Berlin:20170618T121500
LOCATION:
SUMMARY:16/17 F2-Jun. KL-Runde 2: SG Lauscha/Neuhaus F - SV 08 Steinach F
END:VEVENT
BEGIN:VEVENT
UID:20260420T125438CEST-5090ur0huH@85.13.129.106
DTSTAMP:20260420T105438Z
DESCRIPTION:
DTSTART;TZID=Europe/Berlin:20170618T120000
DTEND;TZID=Europe/Berlin:20170618T134500
LOCATION:
SUMMARY:16/17 F2-Jun. KL-Runde 2: SG Effelder/Schalkau F2 - SV 08 Steinach 
 F
END:VEVENT
END:VCALENDAR
