BEGIN:VCALENDAR
VERSION:2.0
PRODID:-//85.13.129.106//NONSGML kigkonsult.se iCalcreator 2.10.23//
BEGIN:VEVENT
UID:20260422T080727CEST-7111L1NDLj@85.13.129.106
DTSTAMP:20260422T060727Z
DESCRIPTION:
DTSTART;TZID=Europe/Berlin:20160918T093000
DTEND;TZID=Europe/Berlin:20160918T094000
LOCATION:
SUMMARY:16/17 G-Jun. KL Ost: SV 08 Steinach G - SV Falke Sachsenbrunn G
END:VEVENT
BEGIN:VEVENT
UID:20260422T080727CEST-71202EGh9C@85.13.129.106
DTSTAMP:20260422T060727Z
DESCRIPTION:
DTSTART;TZID=Europe/Berlin:20160918T095400
DTEND;TZID=Europe/Berlin:20160918T100400
LOCATION:
SUMMARY:16/17 G-Jun. KL Ost: 1. FC Sonneberg 04 G - SV 08 Steinach G
END:VEVENT
BEGIN:VEVENT
UID:20260422T080727CEST-71300UaGXG@85.13.129.106
DTSTAMP:20260422T060727Z
DESCRIPTION:
DTSTART;TZID=Europe/Berlin:20160918T103000
DTEND;TZID=Europe/Berlin:20160918T104000
LOCATION:
SUMMARY:16/17 G-Jun. KL Ost: SV 08 Steinach G - SC 06 Oberlind G
END:VEVENT
BEGIN:VEVENT
UID:20260422T080727CEST-7141bKvJdo@85.13.129.106
DTSTAMP:20260422T060727Z
DESCRIPTION:
DTSTART;TZID=Europe/Berlin:20160918T105400
DTEND;TZID=Europe/Berlin:20160918T110400
LOCATION:
SUMMARY:16/17 G-Jun. KL Ost: SV 08 Steinach G - FC-BW Schalkau G
END:VEVENT
BEGIN:VEVENT
UID:20260422T080727CEST-7155ofPjtV@85.13.129.106
DTSTAMP:20260422T060727Z
DESCRIPTION:
DTSTART;TZID=Europe/Berlin:20161002T090000
DTEND;TZID=Europe/Berlin:20161002T091000
LOCATION:
SUMMARY:16/17 G-Jun. KL Ost: SV 08 Steinach G - SV Falke Sachsenbrunn G
END:VEVENT
BEGIN:VEVENT
UID:20260422T080727CEST-71643Kl0bF@85.13.129.106
DTSTAMP:20260422T060727Z
DESCRIPTION:
DTSTART;TZID=Europe/Berlin:20161002T092400
DTEND;TZID=Europe/Berlin:20161002T093400
LOCATION:
SUMMARY:16/17 G-Jun. KL Ost: 1. FC Sonneberg 04 G - SV 08 Steinach G
END:VEVENT
BEGIN:VEVENT
UID:20260422T080727CEST-7172vVPJPA@85.13.129.106
DTSTAMP:20260422T060727Z
DESCRIPTION:
DTSTART;TZID=Europe/Berlin:20161002T100000
DTEND;TZID=Europe/Berlin:20161002T101000
LOCATION:
SUMMARY:16/17 G-Jun. KL Ost: SV 08 Steinach G - SC 06 Oberlind G
END:VEVENT
BEGIN:VEVENT
UID:20260422T080727CEST-7181TvHT8I@85.13.129.106
DTSTAMP:20260422T060727Z
DESCRIPTION:
DTSTART;TZID=Europe/Berlin:20161002T102400
DTEND;TZID=Europe/Berlin:20161002T103400
LOCATION:
SUMMARY:16/17 G-Jun. KL Ost: SV 08 Steinach G - FC-BW Schalkau G
END:VEVENT
BEGIN:VEVENT
UID:20260422T080727CEST-7190FB9O0x@85.13.129.106
DTSTAMP:20260422T060727Z
DESCRIPTION:
DTSTART;TZID=Europe/Berlin:20161023T093000
DTEND;TZID=Europe/Berlin:20161023T094000
LOCATION:
SUMMARY:16/17 G-Jun. KL Ost: SV 08 Steinach G - SV Falke Sachsenbrunn G
END:VEVENT
BEGIN:VEVENT
UID:20260422T080727CEST-71984ouPa3@85.13.129.106
DTSTAMP:20260422T060727Z
DESCRIPTION:
DTSTART;TZID=Europe/Berlin:20161023T095400
DTEND;TZID=Europe/Berlin:20161023T100400
LOCATION:
SUMMARY:16/17 G-Jun. KL Ost: 1. FC Sonneberg 04 G - SV 08 Steinach G
END:VEVENT
BEGIN:VEVENT
UID:20260422T080727CEST-7207eubbuj@85.13.129.106
DTSTAMP:20260422T060727Z
DESCRIPTION:
DTSTART;TZID=Europe/Berlin:20161023T103000
DTEND;TZID=Europe/Berlin:20161023T104000
LOCATION:
SUMMARY:16/17 G-Jun. KL Ost: SV 08 Steinach G - SC 06 Oberlind G
END:VEVENT
BEGIN:VEVENT
UID:20260422T080727CEST-7216LIIBZa@85.13.129.106
DTSTAMP:20260422T060727Z
DESCRIPTION:
DTSTART;TZID=Europe/Berlin:20161023T105400
DTEND;TZID=Europe/Berlin:20161023T110400
LOCATION:
SUMMARY:16/17 G-Jun. KL Ost: SV 08 Steinach G - FC-BW Schalkau G
END:VEVENT
BEGIN:VEVENT
UID:20260422T080727CEST-72250EfSk9@85.13.129.106
DTSTAMP:20260422T060727Z
DESCRIPTION:
DTSTART;TZID=Europe/Berlin:20170507T093000
DTEND;TZID=Europe/Berlin:20170507T094000
LOCATION:
SUMMARY:16/17 G-Jun. KL Ost: SV 08 Steinach G - 1. FC Sonneberg 04 G
END:VEVENT
BEGIN:VEVENT
UID:20260422T080727CEST-7233uDR4aa@85.13.129.106
DTSTAMP:20260422T060727Z
DESCRIPTION:
DTSTART;TZID=Europe/Berlin:20170507T095000
DTEND;TZID=Europe/Berlin:20170507T100000
LOCATION:
SUMMARY:16/17 G-Jun. KL Ost: SV Falke Sachsenbrunn G - SV 08 Steinach G
END:VEVENT
BEGIN:VEVENT
UID:20260422T080727CEST-7240a2fva4@85.13.129.106
DTSTAMP:20260422T060727Z
DESCRIPTION:
DTSTART;TZID=Europe/Berlin:20170507T102000
DTEND;TZID=Europe/Berlin:20170507T103000
LOCATION:
SUMMARY:16/17 G-Jun. KL Ost: SV 08 Steinach G - FC-BW Schalkau G2
END:VEVENT
BEGIN:VEVENT
UID:20260422T080727CEST-7248hz4an6@85.13.129.106
DTSTAMP:20260422T060727Z
DESCRIPTION:
DTSTART;TZID=Europe/Berlin:20170507T104000
DTEND;TZID=Europe/Berlin:20170507T105000
LOCATION:
SUMMARY:16/17 G-Jun. KL Ost: SV 08 Steinach G - FC-BW Schalkau G
END:VEVENT
BEGIN:VEVENT
UID:20260422T080727CEST-72558b5s3w@85.13.129.106
DTSTAMP:20260422T060727Z
DESCRIPTION:
DTSTART;TZID=Europe/Berlin:20170521T093000
DTEND;TZID=Europe/Berlin:20170521T094000
LOCATION:
SUMMARY:16/17 G-Jun. KL Ost: SV 08 Steinach G - 1. FC Sonneberg 04 G
END:VEVENT
BEGIN:VEVENT
UID:20260422T080727CEST-72647vwLph@85.13.129.106
DTSTAMP:20260422T060727Z
DESCRIPTION:
DTSTART;TZID=Europe/Berlin:20170521T095000
DTEND;TZID=Europe/Berlin:20170521T100000
LOCATION:
SUMMARY:16/17 G-Jun. KL Ost: SV Falke Sachsenbrunn G - SV 08 Steinach G
END:VEVENT
BEGIN:VEVENT
UID:20260422T080727CEST-7273LkEdJe@85.13.129.106
DTSTAMP:20260422T060727Z
DESCRIPTION:
DTSTART;TZID=Europe/Berlin:20170521T102000
DTEND;TZID=Europe/Berlin:20170521T103000
LOCATION:
SUMMARY:16/17 G-Jun. KL Ost: SV 08 Steinach G - FC-BW Schalkau G2
END:VEVENT
BEGIN:VEVENT
UID:20260422T080727CEST-7280KCFldM@85.13.129.106
DTSTAMP:20260422T060727Z
DESCRIPTION:
DTSTART;TZID=Europe/Berlin:20170521T104000
DTEND;TZID=Europe/Berlin:20170521T105000
LOCATION:
SUMMARY:16/17 G-Jun. KL Ost: SV 08 Steinach G - FC-BW Schalkau G
END:VEVENT
BEGIN:VEVENT
UID:20260422T080727CEST-7287UBeC3s@85.13.129.106
DTSTAMP:20260422T060727Z
DESCRIPTION:
DTSTART;TZID=Europe/Berlin:20170618T093000
DTEND;TZID=Europe/Berlin:20170618T094000
LOCATION:
SUMMARY:16/17 G-Jun. KL Ost: SV 08 Steinach G - 1. FC Sonneberg 04 G
END:VEVENT
BEGIN:VEVENT
UID:20260422T080727CEST-7292O6Tn5k@85.13.129.106
DTSTAMP:20260422T060727Z
DESCRIPTION:
DTSTART;TZID=Europe/Berlin:20170618T095000
DTEND;TZID=Europe/Berlin:20170618T100000
LOCATION:
SUMMARY:16/17 G-Jun. KL Ost: SV Falke Sachsenbrunn G - SV 08 Steinach G
END:VEVENT
BEGIN:VEVENT
UID:20260422T080727CEST-7300Fs5o4V@85.13.129.106
DTSTAMP:20260422T060727Z
DESCRIPTION:
DTSTART;TZID=Europe/Berlin:20170618T102000
DTEND;TZID=Europe/Berlin:20170618T103000
LOCATION:
SUMMARY:16/17 G-Jun. KL Ost: SV 08 Steinach G - FC-BW Schalkau G2
END:VEVENT
BEGIN:VEVENT
UID:20260422T080727CEST-73080VBCP8@85.13.129.106
DTSTAMP:20260422T060727Z
DESCRIPTION:
DTSTART;TZID=Europe/Berlin:20170618T104000
DTEND;TZID=Europe/Berlin:20170618T105000
LOCATION:
SUMMARY:16/17 G-Jun. KL Ost: SV 08 Steinach G - FC-BW Schalkau G
END:VEVENT
END:VCALENDAR
