BEGIN:VCALENDAR
VERSION:2.0
PRODID:-//85.13.129.106//NONSGML kigkonsult.se iCalcreator 2.10.23//
BEGIN:VEVENT
UID:20260421T145618CEST-9079Lr5pGN@85.13.129.106
DTSTAMP:20260421T125618Z
DESCRIPTION:
DTSTART;TZID=Europe/Berlin:20160907T180000
DTEND;TZID=Europe/Berlin:20160907T184500
LOCATION:
SUMMARY:16/17 E-Jun. Kreispokal: SV 03 Eisfeld E - TSV Germ. Sonneberg West
  E
END:VEVENT
END:VCALENDAR
