BEGIN:VCALENDAR
VERSION:2.0
PRODID:-//85.13.129.106//NONSGML kigkonsult.se iCalcreator 2.10.23//
BEGIN:VEVENT
UID:20260423T164306CEST-4321Kc22zC@85.13.129.106
DTSTAMP:20260423T144306Z
DESCRIPTION:
DTSTART;TZID=Europe/Berlin:20160717T130000
DTEND;TZID=Europe/Berlin:20160717T144500
LOCATION:
SUMMARY:16/17 Herren Kreispokal: SC 06 Oberlind II - SV 84 St. Bernhard
END:VEVENT
BEGIN:VEVENT
UID:20260423T164306CEST-4326cgwihU@85.13.129.106
DTSTAMP:20260423T144306Z
DESCRIPTION:
DTSTART;TZID=Europe/Berlin:20160807T150000
DTEND;TZID=Europe/Berlin:20160807T164500
LOCATION:
SUMMARY:16/17 Herren Kreispokal: SV 84 St. Bernhard - SV Rottmar/Gefell
END:VEVENT
BEGIN:VEVENT
UID:20260423T164306CEST-4330jOdc20@85.13.129.106
DTSTAMP:20260423T144306Z
DESCRIPTION:
DTSTART;TZID=Europe/Berlin:20160812T180000
DTEND;TZID=Europe/Berlin:20160812T194500
LOCATION:
SUMMARY:16/17 Herren Kreispokal: SV 84 St. Bernhard - SG Streufdorf/Eishaus
 en
END:VEVENT
END:VCALENDAR
