BEGIN:VCALENDAR
VERSION:2.0
PRODID:-//85.13.129.106//NONSGML kigkonsult.se iCalcreator 2.10.23//
BEGIN:VEVENT
UID:20260420T113715CEST-3625pE47Hi@85.13.129.106
DTSTAMP:20260420T093715Z
DESCRIPTION:
DTSTART;TZID=Europe/Berlin:20160724T150000
DTEND;TZID=Europe/Berlin:20160724T164500
LOCATION:
SUMMARY:16/17 Herren Kreispokal: TSV 1911 Themar II - SV 1920 Gellershausen
END:VEVENT
END:VCALENDAR
