BEGIN:VCALENDAR
VERSION:2.0
PRODID:-//85.13.129.106//NONSGML kigkonsult.se iCalcreator 2.10.23//
BEGIN:VEVENT
UID:20260421T081408CEST-0386rsrRBx@85.13.129.106
DTSTAMP:20260421T061408Z
DESCRIPTION:
DTSTART;TZID=Europe/Berlin:20180728T150000
DTEND;TZID=Europe/Berlin:20180728T164500
LOCATION:
SUMMARY:18/19 Herren Kreispokal: SV Eintracht Heldburg II - SG Dingsleben/S
 t. Bernhard
END:VEVENT
BEGIN:VEVENT
UID:20260421T081408CEST-0390iKLlAc@85.13.129.106
DTSTAMP:20260421T061408Z
DESCRIPTION:
DTSTART;TZID=Europe/Berlin:20181003T150000
DTEND;TZID=Europe/Berlin:20181003T164500
LOCATION:
SUMMARY:18/19 Herren Kreispokal: SG Dingsleben/St. Bernhard - SC 06 Oberlin
 d
END:VEVENT
END:VCALENDAR
