BEGIN:VCALENDAR
VERSION:2.0
PRODID:-//85.13.129.106//NONSGML kigkonsult.se iCalcreator 2.10.23//
BEGIN:VEVENT
UID:20260424T041601CEST-9024kTI2T1@85.13.129.106
DTSTAMP:20260424T021601Z
DESCRIPTION:
DTSTART;TZID=Europe/Berlin:20160109T132200
DTEND;TZID=Europe/Berlin:20160109T150700
LOCATION:
SUMMARY:15/16 C-Jun. HLM VR: SC 07 Schleusingen C - SG Schalkau/Sbg.-W. C
END:VEVENT
BEGIN:VEVENT
UID:20260424T041601CEST-9028J3Cg8n@85.13.129.106
DTSTAMP:20260424T021601Z
DESCRIPTION:
DTSTART;TZID=Europe/Berlin:20160109T134400
DTEND;TZID=Europe/Berlin:20160109T152900
LOCATION:
SUMMARY:15/16 C-Jun. HLM VR: SG SV Wacker 04 Bad Salzungen C - SC 07 Schleu
 singen C
END:VEVENT
BEGIN:VEVENT
UID:20260424T041601CEST-9033zbD1cO@85.13.129.106
DTSTAMP:20260424T021601Z
DESCRIPTION:
DTSTART;TZID=Europe/Berlin:20160109T140600
DTEND;TZID=Europe/Berlin:20160109T155100
LOCATION:
SUMMARY:15/16 C-Jun. HLM VR: SC 07 Schleusingen C - FC Rot-Weiß Erfurt C
END:VEVENT
BEGIN:VEVENT
UID:20260424T041601CEST-9037U2TdVX@85.13.129.106
DTSTAMP:20260424T021601Z
DESCRIPTION:
DTSTART;TZID=Europe/Berlin:20160109T142800
DTEND;TZID=Europe/Berlin:20160109T161300
LOCATION:
SUMMARY:15/16 C-Jun. HLM VR: SG Herpfer SV 07 CII - SC 07 Schleusingen C
END:VEVENT
END:VCALENDAR
