BEGIN:VCALENDAR
VERSION:2.0
PRODID:-//85.13.129.106//NONSGML kigkonsult.se iCalcreator 2.10.23//
BEGIN:VEVENT
UID:20260422T135052CEST-8269cp1ti5@85.13.129.106
DTSTAMP:20260422T115052Z
DESCRIPTION:
DTSTART;TZID=Europe/Amsterdam:20131102T093000
DTEND;TZID=Europe/Amsterdam:20131102T111500
LOCATION:
SUMMARY:13/14 E-Jun. KOL: SV Empor 90 Eishausen E - SG Steinach E2
END:VEVENT
BEGIN:VEVENT
UID:20260422T135052CEST-8274VnVHTv@85.13.129.106
DTSTAMP:20260422T115052Z
DESCRIPTION:
DTSTART;TZID=Europe/Amsterdam:20131114T173000
DTEND;TZID=Europe/Amsterdam:20131114T191500
LOCATION:
SUMMARY:13/14 E-Jun. KOL: SG Steinach E2 - TSV Germ. Sonneberg West E
END:VEVENT
BEGIN:VEVENT
UID:20260422T135052CEST-8278VuKKGd@85.13.129.106
DTSTAMP:20260422T115052Z
DESCRIPTION:
DTSTART;TZID=Europe/Amsterdam:20140320T170000
DTEND;TZID=Europe/Amsterdam:20140320T184500
LOCATION:
SUMMARY:13/14 E-Jun. KOL: SG Steinach E2 - SG 1951 Sonneberg E
END:VEVENT
BEGIN:VEVENT
UID:20260422T135052CEST-8282BVxBCS@85.13.129.106
DTSTAMP:20260422T115052Z
DESCRIPTION:
DTSTART;TZID=Europe/Amsterdam:20140323T103000
DTEND;TZID=Europe/Amsterdam:20140323T121500
LOCATION:
SUMMARY:13/14 E-Jun. KOL: SG Steinach E2 - FC-BW Schalkau E
END:VEVENT
BEGIN:VEVENT
UID:20260422T135052CEST-8287AJDg9P@85.13.129.106
DTSTAMP:20260422T115052Z
DESCRIPTION:
DTSTART;TZID=Europe/Amsterdam:20140329T103000
DTEND;TZID=Europe/Amsterdam:20140329T121500
LOCATION:
SUMMARY:13/14 E-Jun. KOL: SG Römh./Mendhausen E - SG Steinach E2
END:VEVENT
BEGIN:VEVENT
UID:20260422T135052CEST-8291HANV1z@85.13.129.106
DTSTAMP:20260422T115052Z
DESCRIPTION:
DTSTART;TZID=Europe/Amsterdam:20140406T103000
DTEND;TZID=Europe/Amsterdam:20140406T121500
LOCATION:
SUMMARY:13/14 E-Jun. KOL: SG Steinach E2 - SV EK Veilsdorf E
END:VEVENT
BEGIN:VEVENT
UID:20260422T135052CEST-8296tBGjZz@85.13.129.106
DTSTAMP:20260422T115052Z
DESCRIPTION:
DTSTART;TZID=Europe/Amsterdam:20140411T180000
DTEND;TZID=Europe/Amsterdam:20140411T194500
LOCATION:
SUMMARY:13/14 E-Jun. KOL: SV Iso. Neuhaus Schierschnitz E - SG Steinach E2
END:VEVENT
BEGIN:VEVENT
UID:20260422T135052CEST-83005cxbc2@85.13.129.106
DTSTAMP:20260422T115052Z
DESCRIPTION:
DTSTART;TZID=Europe/Amsterdam:20140501T103000
DTEND;TZID=Europe/Amsterdam:20140501T121500
LOCATION:
SUMMARY:13/14 E-Jun. KOL: SG Steinach E2 - SG Waldau E
END:VEVENT
BEGIN:VEVENT
UID:20260422T135052CEST-8304bHBcfD@85.13.129.106
DTSTAMP:20260422T115052Z
DESCRIPTION:
DTSTART;TZID=Europe/Amsterdam:20140504T103000
DTEND;TZID=Europe/Amsterdam:20140504T121500
LOCATION:
SUMMARY:13/14 E-Jun. KOL: SG Steinach E2 - SV Empor 90 Eishausen E
END:VEVENT
BEGIN:VEVENT
UID:20260422T135052CEST-83092TVtat@85.13.129.106
DTSTAMP:20260422T115052Z
DESCRIPTION:
DTSTART;TZID=Europe/Amsterdam:20140514T180000
DTEND;TZID=Europe/Amsterdam:20140514T194500
LOCATION:
SUMMARY:13/14 E-Jun. KOL: TSV Germ. Sonneberg West E - SG Steinach E2
END:VEVENT
BEGIN:VEVENT
UID:20260422T135052CEST-8313uEueNE@85.13.129.106
DTSTAMP:20260422T115052Z
DESCRIPTION:
DTSTART;TZID=Europe/Amsterdam:20140516T170000
DTEND;TZID=Europe/Amsterdam:20140516T184500
LOCATION:
SUMMARY:13/14 E-Jun. KOL: SG 1951 Sonneberg E - SG Steinach E2
END:VEVENT
BEGIN:VEVENT
UID:20260422T135052CEST-8318PgUN5L@85.13.129.106
DTSTAMP:20260422T115052Z
DESCRIPTION:Schalkau
DTSTART;TZID=Europe/Amsterdam:20140524T103000
DTEND;TZID=Europe/Amsterdam:20140524T121500
LOCATION:Katzberger Straße 6\n96528 Schalkau\, 96528 Schalkau
SUMMARY:13/14 E-Jun. KOL: FC-BW Schalkau E - SG Steinach E2
END:VEVENT
BEGIN:VEVENT
UID:20260422T135052CEST-8322Uw7BTu@85.13.129.106
DTSTAMP:20260422T115052Z
DESCRIPTION:Schalkau
DTSTART;TZID=Europe/Amsterdam:20140531T103000
DTEND;TZID=Europe/Amsterdam:20140531T121500
LOCATION:Katzberger Straße 6\n96528 Schalkau\, 96528 Schalkau
SUMMARY:13/14 E-Jun. KOL: SG Steinach E2 - SG Römh./Mendhausen E
END:VEVENT
BEGIN:VEVENT
UID:20260422T135052CEST-8327tGMZli@85.13.129.106
DTSTAMP:20260422T115052Z
DESCRIPTION:Schalkau
DTSTART;TZID=Europe/Amsterdam:20140702T180000
DTEND;TZID=Europe/Amsterdam:20140702T194500
LOCATION:Katzberger Straße 6\n96528 Schalkau\, 96528 Schalkau
SUMMARY:13/14 E-Jun. KOL: SV EK Veilsdorf E - SG Steinach E2
END:VEVENT
BEGIN:VEVENT
UID:20260422T135052CEST-8331Nurzh0@85.13.129.106
DTSTAMP:20260422T115052Z
DESCRIPTION:Schalkau
DTSTART;TZID=Europe/Amsterdam:20140621T114500
DTEND;TZID=Europe/Amsterdam:20140621T133000
LOCATION:Katzberger Straße 6\n96528 Schalkau\, 96528 Schalkau
SUMMARY:13/14 E-Jun. KOL: SG Steinach E2 - SV Iso. Neuhaus Schierschnitz E
END:VEVENT
BEGIN:VEVENT
UID:20260422T135052CEST-8335pTI9ta@85.13.129.106
DTSTAMP:20260422T115052Z
DESCRIPTION:Schalkau
DTSTART;TZID=Europe/Amsterdam:20140629T103000
DTEND;TZID=Europe/Amsterdam:20140629T121500
LOCATION:Katzberger Straße 6\n96528 Schalkau\, 96528 Schalkau
SUMMARY:13/14 E-Jun. KOL: SG Waldau E - SG Steinach E2
END:VEVENT
END:VCALENDAR
