BEGIN:VCALENDAR
VERSION:2.0
PRODID:-//85.13.129.106//NONSGML kigkonsult.se iCalcreator 2.10.23//
BEGIN:VEVENT
UID:20260424T041622CEST-3657skNbC2@85.13.129.106
DTSTAMP:20260424T021622Z
DESCRIPTION:
DTSTART;TZID=Europe/Amsterdam:20130911T180000
DTEND;TZID=Europe/Amsterdam:20130911T194500
LOCATION:
SUMMARY:13/14 E-Jun. Pokal: Freilos - SV Iso. Neuhaus Schierschnitz E
END:VEVENT
BEGIN:VEVENT
UID:20260424T041622CEST-3662o2pLUl@85.13.129.106
DTSTAMP:20260424T021622Z
DESCRIPTION:
DTSTART;TZID=Europe/Amsterdam:20140509T180000
DTEND;TZID=Europe/Amsterdam:20140509T194500
LOCATION:
SUMMARY:13/14 E-Jun. Pokal: FSV 06 Eintr. Hildburghausen E2 - SV Iso. Neuha
 us Schierschnitz E
END:VEVENT
BEGIN:VEVENT
UID:20260424T041622CEST-3667vwE9rK@85.13.129.106
DTSTAMP:20260424T021622Z
DESCRIPTION:
DTSTART;TZID=Europe/Amsterdam:20140521T180000
DTEND;TZID=Europe/Amsterdam:20140521T194500
LOCATION:
SUMMARY:13/14 E-Jun. Pokal: TSV Germ. Sonneberg West E - SV Iso. Neuhaus Sc
 hierschnitz E
END:VEVENT
END:VCALENDAR
