BEGIN:VCALENDAR
VERSION:2.0
PRODID:-//85.13.129.106//NONSGML kigkonsult.se iCalcreator 2.10.23//
BEGIN:VEVENT
UID:20260423T111830CEST-5563VfJWB9@85.13.129.106
DTSTAMP:20260423T091830Z
DESCRIPTION:
DTSTART;TZID=Europe/Amsterdam:20130901T103000
DTEND;TZID=Europe/Amsterdam:20130901T121500
LOCATION:
SUMMARY:13/14 E-Jun. KL: SV EK Veilsdorf E2 - FSV 07 Lauscha E
END:VEVENT
BEGIN:VEVENT
UID:20260423T111830CEST-55689keK1j@85.13.129.106
DTSTAMP:20260423T091830Z
DESCRIPTION:
DTSTART;TZID=Europe/Amsterdam:20130907T103000
DTEND;TZID=Europe/Amsterdam:20130907T121500
LOCATION:
SUMMARY:13/14 E-Jun. KL: FSV 06 Rauenstein E - SV EK Veilsdorf E2
END:VEVENT
BEGIN:VEVENT
UID:20260423T111830CEST-55720PUVaV@85.13.129.106
DTSTAMP:20260423T091830Z
DESCRIPTION:
DTSTART;TZID=Europe/Amsterdam:20130920T170000
DTEND;TZID=Europe/Amsterdam:20130920T184500
LOCATION:
SUMMARY:13/14 E-Jun. KL: SV EK Veilsdorf E2 - TSV Germ. Sonneberg West E
END:VEVENT
BEGIN:VEVENT
UID:20260423T111830CEST-5577VRtGbL@85.13.129.106
DTSTAMP:20260423T091830Z
DESCRIPTION:
DTSTART;TZID=Europe/Amsterdam:20130928T110000
DTEND;TZID=Europe/Amsterdam:20130928T124500
LOCATION:
SUMMARY:13/14 E-Jun. KL: FSV Mengersgereuth-Hämmern E - SV EK Veilsdorf E2
END:VEVENT
BEGIN:VEVENT
UID:20260423T111830CEST-5582Ub95lp@85.13.129.106
DTSTAMP:20260423T091830Z
DESCRIPTION:
DTSTART;TZID=Europe/Amsterdam:20131002T173000
DTEND;TZID=Europe/Amsterdam:20131002T191500
LOCATION:
SUMMARY:13/14 E-Jun. KL: SV EK Veilsdorf E2 - FC-BW Schalkau E
END:VEVENT
BEGIN:VEVENT
UID:20260423T111830CEST-5586VBNO0v@85.13.129.106
DTSTAMP:20260423T091830Z
DESCRIPTION:
DTSTART;TZID=Europe/Amsterdam:20130925T173000
DTEND;TZID=Europe/Amsterdam:20130925T191500
LOCATION:
SUMMARY:13/14 E-Jun. KL: SV Falke Sachsenbrunn E - SV EK Veilsdorf E2
END:VEVENT
END:VCALENDAR
