BEGIN:VCALENDAR
VERSION:2.0
PRODID:-//85.13.129.106//NONSGML kigkonsult.se iCalcreator 2.10.23//
BEGIN:VEVENT
UID:20260424T094712CEST-6041zw7IM5@85.13.129.106
DTSTAMP:20260424T074712Z
DESCRIPTION:
DTSTART;TZID=Europe/Amsterdam:20130901T103000
DTEND;TZID=Europe/Amsterdam:20130901T121500
LOCATION:
SUMMARY:13/14 D-Jun. KL: SC 06 Oberlind D - SV 03 Eisfeld D
END:VEVENT
BEGIN:VEVENT
UID:20260424T094712CEST-60469wC6mx@85.13.129.106
DTSTAMP:20260424T074712Z
DESCRIPTION:
DTSTART;TZID=Europe/Amsterdam:20130915T103000
DTEND;TZID=Europe/Amsterdam:20130915T121500
LOCATION:
SUMMARY:13/14 D-Jun. KL: SV 03 Eisfeld D - SV Eintracht Oberland D
END:VEVENT
BEGIN:VEVENT
UID:20260424T094712CEST-6050eup8OG@85.13.129.106
DTSTAMP:20260424T074712Z
DESCRIPTION:Schalkau
DTSTART;TZID=Europe/Amsterdam:20130922T103000
DTEND;TZID=Europe/Amsterdam:20130922T121500
LOCATION:Katzberger Straße 6\n96528 Schalkau\, 96528 Schalkau
SUMMARY:13/14 D-Jun. KL: FC-BW Schalkau D - SV 03 Eisfeld D
END:VEVENT
BEGIN:VEVENT
UID:20260424T094712CEST-6054tgsXBt@85.13.129.106
DTSTAMP:20260424T074712Z
DESCRIPTION:Schalkau
DTSTART;TZID=Europe/Amsterdam:20130928T103000
DTEND;TZID=Europe/Amsterdam:20130928T121500
LOCATION:Katzberger Straße 6\n96528 Schalkau\, 96528 Schalkau
SUMMARY:13/14 D-Jun. KL: SV 03 Eisfeld D - SC 07 Schleusingen D
END:VEVENT
END:VCALENDAR
