BEGIN:VCALENDAR
VERSION:2.0
PRODID:-//85.13.129.106//NONSGML kigkonsult.se iCalcreator 2.10.23//
BEGIN:VEVENT
UID:20260423T233726CEST-2641Bbg0vl@85.13.129.106
DTSTAMP:20260423T213726Z
DESCRIPTION:
DTSTART;TZID=Europe/Berlin:20180818T103000
DTEND;TZID=Europe/Berlin:20180818T111500
LOCATION:
SUMMARY:18/19 E-Jun. Kreispokal: Erlauer SV Grün-Weiß E - SV Schleusegrund 
 Schönbrunn E
END:VEVENT
END:VCALENDAR
