BEGIN:VCALENDAR
VERSION:2.0
PRODID:-//85.13.129.106//NONSGML kigkonsult.se iCalcreator 2.10.23//
BEGIN:VEVENT
UID:20260423T230337CEST-1508FEkvsp@85.13.129.106
DTSTAMP:20260423T210337Z
DESCRIPTION:
DTSTART;TZID=Europe/Berlin:20160827T103000
DTEND;TZID=Europe/Berlin:20160827T121500
LOCATION:
SUMMARY:16/17 E-Jun. KL Mitte: SV Edelweiß Crock E - SG Lauscha/Neuhaus E
END:VEVENT
BEGIN:VEVENT
UID:20260423T230337CEST-1513tZa7xn@85.13.129.106
DTSTAMP:20260423T210337Z
DESCRIPTION:
DTSTART;TZID=Europe/Berlin:20160902T180000
DTEND;TZID=Europe/Berlin:20160902T194500
LOCATION:
SUMMARY:16/17 E-Jun. KL Mitte: SG Lauscha/Neuhaus E - SG Rauenstein/ Meng. 
 Hämm. E
END:VEVENT
BEGIN:VEVENT
UID:20260423T230337CEST-1517UbDgrs@85.13.129.106
DTSTAMP:20260423T210337Z
DESCRIPTION:
DTSTART;TZID=Europe/Berlin:20160911T103000
DTEND;TZID=Europe/Berlin:20160911T121500
LOCATION:
SUMMARY:16/17 E-Jun. KL Mitte: SV Falke Sachsenbrunn E - SG Lauscha/Neuhaus
  E
END:VEVENT
BEGIN:VEVENT
UID:20260423T230337CEST-1522T79NLg@85.13.129.106
DTSTAMP:20260423T210337Z
DESCRIPTION:
DTSTART;TZID=Europe/Berlin:20160917T103000
DTEND;TZID=Europe/Berlin:20160917T121500
LOCATION:
SUMMARY:16/17 E-Jun. KL Mitte: SG Lauscha/Neuhaus E - SG Schalkau/Effelder 
 E
END:VEVENT
BEGIN:VEVENT
UID:20260423T230337CEST-1526gzt2cp@85.13.129.106
DTSTAMP:20260423T210337Z
DESCRIPTION:
DTSTART;TZID=Europe/Berlin:20160923T173000
DTEND;TZID=Europe/Berlin:20160923T191500
LOCATION:
SUMMARY:16/17 E-Jun. KL Mitte: SV 03 Eisfeld E - SG Lauscha/Neuhaus E
END:VEVENT
END:VCALENDAR
