BEGIN:VCALENDAR
VERSION:2.0
PRODID:-//85.13.129.106//NONSGML kigkonsult.se iCalcreator 2.10.23//
BEGIN:VEVENT
UID:20260422T155655CEST-1243wAEKff@85.13.129.106
DTSTAMP:20260422T135655Z
DESCRIPTION:
DTSTART;TZID=Europe/Berlin:20151025T103000
DTEND;TZID=Europe/Berlin:20151025T121500
LOCATION:
SUMMARY:15/16 E-Jun. 1.KKl: TSV Germ. Hellingen E - SC 07 Schleusingen E2
END:VEVENT
BEGIN:VEVENT
UID:20260422T155655CEST-1248URCNmU@85.13.129.106
DTSTAMP:20260422T135655Z
DESCRIPTION:
DTSTART;TZID=Europe/Berlin:20151107T110000
DTEND;TZID=Europe/Berlin:20151107T124500
LOCATION:
SUMMARY:15/16 E-Jun. 1.KKl: SC 07 Schleusingen E2 - SG Mendhausen/Römhild E
END:VEVENT
BEGIN:VEVENT
UID:20260422T155655CEST-1253TLtmP2@85.13.129.106
DTSTAMP:20260422T135655Z
DESCRIPTION:
DTSTART;TZID=Europe/Berlin:20160409T103000
DTEND;TZID=Europe/Berlin:20160409T121500
LOCATION:
SUMMARY:15/16 E-Jun. 1.KKl: SC 07 Schleusingen E2 - SV Schleusegrund Schönb
 runn E
END:VEVENT
BEGIN:VEVENT
UID:20260422T155655CEST-1257bt88t7@85.13.129.106
DTSTAMP:20260422T135655Z
DESCRIPTION:
DTSTART;TZID=Europe/Berlin:20160502T173000
DTEND;TZID=Europe/Berlin:20160502T191500
LOCATION:
SUMMARY:15/16 E-Jun. 1.KKl: SV Iso. Neuhaus Schierschnitz E2 - SC 07 Schleu
 singen E2
END:VEVENT
BEGIN:VEVENT
UID:20260422T155655CEST-1261vfVZFx@85.13.129.106
DTSTAMP:20260422T135655Z
DESCRIPTION:
DTSTART;TZID=Europe/Berlin:20160424T100000
DTEND;TZID=Europe/Berlin:20160424T114500
LOCATION:
SUMMARY:15/16 E-Jun. 1.KKl: SC 07 Schleusingen E2 - SV 07 Häselrieth E
END:VEVENT
BEGIN:VEVENT
UID:20260422T155655CEST-1266hbtKXL@85.13.129.106
DTSTAMP:20260422T135655Z
DESCRIPTION:
DTSTART;TZID=Europe/Berlin:20160429T173000
DTEND;TZID=Europe/Berlin:20160429T191500
LOCATION:
SUMMARY:15/16 E-Jun. 1.KKl: SG Effelder/Schalkau E - SC 07 Schleusingen E2
END:VEVENT
BEGIN:VEVENT
UID:20260422T155655CEST-1270kV7JdS@85.13.129.106
DTSTAMP:20260422T135655Z
DESCRIPTION:
DTSTART;TZID=Europe/Berlin:20160520T173000
DTEND;TZID=Europe/Berlin:20160520T191500
LOCATION:
SUMMARY:15/16 E-Jun. 1.KKl: SC 07 Schleusingen E2 - SV Eintracht Oberland E
END:VEVENT
BEGIN:VEVENT
UID:20260422T155655CEST-1275D2xucN@85.13.129.106
DTSTAMP:20260422T135655Z
DESCRIPTION:
DTSTART;TZID=Europe/Berlin:20160527T173000
DTEND;TZID=Europe/Berlin:20160527T191500
LOCATION:
SUMMARY:15/16 E-Jun. 1.KKl: SV 03 Eisfeld E - SC 07 Schleusingen E2
END:VEVENT
BEGIN:VEVENT
UID:20260422T155655CEST-1279VsLb8z@85.13.129.106
DTSTAMP:20260422T135655Z
DESCRIPTION:
DTSTART;TZID=Europe/Berlin:20160604T103000
DTEND;TZID=Europe/Berlin:20160604T121500
LOCATION:
SUMMARY:15/16 E-Jun. 1.KKl: SC 07 Schleusingen E2 - SV Iso. Neuhaus Schiers
 chnitz E
END:VEVENT
END:VCALENDAR
