BEGIN:VCALENDAR
VERSION:2.0
PRODID:-//85.13.129.106//NONSGML kigkonsult.se iCalcreator 2.10.23//
BEGIN:VEVENT
UID:20260421T093032CEST-2327Ki1TSb@85.13.129.106
DTSTAMP:20260421T073032Z
DESCRIPTION:
DTSTART;TZID=Europe/Berlin:20160417T093000
DTEND;TZID=Europe/Berlin:20160417T111500
LOCATION:
SUMMARY:15/16 F2-Jun. KL Gruppe Mitte: SV Falke Sachsenbrunn F - SG Rauenst
 ein/ Meng. Hämm. F
END:VEVENT
BEGIN:VEVENT
UID:20260421T093032CEST-2331K0Si9E@85.13.129.106
DTSTAMP:20260421T073032Z
DESCRIPTION:
DTSTART;TZID=Europe/Berlin:20160417T110000
DTEND;TZID=Europe/Berlin:20160417T124500
LOCATION:
SUMMARY:15/16 F2-Jun. KL Gruppe Mitte: SG Rauenstein/ Meng. Hämm. F - SC 07
  Schleusingen F2
END:VEVENT
BEGIN:VEVENT
UID:20260421T093032CEST-2335v1znVv@85.13.129.106
DTSTAMP:20260421T073032Z
DESCRIPTION:
DTSTART;TZID=Europe/Berlin:20160501T100000
DTEND;TZID=Europe/Berlin:20160501T114500
LOCATION:
SUMMARY:15/16 F2-Jun. KL Gruppe Mitte: SG Rauenstein/ Meng. Hämm. F - SG Ef
 felder/Schalkau F2
END:VEVENT
BEGIN:VEVENT
UID:20260421T093032CEST-2340OGOvV1@85.13.129.106
DTSTAMP:20260421T073032Z
DESCRIPTION:
DTSTART;TZID=Europe/Berlin:20160501T120000
DTEND;TZID=Europe/Berlin:20160501T134500
LOCATION:
SUMMARY:15/16 F2-Jun. KL Gruppe Mitte: SV Nahetal Hinternah F - SG Rauenste
 in/ Meng. Hämm. F
END:VEVENT
BEGIN:VEVENT
UID:20260421T093032CEST-2344uTjH6b@85.13.129.106
DTSTAMP:20260421T073032Z
DESCRIPTION:
DTSTART;TZID=Europe/Berlin:20160522T100000
DTEND;TZID=Europe/Berlin:20160522T114500
LOCATION:
SUMMARY:15/16 F2-Jun. KL Gruppe Mitte: SV 03 Eisfeld F - SG Rauenstein/ Men
 g. Hämm. F
END:VEVENT
BEGIN:VEVENT
UID:20260421T093032CEST-2348al1ZTx@85.13.129.106
DTSTAMP:20260421T073032Z
DESCRIPTION:
DTSTART;TZID=Europe/Berlin:20160522T110000
DTEND;TZID=Europe/Berlin:20160522T124500
LOCATION:
SUMMARY:15/16 F2-Jun. KL Gruppe Mitte: SG Rauenstein/ Meng. Hämm. F - SV Fa
 lke Sachsenbrunn F
END:VEVENT
BEGIN:VEVENT
UID:20260421T093032CEST-2353hHJEF5@85.13.129.106
DTSTAMP:20260421T073032Z
DESCRIPTION:
DTSTART;TZID=Europe/Berlin:20160605T100000
DTEND;TZID=Europe/Berlin:20160605T114500
LOCATION:
SUMMARY:15/16 F2-Jun. KL Gruppe Mitte: SC 07 Schleusingen F2 - SG Rauenstei
 n/ Meng. Hämm. F
END:VEVENT
BEGIN:VEVENT
UID:20260421T093032CEST-2357avVMrJ@85.13.129.106
DTSTAMP:20260421T073032Z
DESCRIPTION:
DTSTART;TZID=Europe/Berlin:20160605T120000
DTEND;TZID=Europe/Berlin:20160605T134500
LOCATION:
SUMMARY:15/16 F2-Jun. KL Gruppe Mitte: SG Effelder/Schalkau F2 - SG Rauenst
 ein/ Meng. Hämm. F
END:VEVENT
BEGIN:VEVENT
UID:20260421T093032CEST-2361KO4S29@85.13.129.106
DTSTAMP:20260421T073032Z
DESCRIPTION:
DTSTART;TZID=Europe/Berlin:20160612T093000
DTEND;TZID=Europe/Berlin:20160612T111500
LOCATION:
SUMMARY:15/16 F2-Jun. KL Gruppe Mitte: SG Rauenstein/ Meng. Hämm. F - SV Na
 hetal Hinternah F
END:VEVENT
BEGIN:VEVENT
UID:20260421T093032CEST-23657zDCUP@85.13.129.106
DTSTAMP:20260421T073032Z
DESCRIPTION:
DTSTART;TZID=Europe/Berlin:20160612T113000
DTEND;TZID=Europe/Berlin:20160612T131500
LOCATION:
SUMMARY:15/16 F2-Jun. KL Gruppe Mitte: SG Rauenstein/ Meng. Hämm. F - SV 03
  Eisfeld F
END:VEVENT
END:VCALENDAR
