BEGIN:VCALENDAR
VERSION:2.0
PRODID:-//85.13.129.106//NONSGML kigkonsult.se iCalcreator 2.10.23//
BEGIN:VEVENT
UID:20260422T200009CEST-06606DdOLm@85.13.129.106
DTSTAMP:20260422T180009Z
DESCRIPTION:
DTSTART;TZID=Europe/Berlin:20160228T141300
DTEND;TZID=Europe/Berlin:20160228T155800
LOCATION:
SUMMARY:15/16 F1-Junioren HKM ER: SC 06 Oberlind F - 1. FC Sonneberg 04 F
END:VEVENT
BEGIN:VEVENT
UID:20260422T200009CEST-0664ha8Hf9@85.13.129.106
DTSTAMP:20260422T180009Z
DESCRIPTION:
DTSTART;TZID=Europe/Berlin:20160228T143900
DTEND;TZID=Europe/Berlin:20160228T162400
LOCATION:
SUMMARY:15/16 F1-Junioren HKM ER: SC 06 Oberlind F - SG Lauscha/Neuhaus F
END:VEVENT
BEGIN:VEVENT
UID:20260422T200009CEST-0668BbRnOO@85.13.129.106
DTSTAMP:20260422T180009Z
DESCRIPTION:
DTSTART;TZID=Europe/Berlin:20160228T153100
DTEND;TZID=Europe/Berlin:20160228T171600
LOCATION:
SUMMARY:15/16 F1-Junioren HKM ER: SG Effelder/Schalkau F - SC 06 Oberlind F
END:VEVENT
BEGIN:VEVENT
UID:20260422T200009CEST-0673pXl0Nb@85.13.129.106
DTSTAMP:20260422T180009Z
DESCRIPTION:
DTSTART;TZID=Europe/Berlin:20160228T162300
DTEND;TZID=Europe/Berlin:20160228T180800
LOCATION:
SUMMARY:15/16 F1-Junioren HKM ER: SC 06 Oberlind F - SC 07 Schleusingen F
END:VEVENT
BEGIN:VEVENT
UID:20260422T200009CEST-0677OovU5v@85.13.129.106
DTSTAMP:20260422T180009Z
DESCRIPTION:
DTSTART;TZID=Europe/Berlin:20160228T170200
DTEND;TZID=Europe/Berlin:20160228T184700
LOCATION:
SUMMARY:15/16 F1-Junioren HKM ER: SV Empor 90 Eishausen F - SC 06 Oberlind 
 F
END:VEVENT
END:VCALENDAR
