BEGIN:VCALENDAR
VERSION:2.0
PRODID:-//85.13.129.106//NONSGML kigkonsult.se iCalcreator 2.10.23//
BEGIN:VEVENT
UID:20260422T113021CEST-4432fvWFC6@85.13.129.106
DTSTAMP:20260422T093021Z
DESCRIPTION:
DTSTART;TZID=Europe/Berlin:20141002T173000
DTEND;TZID=Europe/Berlin:20141002T191500
LOCATION:
SUMMARY:14/15 D1-Jun. TFV-Pokal: TSV 1928 Kromsdorf D - SG FSV BW 90 Stadti
 lm D
END:VEVENT
END:VCALENDAR
