BEGIN:VCALENDAR
VERSION:2.0
PRODID:-//85.13.129.106//NONSGML kigkonsult.se iCalcreator 2.10.23//
BEGIN:VEVENT
UID:20260423T183917CEST-5376rUanka@85.13.129.106
DTSTAMP:20260423T163917Z
DESCRIPTION:
DTSTART;TZID=Europe/Berlin:20160911T093000
DTEND;TZID=Europe/Berlin:20160911T111500
LOCATION:
SUMMARY:16/17 F-Jun. KL Mitte: FSV 06 Eintr. Hildburghausen F - FSV 06 Eint
 r. Hildburghausen F2
END:VEVENT
BEGIN:VEVENT
UID:20260423T183917CEST-5381uHxZ9c@85.13.129.106
DTSTAMP:20260423T163917Z
DESCRIPTION:
DTSTART;TZID=Europe/Berlin:20160911T113000
DTEND;TZID=Europe/Berlin:20160911T131500
LOCATION:
SUMMARY:16/17 F-Jun. KL Mitte: FSV 06 Eintr. Hildburghausen F - SV Falke Sa
 chsenbrunn F
END:VEVENT
BEGIN:VEVENT
UID:20260423T183917CEST-5385sgvZKP@85.13.129.106
DTSTAMP:20260423T163917Z
DESCRIPTION:
DTSTART;TZID=Europe/Berlin:20160925T100000
DTEND;TZID=Europe/Berlin:20160925T114500
LOCATION:
SUMMARY:16/17 F-Jun. KL Mitte: SG SV 07 Häselrieth/Reurieth F - FSV 06 Eint
 r. Hildburghausen F
END:VEVENT
BEGIN:VEVENT
UID:20260423T183917CEST-53909E24bS@85.13.129.106
DTSTAMP:20260423T163917Z
DESCRIPTION:
DTSTART;TZID=Europe/Berlin:20160925T110000
DTEND;TZID=Europe/Berlin:20160925T124500
LOCATION:
SUMMARY:16/17 F-Jun. KL Mitte: SG Effelder/Schalkau F2 - FSV 06 Eintr. Hild
 burghausen F
END:VEVENT
BEGIN:VEVENT
UID:20260423T183917CEST-5394KSxDFP@85.13.129.106
DTSTAMP:20260423T163917Z
DESCRIPTION:
DTSTART;TZID=Europe/Berlin:20161003T100000
DTEND;TZID=Europe/Berlin:20161003T114500
LOCATION:
SUMMARY:16/17 F-Jun. KL Mitte: FSV 06 Eintr. Hildburghausen F - SG Effelder
 /Schalkau F
END:VEVENT
BEGIN:VEVENT
UID:20260423T183917CEST-5399mipb4K@85.13.129.106
DTSTAMP:20260423T163917Z
DESCRIPTION:
DTSTART;TZID=Europe/Berlin:20161003T120000
DTEND;TZID=Europe/Berlin:20161003T134500
LOCATION:
SUMMARY:16/17 F-Jun. KL Mitte: FSV 06 Eintr. Hildburghausen F2 - FSV 06 Ein
 tr. Hildburghausen F
END:VEVENT
BEGIN:VEVENT
UID:20260423T183917CEST-54033EX0KF@85.13.129.106
DTSTAMP:20260423T163917Z
DESCRIPTION:
DTSTART;TZID=Europe/Berlin:20161106T100000
DTEND;TZID=Europe/Berlin:20161106T114500
LOCATION:
SUMMARY:16/17 F-Jun. KL Mitte: SV Falke Sachsenbrunn F - FSV 06 Eintr. Hild
 burghausen F
END:VEVENT
BEGIN:VEVENT
UID:20260423T183917CEST-5407GVBgSz@85.13.129.106
DTSTAMP:20260423T163917Z
DESCRIPTION:
DTSTART;TZID=Europe/Berlin:20161106T110000
DTEND;TZID=Europe/Berlin:20161106T124500
LOCATION:
SUMMARY:16/17 F-Jun. KL Mitte: FSV 06 Eintr. Hildburghausen F - SG SV 07 Hä
 selrieth/Reurieth F
END:VEVENT
BEGIN:VEVENT
UID:20260423T183917CEST-5412oUH2ZV@85.13.129.106
DTSTAMP:20260423T163917Z
DESCRIPTION:
DTSTART;TZID=Europe/Berlin:20161030T100000
DTEND;TZID=Europe/Berlin:20161030T114500
LOCATION:
SUMMARY:16/17 F-Jun. KL Mitte: FSV 06 Eintr. Hildburghausen F - SG Effelder
 /Schalkau F2
END:VEVENT
BEGIN:VEVENT
UID:20260423T183917CEST-5416C180Bs@85.13.129.106
DTSTAMP:20260423T163917Z
DESCRIPTION:
DTSTART;TZID=Europe/Berlin:20161030T120000
DTEND;TZID=Europe/Berlin:20161030T134500
LOCATION:
SUMMARY:16/17 F-Jun. KL Mitte: SG Effelder/Schalkau F - FSV 06 Eintr. Hildb
 urghausen F
END:VEVENT
END:VCALENDAR
