BEGIN:VCALENDAR
VERSION:2.0
PRODID:-//85.13.129.106//NONSGML kigkonsult.se iCalcreator 2.10.23//
BEGIN:VEVENT
UID:20260422T133556CEST-3008IDVzE8@85.13.129.106
DTSTAMP:20260422T113556Z
DESCRIPTION:
DTSTART;TZID=Europe/Berlin:20160124T090000
DTEND;TZID=Europe/Berlin:20160124T104500
LOCATION:
SUMMARY:15/16 F2-Junioren HKM VR: SG Effelder/Schalkau F2 - SG Lauscha/Neuh
 aus F
END:VEVENT
BEGIN:VEVENT
UID:20260422T133556CEST-3013Uv8wA5@85.13.129.106
DTSTAMP:20260422T113556Z
DESCRIPTION:
DTSTART;TZID=Europe/Berlin:20160124T092200
DTEND;TZID=Europe/Berlin:20160124T110700
LOCATION:
SUMMARY:15/16 F2-Junioren HKM VR: 1. FC Sonneberg 04 F2 - SG Effelder/Schal
 kau F2
END:VEVENT
BEGIN:VEVENT
UID:20260422T133556CEST-3017nHNuTl@85.13.129.106
DTSTAMP:20260422T113556Z
DESCRIPTION:
DTSTART;TZID=Europe/Berlin:20160124T095500
DTEND;TZID=Europe/Berlin:20160124T114000
LOCATION:
SUMMARY:15/16 F2-Junioren HKM VR: SG Effelder/Schalkau F2 - SV Iso. Neuhaus
  Schierschnitz F
END:VEVENT
BEGIN:VEVENT
UID:20260422T133556CEST-3022lv9U9k@85.13.129.106
DTSTAMP:20260422T113556Z
DESCRIPTION:
DTSTART;TZID=Europe/Berlin:20160124T101700
DTEND;TZID=Europe/Berlin:20160124T120200
LOCATION:
SUMMARY:15/16 F2-Junioren HKM VR: SC 06 Oberlind F - SG Effelder/Schalkau F
 2
END:VEVENT
END:VCALENDAR
