BEGIN:VCALENDAR
VERSION:2.0
PRODID:-//85.13.129.106//NONSGML kigkonsult.se iCalcreator 2.10.23//
BEGIN:VEVENT
UID:20260421T112737CEST-1192Ir00OP@85.13.129.106
DTSTAMP:20260421T092737Z
DESCRIPTION:
DTSTART;TZID=Europe/Berlin:20150906T103000
DTEND;TZID=Europe/Berlin:20150906T121500
LOCATION:
SUMMARY:15/16 C-Jun. VL: SV Schott Jena C - FC Rot-Weiß Erfurt C2
END:VEVENT
BEGIN:VEVENT
UID:20260421T112737CEST-1197TJVDRn@85.13.129.106
DTSTAMP:20260421T092737Z
DESCRIPTION:
DTSTART;TZID=Europe/Berlin:20150917T173000
DTEND;TZID=Europe/Berlin:20150917T191500
LOCATION:
SUMMARY:15/16 C-Jun. VL: FC Rot-Weiß Erfurt C2 - FC Carl Zeiss Jena C2
END:VEVENT
BEGIN:VEVENT
UID:20260421T112737CEST-1201izi40R@85.13.129.106
DTSTAMP:20260421T092737Z
DESCRIPTION:
DTSTART;TZID=Europe/Berlin:20150920T103000
DTEND;TZID=Europe/Berlin:20150920T121500
LOCATION:
SUMMARY:15/16 C-Jun. VL: SC 1903 Weimar C - FC Rot-Weiß Erfurt C2
END:VEVENT
BEGIN:VEVENT
UID:20260421T112737CEST-1206WpJ6lv@85.13.129.106
DTSTAMP:20260421T092737Z
DESCRIPTION:
DTSTART;TZID=Europe/Berlin:20151004T110000
DTEND;TZID=Europe/Berlin:20151004T124500
LOCATION:
SUMMARY:15/16 C-Jun. VL: FC Rot-Weiß Erfurt C2 - FSV Grün-Weiß Stadtroda C
END:VEVENT
BEGIN:VEVENT
UID:20260421T112737CEST-1210jemPhx@85.13.129.106
DTSTAMP:20260421T092737Z
DESCRIPTION:
DTSTART;TZID=Europe/Berlin:20151025T103000
DTEND;TZID=Europe/Berlin:20151025T121500
LOCATION:
SUMMARY:15/16 C-Jun. VL: FC Saalfeld C - FC Rot-Weiß Erfurt C2
END:VEVENT
BEGIN:VEVENT
UID:20260421T112737CEST-1215c8Tih6@85.13.129.106
DTSTAMP:20260421T092737Z
DESCRIPTION:
DTSTART;TZID=Europe/Berlin:20151101T110000
DTEND;TZID=Europe/Berlin:20151101T124500
LOCATION:
SUMMARY:15/16 C-Jun. VL: FC Rot-Weiß Erfurt C2 - JFC Gera C
END:VEVENT
BEGIN:VEVENT
UID:20260421T112737CEST-1219Zk4NUT@85.13.129.106
DTSTAMP:20260421T092737Z
DESCRIPTION:
DTSTART;TZID=Europe/Berlin:20151108T103000
DTEND;TZID=Europe/Berlin:20151108T121500
LOCATION:
SUMMARY:15/16 C-Jun. VL: FC Eisenach C - FC Rot-Weiß Erfurt C2
END:VEVENT
BEGIN:VEVENT
UID:20260421T112737CEST-1223AxMLUI@85.13.129.106
DTSTAMP:20260421T092737Z
DESCRIPTION:
DTSTART;TZID=Europe/Berlin:20151121T103000
DTEND;TZID=Europe/Berlin:20151121T121500
LOCATION:
SUMMARY:15/16 C-Jun. VL: FC Rot-Weiß Erfurt C2 - SG Schalkau/Sbg.-W. C
END:VEVENT
BEGIN:VEVENT
UID:20260421T112737CEST-1228Fz5Uuk@85.13.129.106
DTSTAMP:20260421T092737Z
DESCRIPTION:
DTSTART;TZID=Europe/Berlin:20151129T110000
DTEND;TZID=Europe/Berlin:20151129T124500
LOCATION:
SUMMARY:15/16 C-Jun. VL: FC Rot-Weiß Erfurt C2 - SV BW Büßleben C
END:VEVENT
BEGIN:VEVENT
UID:20260421T112737CEST-1232Sv9gnb@85.13.129.106
DTSTAMP:20260421T092737Z
DESCRIPTION:
DTSTART;TZID=Europe/Berlin:20151206T110000
DTEND;TZID=Europe/Berlin:20151206T124500
LOCATION:
SUMMARY:15/16 C-Jun. VL: 1. FC Greiz C - FC Rot-Weiß Erfurt C2
END:VEVENT
BEGIN:VEVENT
UID:20260421T112737CEST-1236s16rFk@85.13.129.106
DTSTAMP:20260421T092737Z
DESCRIPTION:
DTSTART;TZID=Europe/Berlin:20151213T110000
DTEND;TZID=Europe/Berlin:20151213T124500
LOCATION:
SUMMARY:15/16 C-Jun. VL: FC Rot-Weiß Erfurt C2 - SV BW Neustadt/Orla C
END:VEVENT
BEGIN:VEVENT
UID:20260421T112737CEST-1241kcuvGv@85.13.129.106
DTSTAMP:20260421T092737Z
DESCRIPTION:
DTSTART;TZID=Europe/Berlin:20160228T110000
DTEND;TZID=Europe/Berlin:20160228T124500
LOCATION:
SUMMARY:15/16 C-Jun. VL: FC Rot-Weiß Erfurt C2 - SV Schott Jena C
END:VEVENT
BEGIN:VEVENT
UID:20260421T112737CEST-12454AxXkw@85.13.129.106
DTSTAMP:20260421T092737Z
DESCRIPTION:
DTSTART;TZID=Europe/Berlin:20160305T110000
DTEND;TZID=Europe/Berlin:20160305T124500
LOCATION:
SUMMARY:15/16 C-Jun. VL: FC Carl Zeiss Jena C2 - FC Rot-Weiß Erfurt C2
END:VEVENT
BEGIN:VEVENT
UID:20260421T112737CEST-1250VuXmiE@85.13.129.106
DTSTAMP:20260421T092737Z
DESCRIPTION:
DTSTART;TZID=Europe/Berlin:20160313T110000
DTEND;TZID=Europe/Berlin:20160313T124500
LOCATION:
SUMMARY:15/16 C-Jun. VL: FC Rot-Weiß Erfurt C2 - SC 1903 Weimar C
END:VEVENT
BEGIN:VEVENT
UID:20260421T112737CEST-1254EVIzUZ@85.13.129.106
DTSTAMP:20260421T092737Z
DESCRIPTION:
DTSTART;TZID=Europe/Berlin:20160417T103000
DTEND;TZID=Europe/Berlin:20160417T121500
LOCATION:
SUMMARY:15/16 C-Jun. VL: FSV Grün-Weiß Stadtroda C - FC Rot-Weiß Erfurt C2
END:VEVENT
BEGIN:VEVENT
UID:20260421T112737CEST-1258uoNUUv@85.13.129.106
DTSTAMP:20260421T092737Z
DESCRIPTION:
DTSTART;TZID=Europe/Berlin:20160424T110000
DTEND;TZID=Europe/Berlin:20160424T124500
LOCATION:
SUMMARY:15/16 C-Jun. VL: FC Rot-Weiß Erfurt C2 - FC Saalfeld C
END:VEVENT
BEGIN:VEVENT
UID:20260421T112737CEST-1263u8N7XK@85.13.129.106
DTSTAMP:20260421T092737Z
DESCRIPTION:
DTSTART;TZID=Europe/Berlin:20160501T103000
DTEND;TZID=Europe/Berlin:20160501T121500
LOCATION:
SUMMARY:15/16 C-Jun. VL: JFC Gera C - FC Rot-Weiß Erfurt C2
END:VEVENT
BEGIN:VEVENT
UID:20260421T112737CEST-1267PZR13G@85.13.129.106
DTSTAMP:20260421T092737Z
DESCRIPTION:
DTSTART;TZID=Europe/Berlin:20160508T110000
DTEND;TZID=Europe/Berlin:20160508T124500
LOCATION:
SUMMARY:15/16 C-Jun. VL: FC Rot-Weiß Erfurt C2 - FC Eisenach C
END:VEVENT
BEGIN:VEVENT
UID:20260421T112737CEST-1271v0ONVp@85.13.129.106
DTSTAMP:20260421T092737Z
DESCRIPTION:Schalkau
DTSTART;TZID=Europe/Berlin:20160513T180000
DTEND;TZID=Europe/Berlin:20160513T194500
LOCATION:Katzberger Straße 6\n96528 Schalkau\, 96528 Schalkau
SUMMARY:15/16 C-Jun. VL: SG Schalkau/Sbg.-W. C - FC Rot-Weiß Erfurt C2
END:VEVENT
BEGIN:VEVENT
UID:20260421T112737CEST-1276jKNVOP@85.13.129.106
DTSTAMP:20260421T092737Z
DESCRIPTION:Schalkau
DTSTART;TZID=Europe/Berlin:20160522T123000
DTEND;TZID=Europe/Berlin:20160522T141500
LOCATION:Katzberger Straße 6\n96528 Schalkau\, 96528 Schalkau
SUMMARY:15/16 C-Jun. VL: SV BW Büßleben C - FC Rot-Weiß Erfurt C2
END:VEVENT
BEGIN:VEVENT
UID:20260421T112737CEST-1280TaJweC@85.13.129.106
DTSTAMP:20260421T092737Z
DESCRIPTION:Schalkau
DTSTART;TZID=Europe/Berlin:20160529T110000
DTEND;TZID=Europe/Berlin:20160529T124500
LOCATION:Katzberger Straße 6\n96528 Schalkau\, 96528 Schalkau
SUMMARY:15/16 C-Jun. VL: FC Rot-Weiß Erfurt C2 - 1. FC Greiz C
END:VEVENT
BEGIN:VEVENT
UID:20260421T112737CEST-1285fWx3ED@85.13.129.106
DTSTAMP:20260421T092737Z
DESCRIPTION:Schalkau
DTSTART;TZID=Europe/Berlin:20160605T103000
DTEND;TZID=Europe/Berlin:20160605T121500
LOCATION:Katzberger Straße 6\n96528 Schalkau\, 96528 Schalkau
SUMMARY:15/16 C-Jun. VL: SV BW Neustadt/Orla C - FC Rot-Weiß Erfurt C2
END:VEVENT
END:VCALENDAR
