BEGIN:VCALENDAR
VERSION:2.0
PRODID:-//85.13.129.106//NONSGML kigkonsult.se iCalcreator 2.10.23//
BEGIN:VEVENT
UID:20260421T073327CEST-7044UStvho@85.13.129.106
DTSTAMP:20260421T053327Z
DESCRIPTION:
DTSTART;TZID=Europe/Berlin:20150802T150000
DTEND;TZID=Europe/Berlin:20150802T164500
LOCATION:
SUMMARY:15/16 Herren 2.KK-O: FC Heinersdorf - SV Rottmar/Gefell
END:VEVENT
BEGIN:VEVENT
UID:20260421T073327CEST-7049VzEvnp@85.13.129.106
DTSTAMP:20260421T053327Z
DESCRIPTION:Schalkau
DTSTART;TZID=Europe/Berlin:20150809T130000
DTEND;TZID=Europe/Berlin:20150809T144500
LOCATION:Katzberger Straße 6\n96528 Schalkau\, 96528 Schalkau
SUMMARY:15/16 Herren 2.KK-O: FC-BW Schalkau II - FC Heinersdorf
END:VEVENT
BEGIN:VEVENT
UID:20260421T073327CEST-7054aCdIIx@85.13.129.106
DTSTAMP:20260421T053327Z
DESCRIPTION:Schalkau
DTSTART;TZID=Europe/Berlin:20150822T170000
DTEND;TZID=Europe/Berlin:20150822T184500
LOCATION:Katzberger Straße 6\n96528 Schalkau\, 96528 Schalkau
SUMMARY:15/16 Herren 2.KK-O: SG Lauscha/Neuhaus II - FC Heinersdorf
END:VEVENT
BEGIN:VEVENT
UID:20260421T073327CEST-7059EfuuvZ@85.13.129.106
DTSTAMP:20260421T053327Z
DESCRIPTION:Schalkau
DTSTART;TZID=Europe/Berlin:20150829T160000
DTEND;TZID=Europe/Berlin:20150829T174500
LOCATION:Katzberger Straße 6\n96528 Schalkau\, 96528 Schalkau
SUMMARY:15/16 Herren 2.KK-O: SV Iso. Neuhaus Schierschnitz II - FC Heinersd
 orf
END:VEVENT
BEGIN:VEVENT
UID:20260421T073327CEST-7064wEh25z@85.13.129.106
DTSTAMP:20260421T053327Z
DESCRIPTION:Schalkau
DTSTART;TZID=Europe/Berlin:20150906T150000
DTEND;TZID=Europe/Berlin:20150906T164500
LOCATION:Katzberger Straße 6\n96528 Schalkau\, 96528 Schalkau
SUMMARY:15/16 Herren 2.KK-O: FC Heinersdorf - SC 06 Oberlind II
END:VEVENT
BEGIN:VEVENT
UID:20260421T073327CEST-7069c5z1M4@85.13.129.106
DTSTAMP:20260421T053327Z
DESCRIPTION:Schalkau
DTSTART;TZID=Europe/Berlin:20150913T150000
DTEND;TZID=Europe/Berlin:20150913T164500
LOCATION:Katzberger Straße 6\n96528 Schalkau\, 96528 Schalkau
SUMMARY:15/16 Herren 2.KK-O: SV Rennsteig Ernstthal - FC Heinersdorf
END:VEVENT
BEGIN:VEVENT
UID:20260421T073327CEST-7074P9U1t4@85.13.129.106
DTSTAMP:20260421T053327Z
DESCRIPTION:Schalkau
DTSTART;TZID=Europe/Berlin:20150920T150000
DTEND;TZID=Europe/Berlin:20150920T164500
LOCATION:Katzberger Straße 6\n96528 Schalkau\, 96528 Schalkau
SUMMARY:15/16 Herren 2.KK-O: FC Heinersdorf - SG Haselbach/ Hasenthal
END:VEVENT
BEGIN:VEVENT
UID:20260421T073327CEST-7078S9uMwe@85.13.129.106
DTSTAMP:20260421T053327Z
DESCRIPTION:Schalkau
DTSTART;TZID=Europe/Berlin:20150927T150000
DTEND;TZID=Europe/Berlin:20150927T164500
LOCATION:Katzberger Straße 6\n96528 Schalkau\, 96528 Schalkau
SUMMARY:15/16 Herren 2.KK-O: SG SV 08 Steinach III - FC Heinersdorf
END:VEVENT
BEGIN:VEVENT
UID:20260421T073327CEST-7083kp0USW@85.13.129.106
DTSTAMP:20260421T053327Z
DESCRIPTION:Schalkau
DTSTART;TZID=Europe/Berlin:20151004T150000
DTEND;TZID=Europe/Berlin:20151004T164500
LOCATION:Katzberger Straße 6\n96528 Schalkau\, 96528 Schalkau
SUMMARY:15/16 Herren 2.KK-O: FC Heinersdorf - TSV 1923 Neuenbau
END:VEVENT
BEGIN:VEVENT
UID:20260421T073327CEST-7088HzKFVx@85.13.129.106
DTSTAMP:20260421T053327Z
DESCRIPTION:Schalkau
DTSTART;TZID=Europe/Berlin:20151010T130000
DTEND;TZID=Europe/Berlin:20151010T144500
LOCATION:Katzberger Straße 6\n96528 Schalkau\, 96528 Schalkau
SUMMARY:15/16 Herren 2.KK-O: SG 1951 Sonneberg II - FC Heinersdorf
END:VEVENT
BEGIN:VEVENT
UID:20260421T073327CEST-7093XGEemc@85.13.129.106
DTSTAMP:20260421T053327Z
DESCRIPTION:Schalkau
DTSTART;TZID=Europe/Berlin:20151018T150000
DTEND;TZID=Europe/Berlin:20151018T164500
LOCATION:Katzberger Straße 6\n96528 Schalkau\, 96528 Schalkau
SUMMARY:15/16 Herren 2.KK-O: FC Heinersdorf - 1. FC Sonneberg 04 II
END:VEVENT
BEGIN:VEVENT
UID:20260421T073327CEST-7097KVBi7f@85.13.129.106
DTSTAMP:20260421T053327Z
DESCRIPTION:Schalkau
DTSTART;TZID=Europe/Berlin:20151114T140000
DTEND;TZID=Europe/Berlin:20151114T154500
LOCATION:Katzberger Straße 6\n96528 Schalkau\, 96528 Schalkau
SUMMARY:15/16 Herren 2.KK-O: 1. FC Köppelsdorf II - FC Heinersdorf
END:VEVENT
BEGIN:VEVENT
UID:20260421T073327CEST-7101jVAunz@85.13.129.106
DTSTAMP:20260421T053327Z
DESCRIPTION:Schalkau
DTSTART;TZID=Europe/Berlin:20151101T140000
DTEND;TZID=Europe/Berlin:20151101T154500
LOCATION:Katzberger Straße 6\n96528 Schalkau\, 96528 Schalkau
SUMMARY:15/16 Herren 2.KK-O: SV Rottmar/Gefell - FC Heinersdorf
END:VEVENT
BEGIN:VEVENT
UID:20260421T073327CEST-7106rRwp8u@85.13.129.106
DTSTAMP:20260421T053327Z
DESCRIPTION:Schalkau
DTSTART;TZID=Europe/Berlin:20151108T140000
DTEND;TZID=Europe/Berlin:20151108T154500
LOCATION:Katzberger Straße 6\n96528 Schalkau\, 96528 Schalkau
SUMMARY:15/16 Herren 2.KK-O: FC Heinersdorf - FC-BW Schalkau II
END:VEVENT
BEGIN:VEVENT
UID:20260421T073327CEST-7110RngtRN@85.13.129.106
DTSTAMP:20260421T053327Z
DESCRIPTION:Schalkau
DTSTART;TZID=Europe/Berlin:20160320T150000
DTEND;TZID=Europe/Berlin:20160320T164500
LOCATION:Katzberger Straße 6\n96528 Schalkau\, 96528 Schalkau
SUMMARY:15/16 Herren 2.KK-O: FC Heinersdorf - SG Lauscha/Neuhaus II
END:VEVENT
BEGIN:VEVENT
UID:20260421T073327CEST-7114zG3XuW@85.13.129.106
DTSTAMP:20260421T053327Z
DESCRIPTION:Schalkau
DTSTART;TZID=Europe/Berlin:20160403T123000
DTEND;TZID=Europe/Berlin:20160403T141500
LOCATION:Katzberger Straße 6\n96528 Schalkau\, 96528 Schalkau
SUMMARY:15/16 Herren 2.KK-O: FC Heinersdorf - SV Iso. Neuhaus Schierschnitz
  II
END:VEVENT
BEGIN:VEVENT
UID:20260421T073327CEST-7121JMb5H8@85.13.129.106
DTSTAMP:20260421T053327Z
DESCRIPTION:Schalkau
DTSTART;TZID=Europe/Berlin:20160514T150000
DTEND;TZID=Europe/Berlin:20160514T164500
LOCATION:Katzberger Straße 6\n96528 Schalkau\, 96528 Schalkau
SUMMARY:15/16 Herren 2.KK-O: SC 06 Oberlind II - FC Heinersdorf
END:VEVENT
BEGIN:VEVENT
UID:20260421T073327CEST-7129M3iMx7@85.13.129.106
DTSTAMP:20260421T053327Z
DESCRIPTION:Schalkau
DTSTART;TZID=Europe/Berlin:20160417T150000
DTEND;TZID=Europe/Berlin:20160417T164500
LOCATION:Katzberger Straße 6\n96528 Schalkau\, 96528 Schalkau
SUMMARY:15/16 Herren 2.KK-O: FC Heinersdorf - SV Rennsteig Ernstthal
END:VEVENT
BEGIN:VEVENT
UID:20260421T073327CEST-7133u1IHKB@85.13.129.106
DTSTAMP:20260421T053327Z
DESCRIPTION:Schalkau
DTSTART;TZID=Europe/Berlin:20160424T150000
DTEND;TZID=Europe/Berlin:20160424T164500
LOCATION:Katzberger Straße 6\n96528 Schalkau\, 96528 Schalkau
SUMMARY:15/16 Herren 2.KK-O: SG Haselbach/ Hasenthal - FC Heinersdorf
END:VEVENT
BEGIN:VEVENT
UID:20260421T073327CEST-7138AOXiVr@85.13.129.106
DTSTAMP:20260421T053327Z
DESCRIPTION:Schalkau
DTSTART;TZID=Europe/Berlin:20160501T150000
DTEND;TZID=Europe/Berlin:20160501T164500
LOCATION:Katzberger Straße 6\n96528 Schalkau\, 96528 Schalkau
SUMMARY:15/16 Herren 2.KK-O: FC Heinersdorf - SG SV 08 Steinach III
END:VEVENT
BEGIN:VEVENT
UID:20260421T073327CEST-7142Uvfh1h@85.13.129.106
DTSTAMP:20260421T053327Z
DESCRIPTION:Schalkau
DTSTART;TZID=Europe/Berlin:20160508T150000
DTEND;TZID=Europe/Berlin:20160508T164500
LOCATION:Katzberger Straße 6\n96528 Schalkau\, 96528 Schalkau
SUMMARY:15/16 Herren 2.KK-O: TSV 1923 Neuenbau - FC Heinersdorf
END:VEVENT
BEGIN:VEVENT
UID:20260421T073327CEST-7146ANLUXD@85.13.129.106
DTSTAMP:20260421T053327Z
DESCRIPTION:Schalkau
DTSTART;TZID=Europe/Berlin:20160522T150000
DTEND;TZID=Europe/Berlin:20160522T164500
LOCATION:Katzberger Straße 6\n96528 Schalkau\, 96528 Schalkau
SUMMARY:15/16 Herren 2.KK-O: FC Heinersdorf - SG 1951 Sonneberg II
END:VEVENT
BEGIN:VEVENT
UID:20260421T073327CEST-7151Tu4BGU@85.13.129.106
DTSTAMP:20260421T053327Z
DESCRIPTION:Schalkau
DTSTART;TZID=Europe/Berlin:20160528T160000
DTEND;TZID=Europe/Berlin:20160528T174500
LOCATION:Katzberger Straße 6\n96528 Schalkau\, 96528 Schalkau
SUMMARY:15/16 Herren 2.KK-O: 1. FC Sonneberg 04 II - FC Heinersdorf
END:VEVENT
BEGIN:VEVENT
UID:20260421T073327CEST-7155CpLOGV@85.13.129.106
DTSTAMP:20260421T053327Z
DESCRIPTION:Schalkau
DTSTART;TZID=Europe/Berlin:20160604T140000
DTEND;TZID=Europe/Berlin:20160604T154500
LOCATION:Katzberger Straße 6\n96528 Schalkau\, 96528 Schalkau
SUMMARY:15/16 Herren 2.KK-O: FC Heinersdorf - 1. FC Köppelsdorf II
END:VEVENT
END:VCALENDAR
