BEGIN:VCALENDAR
VERSION:2.0
PRODID:-//85.13.129.106//NONSGML kigkonsult.se iCalcreator 2.10.23//
BEGIN:VEVENT
UID:20260422T012042CEST-7660eA39sn@85.13.129.106
DTSTAMP:20260421T232042Z
DESCRIPTION:Schalkau
DTSTART;TZID=Europe/Berlin:20141116T103000
DTEND;TZID=Europe/Berlin:20141116T111500
LOCATION:Katzberger Straße 6\n96528 Schalkau\, 96528 Schalkau
SUMMARY:14/15 D2-Jun. KOL: FC-BW Schalkau D2 - FSV 07 Lauscha D
END:VEVENT
BEGIN:VEVENT
UID:20260422T012042CEST-7669xNxSH7@85.13.129.106
DTSTAMP:20260421T232042Z
DESCRIPTION:Schalkau
DTSTART;TZID=Europe/Berlin:20141025T103000
DTEND;TZID=Europe/Berlin:20141025T111500
LOCATION:Katzberger Straße 6\n96528 Schalkau\, 96528 Schalkau
SUMMARY:14/15 D2-Jun. KOL: FSV 06 Eintr. Hildburghausen D - FC-BW Schalkau 
 D2
END:VEVENT
BEGIN:VEVENT
UID:20260422T012042CEST-7677CkuCFr@85.13.129.106
DTSTAMP:20260421T232042Z
DESCRIPTION:Schalkau
DTSTART;TZID=Europe/Berlin:20141102T091500
DTEND;TZID=Europe/Berlin:20141102T100000
LOCATION:Katzberger Straße 6\n96528 Schalkau\, 96528 Schalkau
SUMMARY:14/15 D2-Jun. KOL: FC-BW Schalkau D2 - Erlauer SV Grün-Weiß D
END:VEVENT
BEGIN:VEVENT
UID:20260422T012042CEST-7685HOb2mu@85.13.129.106
DTSTAMP:20260421T232042Z
DESCRIPTION:Schalkau
DTSTART;TZID=Europe/Berlin:20141109T103000
DTEND;TZID=Europe/Berlin:20141109T111500
LOCATION:Katzberger Straße 6\n96528 Schalkau\, 96528 Schalkau
SUMMARY:14/15 D2-Jun. KOL: SG 1. FC Sonneberg 04 D2 - FC-BW Schalkau D2
END:VEVENT
BEGIN:VEVENT
UID:20260422T012042CEST-7692hoVXlr@85.13.129.106
DTSTAMP:20260421T232042Z
DESCRIPTION:Schalkau
DTSTART;TZID=Europe/Berlin:20150329T103000
DTEND;TZID=Europe/Berlin:20150329T111500
LOCATION:Katzberger Straße 6\n96528 Schalkau\, 96528 Schalkau
SUMMARY:14/15 D2-Jun. KOL: FC-BW Schalkau D2 - SV Eintracht Oberland D
END:VEVENT
BEGIN:VEVENT
UID:20260422T012042CEST-7700Cpr9NF@85.13.129.106
DTSTAMP:20260421T232042Z
DESCRIPTION:Schalkau
DTSTART;TZID=Europe/Berlin:20150417T170000
DTEND;TZID=Europe/Berlin:20150417T174500
LOCATION:Katzberger Straße 6\n96528 Schalkau\, 96528 Schalkau
SUMMARY:14/15 D2-Jun. KOL: SC 06 Oberlind D - FC-BW Schalkau D2
END:VEVENT
BEGIN:VEVENT
UID:20260422T012042CEST-7707a9kSMb@85.13.129.106
DTSTAMP:20260421T232042Z
DESCRIPTION:Schalkau
DTSTART;TZID=Europe/Berlin:20150424T180000
DTEND;TZID=Europe/Berlin:20150424T184500
LOCATION:Katzberger Straße 6\n96528 Schalkau\, 96528 Schalkau
SUMMARY:14/15 D2-Jun. KOL: FC-BW Schalkau D2 - SG Römhild D
END:VEVENT
BEGIN:VEVENT
UID:20260422T012042CEST-771437fBem@85.13.129.106
DTSTAMP:20260421T232042Z
DESCRIPTION:Schalkau
DTSTART;TZID=Europe/Berlin:20150430T180000
DTEND;TZID=Europe/Berlin:20150430T184500
LOCATION:Katzberger Straße 6\n96528 Schalkau\, 96528 Schalkau
SUMMARY:14/15 D2-Jun. KOL: FSV 07 Lauscha D - FC-BW Schalkau D2
END:VEVENT
BEGIN:VEVENT
UID:20260422T012042CEST-7721UGV5d4@85.13.129.106
DTSTAMP:20260421T232042Z
DESCRIPTION:Schalkau
DTSTART;TZID=Europe/Berlin:20150513T180000
DTEND;TZID=Europe/Berlin:20150513T184500
LOCATION:Katzberger Straße 6\n96528 Schalkau\, 96528 Schalkau
SUMMARY:14/15 D2-Jun. KOL: FC-BW Schalkau D2 - FSV 06 Eintr. Hildburghausen
  D
END:VEVENT
BEGIN:VEVENT
UID:20260422T012042CEST-7729usEnPV@85.13.129.106
DTSTAMP:20260421T232042Z
DESCRIPTION:Schalkau
DTSTART;TZID=Europe/Berlin:20150517T103000
DTEND;TZID=Europe/Berlin:20150517T111500
LOCATION:Katzberger Straße 6\n96528 Schalkau\, 96528 Schalkau
SUMMARY:14/15 D2-Jun. KOL: Erlauer SV Grün-Weiß D - FC-BW Schalkau D2
END:VEVENT
BEGIN:VEVENT
UID:20260422T012042CEST-7737DArvk0@85.13.129.106
DTSTAMP:20260421T232042Z
DESCRIPTION:Schalkau
DTSTART;TZID=Europe/Berlin:20150529T170000
DTEND;TZID=Europe/Berlin:20150529T174500
LOCATION:Katzberger Straße 6\n96528 Schalkau\, 96528 Schalkau
SUMMARY:14/15 D2-Jun. KOL: FC-BW Schalkau D2 - SG 1. FC Sonneberg 04 D2
END:VEVENT
BEGIN:VEVENT
UID:20260422T012042CEST-7744fKuhvu@85.13.129.106
DTSTAMP:20260421T232042Z
DESCRIPTION:Schalkau
DTSTART;TZID=Europe/Berlin:20150616T180000
DTEND;TZID=Europe/Berlin:20150616T184500
LOCATION:Katzberger Straße 6\n96528 Schalkau\, 96528 Schalkau
SUMMARY:14/15 D2-Jun. KOL: SV Eintracht Oberland D - FC-BW Schalkau D2
END:VEVENT
BEGIN:VEVENT
UID:20260422T012042CEST-7752cflvUf@85.13.129.106
DTSTAMP:20260421T232042Z
DESCRIPTION:Schalkau
DTSTART;TZID=Europe/Berlin:20150612T170000
DTEND;TZID=Europe/Berlin:20150612T174500
LOCATION:Katzberger Straße 6\n96528 Schalkau\, 96528 Schalkau
SUMMARY:14/15 D2-Jun. KOL: FC-BW Schalkau D2 - SC 06 Oberlind D
END:VEVENT
BEGIN:VEVENT
UID:20260422T012042CEST-7759l4a23a@85.13.129.106
DTSTAMP:20260421T232042Z
DESCRIPTION:Schalkau
DTSTART;TZID=Europe/Berlin:20150619T180000
DTEND;TZID=Europe/Berlin:20150619T184500
LOCATION:Katzberger Straße 6\n96528 Schalkau\, 96528 Schalkau
SUMMARY:14/15 D2-Jun. KOL: SG Römhild D - FC-BW Schalkau D2
END:VEVENT
END:VCALENDAR
