BEGIN:VCALENDAR
VERSION:2.0
PRODID:-//85.13.129.106//NONSGML kigkonsult.se iCalcreator 2.10.23//
BEGIN:VEVENT
UID:20260422T163023CEST-3871cEefmv@85.13.129.106
DTSTAMP:20260422T143023Z
DESCRIPTION:Effelder
DTSTART;TZID=Europe/Berlin:20140914T102000
DTEND;TZID=Europe/Berlin:20140914T120500
LOCATION:\,  
SUMMARY:14/15 F-Jun. KL: SG FSV Mengersgereuth-Hämmern F - SG Lauscha/Neuha
 us F
END:VEVENT
BEGIN:VEVENT
UID:20260422T163023CEST-38752UGatz@85.13.129.106
DTSTAMP:20260422T143023Z
DESCRIPTION:Effelder
DTSTART;TZID=Europe/Berlin:20140914T113500
DTEND;TZID=Europe/Berlin:20140914T132000
LOCATION:\,  
SUMMARY:14/15 F-Jun. KL: SG Lauscha/Neuhaus F - SV Falke Sachsenbrunn F
END:VEVENT
BEGIN:VEVENT
UID:20260422T163023CEST-3880Z4BZ6b@85.13.129.106
DTSTAMP:20260422T143023Z
DESCRIPTION:Effelder
DTSTART;TZID=Europe/Berlin:20140928T093000
DTEND;TZID=Europe/Berlin:20140928T111500
LOCATION:\,  
SUMMARY:14/15 F-Jun. KL: SG Lauscha/Neuhaus F - TSV Germ. Sonneberg West F2
END:VEVENT
BEGIN:VEVENT
UID:20260422T163023CEST-3884RLRSkC@85.13.129.106
DTSTAMP:20260422T143023Z
DESCRIPTION:Schalkau
DTSTART;TZID=Europe/Berlin:20140928T104500
DTEND;TZID=Europe/Berlin:20140928T123000
LOCATION:Katzberger Straße 6\n96528 Schalkau\, 96528 Schalkau
SUMMARY:14/15 F-Jun. KL: FC-BW Schalkau F - SG Lauscha/Neuhaus F
END:VEVENT
BEGIN:VEVENT
UID:20260422T163023CEST-388871McJt@85.13.129.106
DTSTAMP:20260422T143023Z
DESCRIPTION:Schalkau
DTSTART;TZID=Europe/Berlin:20140928T120000
DTEND;TZID=Europe/Berlin:20140928T134500
LOCATION:Katzberger Straße 6\n96528 Schalkau\, 96528 Schalkau
SUMMARY:14/15 F-Jun. KL: SG Lauscha/Neuhaus F - SC 09 Effelder F
END:VEVENT
BEGIN:VEVENT
UID:20260422T163023CEST-38937DnPwl@85.13.129.106
DTSTAMP:20260422T143023Z
DESCRIPTION:Schalkau
DTSTART;TZID=Europe/Berlin:20141019T095500
DTEND;TZID=Europe/Berlin:20141019T114000
LOCATION:Katzberger Straße 6\n96528 Schalkau\, 96528 Schalkau
SUMMARY:14/15 F-Jun. KL: SG Lauscha/Neuhaus F - SG FSV Mengersgereuth-Hämme
 rn F
END:VEVENT
BEGIN:VEVENT
UID:20260422T163023CEST-3897bnV0av@85.13.129.106
DTSTAMP:20260422T143023Z
DESCRIPTION:Schalkau
DTSTART;TZID=Europe/Berlin:20141019T104500
DTEND;TZID=Europe/Berlin:20141019T123000
LOCATION:Katzberger Straße 6\n96528 Schalkau\, 96528 Schalkau
SUMMARY:14/15 F-Jun. KL: SV Falke Sachsenbrunn F - SG Lauscha/Neuhaus F
END:VEVENT
BEGIN:VEVENT
UID:20260422T163023CEST-3901eWXWNS@85.13.129.106
DTSTAMP:20260422T143023Z
DESCRIPTION:Schalkau
DTSTART;TZID=Europe/Berlin:20141019T120000
DTEND;TZID=Europe/Berlin:20141019T134500
LOCATION:Katzberger Straße 6\n96528 Schalkau\, 96528 Schalkau
SUMMARY:14/15 F-Jun. KL: TSV Germ. Sonneberg West F2 - SG Lauscha/Neuhaus F
END:VEVENT
BEGIN:VEVENT
UID:20260422T163023CEST-3906xPuCLj@85.13.129.106
DTSTAMP:20260422T143023Z
DESCRIPTION:Schalkau
DTSTART;TZID=Europe/Berlin:20141102T095500
DTEND;TZID=Europe/Berlin:20141102T114000
LOCATION:Katzberger Straße 6\n96528 Schalkau\, 96528 Schalkau
SUMMARY:14/15 F-Jun. KL: SG Lauscha/Neuhaus F - FC-BW Schalkau F
END:VEVENT
BEGIN:VEVENT
UID:20260422T163023CEST-3910OfLbZZ@85.13.129.106
DTSTAMP:20260422T143023Z
DESCRIPTION:Schalkau
DTSTART;TZID=Europe/Berlin:20141102T111000
DTEND;TZID=Europe/Berlin:20141102T125500
LOCATION:Katzberger Straße 6\n96528 Schalkau\, 96528 Schalkau
SUMMARY:14/15 F-Jun. KL: SC 09 Effelder F - SG Lauscha/Neuhaus F
END:VEVENT
END:VCALENDAR
