BEGIN:VCALENDAR
VERSION:2.0
PRODID:-//85.13.129.106//NONSGML kigkonsult.se iCalcreator 2.10.23//
BEGIN:VEVENT
UID:20260423T002137CEST-3582VXgOa5@85.13.129.106
DTSTAMP:20260422T222137Z
DESCRIPTION:
DTSTART;TZID=Europe/Berlin:20140727T150000
DTEND;TZID=Europe/Berlin:20140727T164500
LOCATION:
SUMMARY:14/15 Herren Kreispokal: SG Sachsenbrunn/Fehrenbach II - SG Milz/Ei
 cha II
END:VEVENT
BEGIN:VEVENT
UID:20260423T002137CEST-3586ZE0ARL@85.13.129.106
DTSTAMP:20260422T222137Z
DESCRIPTION:
DTSTART;TZID=Europe/Berlin:20141003T163000
DTEND;TZID=Europe/Berlin:20141003T181500
LOCATION:
SUMMARY:14/15 Herren Kreispokal: SV 08 Steinach II - SG Sachsenbrunn/Fehren
 bach II
END:VEVENT
BEGIN:VEVENT
UID:20260423T002137CEST-3590eCFuXU@85.13.129.106
DTSTAMP:20260422T222137Z
DESCRIPTION:
DTSTART;TZID=Europe/Berlin:20141116T133000
DTEND;TZID=Europe/Berlin:20141116T151500
LOCATION:
SUMMARY:14/15 Herren Kreispokal: SG Sachsenbrunn/Fehrenbach II - Erlauer SV
  Grün-Weiss
END:VEVENT
END:VCALENDAR
