BEGIN:VCALENDAR
VERSION:2.0
PRODID:-//85.13.129.106//NONSGML kigkonsult.se iCalcreator 2.10.23//
BEGIN:VEVENT
UID:20260422T112837CEST-0546HvaV5d@85.13.129.106
DTSTAMP:20260422T092837Z
DESCRIPTION:
DTSTART;TZID=Europe/Berlin:20160918T093000
DTEND;TZID=Europe/Berlin:20160918T094000
LOCATION:
SUMMARY:16/17 G-Jun. KL Ost: SV 08 Steinach G - SV Falke Sachsenbrunn G
END:VEVENT
BEGIN:VEVENT
UID:20260422T112837CEST-0551uNCbpV@85.13.129.106
DTSTAMP:20260422T092837Z
DESCRIPTION:
DTSTART;TZID=Europe/Berlin:20160918T104200
DTEND;TZID=Europe/Berlin:20160918T105200
LOCATION:
SUMMARY:16/17 G-Jun. KL Ost: SV Falke Sachsenbrunn G - 1. FC Sonneberg 04 G
END:VEVENT
BEGIN:VEVENT
UID:20260422T112837CEST-05555jscFT@85.13.129.106
DTSTAMP:20260422T092837Z
DESCRIPTION:Schalkau
DTSTART;TZID=Europe/Berlin:20160918T111800
DTEND;TZID=Europe/Berlin:20160918T112800
LOCATION:Katzberger Straße 6\n96528 Schalkau\, 96528 Schalkau
SUMMARY:16/17 G-Jun. KL Ost: FC-BW Schalkau G - SV Falke Sachsenbrunn G
END:VEVENT
BEGIN:VEVENT
UID:20260422T112837CEST-05601BCpwd@85.13.129.106
DTSTAMP:20260422T092837Z
DESCRIPTION:Schalkau
DTSTART;TZID=Europe/Berlin:20161002T110000
DTEND;TZID=Europe/Berlin:20161002T111000
LOCATION:Katzberger Straße 6\n96528 Schalkau\, 96528 Schalkau
SUMMARY:16/17 G-Jun. KL Ost: SV Falke Sachsenbrunn G - SC 06 Oberlind G
END:VEVENT
BEGIN:VEVENT
UID:20260422T112837CEST-0564Gbp8Ww@85.13.129.106
DTSTAMP:20260422T092837Z
DESCRIPTION:Schalkau
DTSTART;TZID=Europe/Berlin:20161002T090000
DTEND;TZID=Europe/Berlin:20161002T091000
LOCATION:Katzberger Straße 6\n96528 Schalkau\, 96528 Schalkau
SUMMARY:16/17 G-Jun. KL Ost: SV 08 Steinach G - SV Falke Sachsenbrunn G
END:VEVENT
BEGIN:VEVENT
UID:20260422T112837CEST-05690fGgRU@85.13.129.106
DTSTAMP:20260422T092837Z
DESCRIPTION:Schalkau
DTSTART;TZID=Europe/Berlin:20161002T093600
DTEND;TZID=Europe/Berlin:20161002T094600
LOCATION:Katzberger Straße 6\n96528 Schalkau\, 96528 Schalkau
SUMMARY:16/17 G-Jun. KL Ost: SV Falke Sachsenbrunn G - SC 06 Oberlind G
END:VEVENT
BEGIN:VEVENT
UID:20260422T112837CEST-0573r9P4fH@85.13.129.106
DTSTAMP:20260422T092837Z
DESCRIPTION:Schalkau
DTSTART;TZID=Europe/Berlin:20161002T101200
DTEND;TZID=Europe/Berlin:20161002T102200
LOCATION:Katzberger Straße 6\n96528 Schalkau\, 96528 Schalkau
SUMMARY:16/17 G-Jun. KL Ost: SV Falke Sachsenbrunn G - 1. FC Sonneberg 04 G
END:VEVENT
BEGIN:VEVENT
UID:20260422T112837CEST-0577P6WrVc@85.13.129.106
DTSTAMP:20260422T092837Z
DESCRIPTION:Schalkau
DTSTART;TZID=Europe/Berlin:20161002T104800
DTEND;TZID=Europe/Berlin:20161002T105800
LOCATION:Katzberger Straße 6\n96528 Schalkau\, 96528 Schalkau
SUMMARY:16/17 G-Jun. KL Ost: FC-BW Schalkau G - SV Falke Sachsenbrunn G
END:VEVENT
BEGIN:VEVENT
UID:20260422T112837CEST-0582RVHniM@85.13.129.106
DTSTAMP:20260422T092837Z
DESCRIPTION:Schalkau
DTSTART;TZID=Europe/Berlin:20161023T093000
DTEND;TZID=Europe/Berlin:20161023T094000
LOCATION:Katzberger Straße 6\n96528 Schalkau\, 96528 Schalkau
SUMMARY:16/17 G-Jun. KL Ost: SV 08 Steinach G - SV Falke Sachsenbrunn G
END:VEVENT
BEGIN:VEVENT
UID:20260422T112837CEST-0586smLU5G@85.13.129.106
DTSTAMP:20260422T092837Z
DESCRIPTION:Schalkau
DTSTART;TZID=Europe/Berlin:20161023T100600
DTEND;TZID=Europe/Berlin:20161023T101600
LOCATION:Katzberger Straße 6\n96528 Schalkau\, 96528 Schalkau
SUMMARY:16/17 G-Jun. KL Ost: SV Falke Sachsenbrunn G - SC 06 Oberlind G
END:VEVENT
BEGIN:VEVENT
UID:20260422T112837CEST-0590SR6zHV@85.13.129.106
DTSTAMP:20260422T092837Z
DESCRIPTION:Schalkau
DTSTART;TZID=Europe/Berlin:20161023T104200
DTEND;TZID=Europe/Berlin:20161023T105200
LOCATION:Katzberger Straße 6\n96528 Schalkau\, 96528 Schalkau
SUMMARY:16/17 G-Jun. KL Ost: SV Falke Sachsenbrunn G - 1. FC Sonneberg 04 G
END:VEVENT
BEGIN:VEVENT
UID:20260422T112837CEST-0595COBaOX@85.13.129.106
DTSTAMP:20260422T092837Z
DESCRIPTION:Schalkau
DTSTART;TZID=Europe/Berlin:20161023T111800
DTEND;TZID=Europe/Berlin:20161023T112800
LOCATION:Katzberger Straße 6\n96528 Schalkau\, 96528 Schalkau
SUMMARY:16/17 G-Jun. KL Ost: FC-BW Schalkau G - SV Falke Sachsenbrunn G
END:VEVENT
BEGIN:VEVENT
UID:20260422T112837CEST-0599uWTvo5@85.13.129.106
DTSTAMP:20260422T092837Z
DESCRIPTION:Schalkau
DTSTART;TZID=Europe/Berlin:20170507T095000
DTEND;TZID=Europe/Berlin:20170507T100000
LOCATION:Katzberger Straße 6\n96528 Schalkau\, 96528 Schalkau
SUMMARY:16/17 G-Jun. KL Ost: SV Falke Sachsenbrunn G - SV 08 Steinach G
END:VEVENT
BEGIN:VEVENT
UID:20260422T112837CEST-0603HDCzhU@85.13.129.106
DTSTAMP:20260422T092837Z
DESCRIPTION:Schalkau
DTSTART;TZID=Europe/Berlin:20170507T101000
DTEND;TZID=Europe/Berlin:20170507T102000
LOCATION:Katzberger Straße 6\n96528 Schalkau\, 96528 Schalkau
SUMMARY:16/17 G-Jun. KL Ost: SV Falke Sachsenbrunn G - FC-BW Schalkau G
END:VEVENT
BEGIN:VEVENT
UID:20260422T112837CEST-0608M8lfAz@85.13.129.106
DTSTAMP:20260422T092837Z
DESCRIPTION:Schalkau
DTSTART;TZID=Europe/Berlin:20170507T103000
DTEND;TZID=Europe/Berlin:20170507T104000
LOCATION:Katzberger Straße 6\n96528 Schalkau\, 96528 Schalkau
SUMMARY:16/17 G-Jun. KL Ost: 1. FC Sonneberg 04 G - SV Falke Sachsenbrunn G
END:VEVENT
BEGIN:VEVENT
UID:20260422T112837CEST-0612AxPfKf@85.13.129.106
DTSTAMP:20260422T092837Z
DESCRIPTION:Schalkau
DTSTART;TZID=Europe/Berlin:20170507T105000
DTEND;TZID=Europe/Berlin:20170507T110000
LOCATION:Katzberger Straße 6\n96528 Schalkau\, 96528 Schalkau
SUMMARY:16/17 G-Jun. KL Ost: SV Falke Sachsenbrunn G - FC-BW Schalkau G2
END:VEVENT
BEGIN:VEVENT
UID:20260422T112837CEST-0617wVJgfH@85.13.129.106
DTSTAMP:20260422T092837Z
DESCRIPTION:Schalkau
DTSTART;TZID=Europe/Berlin:20170521T095000
DTEND;TZID=Europe/Berlin:20170521T100000
LOCATION:Katzberger Straße 6\n96528 Schalkau\, 96528 Schalkau
SUMMARY:16/17 G-Jun. KL Ost: SV Falke Sachsenbrunn G - SV 08 Steinach G
END:VEVENT
BEGIN:VEVENT
UID:20260422T112837CEST-0621eUVWbS@85.13.129.106
DTSTAMP:20260422T092837Z
DESCRIPTION:Schalkau
DTSTART;TZID=Europe/Berlin:20170521T101000
DTEND;TZID=Europe/Berlin:20170521T102000
LOCATION:Katzberger Straße 6\n96528 Schalkau\, 96528 Schalkau
SUMMARY:16/17 G-Jun. KL Ost: SV Falke Sachsenbrunn G - FC-BW Schalkau G
END:VEVENT
BEGIN:VEVENT
UID:20260422T112837CEST-0625NM855d@85.13.129.106
DTSTAMP:20260422T092837Z
DESCRIPTION:Schalkau
DTSTART;TZID=Europe/Berlin:20170521T103000
DTEND;TZID=Europe/Berlin:20170521T104000
LOCATION:Katzberger Straße 6\n96528 Schalkau\, 96528 Schalkau
SUMMARY:16/17 G-Jun. KL Ost: 1. FC Sonneberg 04 G - SV Falke Sachsenbrunn G
END:VEVENT
BEGIN:VEVENT
UID:20260422T112837CEST-063004c71V@85.13.129.106
DTSTAMP:20260422T092837Z
DESCRIPTION:Schalkau
DTSTART;TZID=Europe/Berlin:20170521T105000
DTEND;TZID=Europe/Berlin:20170521T110000
LOCATION:Katzberger Straße 6\n96528 Schalkau\, 96528 Schalkau
SUMMARY:16/17 G-Jun. KL Ost: SV Falke Sachsenbrunn G - FC-BW Schalkau G2
END:VEVENT
BEGIN:VEVENT
UID:20260422T112837CEST-0634EVXlnr@85.13.129.106
DTSTAMP:20260422T092837Z
DESCRIPTION:Schalkau
DTSTART;TZID=Europe/Berlin:20170618T095000
DTEND;TZID=Europe/Berlin:20170618T100000
LOCATION:Katzberger Straße 6\n96528 Schalkau\, 96528 Schalkau
SUMMARY:16/17 G-Jun. KL Ost: SV Falke Sachsenbrunn G - SV 08 Steinach G
END:VEVENT
BEGIN:VEVENT
UID:20260422T112837CEST-0639tBsIon@85.13.129.106
DTSTAMP:20260422T092837Z
DESCRIPTION:Schalkau
DTSTART;TZID=Europe/Berlin:20170618T101000
DTEND;TZID=Europe/Berlin:20170618T102000
LOCATION:Katzberger Straße 6\n96528 Schalkau\, 96528 Schalkau
SUMMARY:16/17 G-Jun. KL Ost: SV Falke Sachsenbrunn G - FC-BW Schalkau G
END:VEVENT
BEGIN:VEVENT
UID:20260422T112837CEST-0643RBuWTk@85.13.129.106
DTSTAMP:20260422T092837Z
DESCRIPTION:Schalkau
DTSTART;TZID=Europe/Berlin:20170618T103000
DTEND;TZID=Europe/Berlin:20170618T104000
LOCATION:Katzberger Straße 6\n96528 Schalkau\, 96528 Schalkau
SUMMARY:16/17 G-Jun. KL Ost: 1. FC Sonneberg 04 G - SV Falke Sachsenbrunn G
END:VEVENT
BEGIN:VEVENT
UID:20260422T112837CEST-0647tF8fZv@85.13.129.106
DTSTAMP:20260422T092837Z
DESCRIPTION:Schalkau
DTSTART;TZID=Europe/Berlin:20170618T105000
DTEND;TZID=Europe/Berlin:20170618T110000
LOCATION:Katzberger Straße 6\n96528 Schalkau\, 96528 Schalkau
SUMMARY:16/17 G-Jun. KL Ost: SV Falke Sachsenbrunn G - FC-BW Schalkau G2
END:VEVENT
END:VCALENDAR
