BEGIN:VCALENDAR
VERSION:2.0
PRODID:-//85.13.129.106//NONSGML kigkonsult.se iCalcreator 2.10.23//
BEGIN:VEVENT
UID:20260421T034951CEST-2968uvtSad@85.13.129.106
DTSTAMP:20260421T014951Z
DESCRIPTION:
DTSTART;TZID=Europe/Berlin:20160130T091100
DTEND;TZID=Europe/Berlin:20160130T105600
LOCATION:
SUMMARY:15/16 F1-Junioren HKM VR: TSV Germ. Sonneberg West F - SV 08 Steina
 ch F
END:VEVENT
BEGIN:VEVENT
UID:20260421T034951CEST-2972IEsWkL@85.13.129.106
DTSTAMP:20260421T014951Z
DESCRIPTION:
DTSTART;TZID=Europe/Berlin:20160130T094400
DTEND;TZID=Europe/Berlin:20160130T112900
LOCATION:
SUMMARY:15/16 F1-Junioren HKM VR: SV 08 Steinach F - SV Germania Judenbach 
 F
END:VEVENT
BEGIN:VEVENT
UID:20260421T034951CEST-29763uKIVL@85.13.129.106
DTSTAMP:20260421T014951Z
DESCRIPTION:
DTSTART;TZID=Europe/Berlin:20160130T101700
DTEND;TZID=Europe/Berlin:20160130T120200
LOCATION:
SUMMARY:15/16 F1-Junioren HKM VR: SV 08 Steinach F - SG Lauscha/Neuhaus F2
END:VEVENT
BEGIN:VEVENT
UID:20260421T034951CEST-2981jXe6AF@85.13.129.106
DTSTAMP:20260421T014951Z
DESCRIPTION:
DTSTART;TZID=Europe/Berlin:20160130T103900
DTEND;TZID=Europe/Berlin:20160130T122400
LOCATION:
SUMMARY:15/16 F1-Junioren HKM VR: SG Effelder/Schalkau F - SV 08 Steinach F
END:VEVENT
END:VCALENDAR
