BEGIN:VCALENDAR
VERSION:2.0
PRODID:-//85.13.129.106//NONSGML kigkonsult.se iCalcreator 2.10.23//
BEGIN:VEVENT
UID:20260422T174150CEST-00113Uu0zD@85.13.129.106
DTSTAMP:20260422T154150Z
DESCRIPTION:
DTSTART;TZID=Europe/Berlin:20160116T140000
DTEND;TZID=Europe/Berlin:20160116T154500
LOCATION:
SUMMARY:15/16 Herren HKM VR: SV 08 Westhausen II - FC-BW Schalkau
END:VEVENT
BEGIN:VEVENT
UID:20260422T174150CEST-0020VEnLE4@85.13.129.106
DTSTAMP:20260422T154150Z
DESCRIPTION:
DTSTART;TZID=Europe/Berlin:20160116T144500
DTEND;TZID=Europe/Berlin:20160116T163000
LOCATION:
SUMMARY:15/16 Herren HKM VR: FSV 06 Eintr. Hildburghausen II - SV 08 Westha
 usen II
END:VEVENT
BEGIN:VEVENT
UID:20260422T174150CEST-0028ZDR8iU@85.13.129.106
DTSTAMP:20260422T154150Z
DESCRIPTION:
DTSTART;TZID=Europe/Berlin:20160116T153000
DTEND;TZID=Europe/Berlin:20160116T171500
LOCATION:
SUMMARY:15/16 Herren HKM VR: SV 08 Westhausen II - SV 1897 Goßmannsrod
END:VEVENT
BEGIN:VEVENT
UID:20260422T174150CEST-0038ptESWL@85.13.129.106
DTSTAMP:20260422T154150Z
DESCRIPTION:
DTSTART;TZID=Europe/Berlin:20160116T161500
DTEND;TZID=Europe/Berlin:20160116T180000
LOCATION:
SUMMARY:15/16 Herren HKM VR: SG Streufdorf/Eishausen - SV 08 Westhausen II
END:VEVENT
BEGIN:VEVENT
UID:20260422T174150CEST-0047xbzUgv@85.13.129.106
DTSTAMP:20260422T154150Z
DESCRIPTION:
DTSTART;TZID=Europe/Berlin:20160116T170000
DTEND;TZID=Europe/Berlin:20160116T184500
LOCATION:
SUMMARY:15/16 Herren HKM VR: SV 03 Eisfeld - SV 08 Westhausen II
END:VEVENT
END:VCALENDAR
