BEGIN:VCALENDAR
VERSION:2.0
PRODID:-//85.13.129.106//NONSGML kigkonsult.se iCalcreator 2.10.23//
BEGIN:VEVENT
UID:20260421T232707CEST-5207T1oO7k@85.13.129.106
DTSTAMP:20260421T212707Z
DESCRIPTION:
DTSTART;TZID=Europe/Berlin:20151031T123000
DTEND;TZID=Europe/Berlin:20151031T141500
LOCATION:
SUMMARY:15/16 Herren 2.KK-O: SG Lauscha/Neuhaus II - FC-BW Schalkau II
END:VEVENT
BEGIN:VEVENT
UID:20260421T232707CEST-5212JeukbZ@85.13.129.106
DTSTAMP:20260421T212707Z
DESCRIPTION:
DTSTART;TZID=Europe/Berlin:20151115T140000
DTEND;TZID=Europe/Berlin:20151115T154500
LOCATION:
SUMMARY:15/16 Herren 2.KK-O: SV Iso. Neuhaus Schierschnitz II - SG Lauscha/
 Neuhaus II
END:VEVENT
BEGIN:VEVENT
UID:20260421T232707CEST-5216Ws5upS@85.13.129.106
DTSTAMP:20260421T212707Z
DESCRIPTION:
DTSTART;TZID=Europe/Berlin:20150822T170000
DTEND;TZID=Europe/Berlin:20150822T184500
LOCATION:
SUMMARY:15/16 Herren 2.KK-O: SG Lauscha/Neuhaus II - FC Heinersdorf
END:VEVENT
BEGIN:VEVENT
UID:20260421T232707CEST-5221o2sL27@85.13.129.106
DTSTAMP:20260421T212707Z
DESCRIPTION:
DTSTART;TZID=Europe/Berlin:20150829T160000
DTEND;TZID=Europe/Berlin:20150829T174500
LOCATION:
SUMMARY:15/16 Herren 2.KK-O: SC 06 Oberlind II - SG Lauscha/Neuhaus II
END:VEVENT
BEGIN:VEVENT
UID:20260421T232707CEST-5225twUnCf@85.13.129.106
DTSTAMP:20260421T212707Z
DESCRIPTION:
DTSTART;TZID=Europe/Berlin:20150905T170000
DTEND;TZID=Europe/Berlin:20150905T184500
LOCATION:
SUMMARY:15/16 Herren 2.KK-O: SG Lauscha/Neuhaus II - SV Rennsteig Ernstthal
END:VEVENT
BEGIN:VEVENT
UID:20260421T232707CEST-5229Cjmv2v@85.13.129.106
DTSTAMP:20260421T212707Z
DESCRIPTION:
DTSTART;TZID=Europe/Berlin:20150913T150000
DTEND;TZID=Europe/Berlin:20150913T164500
LOCATION:
SUMMARY:15/16 Herren 2.KK-O: SG Haselbach/ Hasenthal - SG Lauscha/Neuhaus I
 I
END:VEVENT
BEGIN:VEVENT
UID:20260421T232707CEST-5233RO9CUT@85.13.129.106
DTSTAMP:20260421T212707Z
DESCRIPTION:
DTSTART;TZID=Europe/Berlin:20150919T130000
DTEND;TZID=Europe/Berlin:20150919T144500
LOCATION:
SUMMARY:15/16 Herren 2.KK-O: SG Lauscha/Neuhaus II - SG SV 08 Steinach III
END:VEVENT
BEGIN:VEVENT
UID:20260421T232707CEST-5238HVGNJI@85.13.129.106
DTSTAMP:20260421T212707Z
DESCRIPTION:
DTSTART;TZID=Europe/Berlin:20150927T150000
DTEND;TZID=Europe/Berlin:20150927T164500
LOCATION:
SUMMARY:15/16 Herren 2.KK-O: TSV 1923 Neuenbau - SG Lauscha/Neuhaus II
END:VEVENT
BEGIN:VEVENT
UID:20260421T232707CEST-5242f3VkOm@85.13.129.106
DTSTAMP:20260421T212707Z
DESCRIPTION:
DTSTART;TZID=Europe/Berlin:20151003T130000
DTEND;TZID=Europe/Berlin:20151003T144500
LOCATION:
SUMMARY:15/16 Herren 2.KK-O: SG Lauscha/Neuhaus II - SG 1951 Sonneberg II
END:VEVENT
BEGIN:VEVENT
UID:20260421T232707CEST-5246hETd0j@85.13.129.106
DTSTAMP:20260421T212707Z
DESCRIPTION:
DTSTART;TZID=Europe/Berlin:20151010T160000
DTEND;TZID=Europe/Berlin:20151010T174500
LOCATION:
SUMMARY:15/16 Herren 2.KK-O: 1. FC Sonneberg 04 II - SG Lauscha/Neuhaus II
END:VEVENT
BEGIN:VEVENT
UID:20260421T232707CEST-5251WZctwM@85.13.129.106
DTSTAMP:20260421T212707Z
DESCRIPTION:
DTSTART;TZID=Europe/Berlin:20151017T130000
DTEND;TZID=Europe/Berlin:20151017T144500
LOCATION:
SUMMARY:15/16 Herren 2.KK-O: SG Lauscha/Neuhaus II - 1. FC Köppelsdorf II
END:VEVENT
BEGIN:VEVENT
UID:20260421T232707CEST-5255W9uMsx@85.13.129.106
DTSTAMP:20260421T212707Z
DESCRIPTION:
DTSTART;TZID=Europe/Berlin:20151025T150000
DTEND;TZID=Europe/Berlin:20151025T164500
LOCATION:
SUMMARY:15/16 Herren 2.KK-O: SV Rottmar/Gefell - SG Lauscha/Neuhaus II
END:VEVENT
BEGIN:VEVENT
UID:20260421T232707CEST-5259FlIV8c@85.13.129.106
DTSTAMP:20260421T212707Z
DESCRIPTION:Schalkau
DTSTART;TZID=Europe/Berlin:20160328T140000
DTEND;TZID=Europe/Berlin:20160328T154500
LOCATION:Katzberger Straße 6\n96528 Schalkau\, 96528 Schalkau
SUMMARY:15/16 Herren 2.KK-O: FC-BW Schalkau II - SG Lauscha/Neuhaus II
END:VEVENT
BEGIN:VEVENT
UID:20260421T232707CEST-5264gXIlPt@85.13.129.106
DTSTAMP:20260421T212707Z
DESCRIPTION:Schalkau
DTSTART;TZID=Europe/Berlin:20160326T130000
DTEND;TZID=Europe/Berlin:20160326T144500
LOCATION:Katzberger Straße 6\n96528 Schalkau\, 96528 Schalkau
SUMMARY:15/16 Herren 2.KK-O: SG Lauscha/Neuhaus II - SV Iso. Neuhaus Schier
 schnitz II
END:VEVENT
BEGIN:VEVENT
UID:20260421T232707CEST-5268diIxEo@85.13.129.106
DTSTAMP:20260421T212707Z
DESCRIPTION:Schalkau
DTSTART;TZID=Europe/Berlin:20160320T150000
DTEND;TZID=Europe/Berlin:20160320T164500
LOCATION:Katzberger Straße 6\n96528 Schalkau\, 96528 Schalkau
SUMMARY:15/16 Herren 2.KK-O: FC Heinersdorf - SG Lauscha/Neuhaus II
END:VEVENT
BEGIN:VEVENT
UID:20260421T232707CEST-5272FWVzTp@85.13.129.106
DTSTAMP:20260421T212707Z
DESCRIPTION:Schalkau
DTSTART;TZID=Europe/Berlin:20160402T130000
DTEND;TZID=Europe/Berlin:20160402T144500
LOCATION:Katzberger Straße 6\n96528 Schalkau\, 96528 Schalkau
SUMMARY:15/16 Herren 2.KK-O: SG Lauscha/Neuhaus II - SC 06 Oberlind II
END:VEVENT
BEGIN:VEVENT
UID:20260421T232707CEST-5276RXhmKL@85.13.129.106
DTSTAMP:20260421T212707Z
DESCRIPTION:Schalkau
DTSTART;TZID=Europe/Berlin:20160409T160000
DTEND;TZID=Europe/Berlin:20160409T174500
LOCATION:Katzberger Straße 6\n96528 Schalkau\, 96528 Schalkau
SUMMARY:15/16 Herren 2.KK-O: SV Rennsteig Ernstthal - SG Lauscha/Neuhaus II
END:VEVENT
BEGIN:VEVENT
UID:20260421T232707CEST-5281npHelA@85.13.129.106
DTSTAMP:20260421T212707Z
DESCRIPTION:Schalkau
DTSTART;TZID=Europe/Berlin:20160416T130000
DTEND;TZID=Europe/Berlin:20160416T144500
LOCATION:Katzberger Straße 6\n96528 Schalkau\, 96528 Schalkau
SUMMARY:15/16 Herren 2.KK-O: SG Lauscha/Neuhaus II - SG Haselbach/ Hasentha
 l
END:VEVENT
BEGIN:VEVENT
UID:20260421T232707CEST-5285vzZIna@85.13.129.106
DTSTAMP:20260421T212707Z
DESCRIPTION:Schalkau
DTSTART;TZID=Europe/Berlin:20160423T130000
DTEND;TZID=Europe/Berlin:20160423T144500
LOCATION:Katzberger Straße 6\n96528 Schalkau\, 96528 Schalkau
SUMMARY:15/16 Herren 2.KK-O: SG SV 08 Steinach III - SG Lauscha/Neuhaus II
END:VEVENT
BEGIN:VEVENT
UID:20260421T232707CEST-5289Rcv4Td@85.13.129.106
DTSTAMP:20260421T212707Z
DESCRIPTION:Schalkau
DTSTART;TZID=Europe/Berlin:20160430T130000
DTEND;TZID=Europe/Berlin:20160430T144500
LOCATION:Katzberger Straße 6\n96528 Schalkau\, 96528 Schalkau
SUMMARY:15/16 Herren 2.KK-O: SG Lauscha/Neuhaus II - TSV 1923 Neuenbau
END:VEVENT
BEGIN:VEVENT
UID:20260421T232707CEST-5294ceUaEw@85.13.129.106
DTSTAMP:20260421T212707Z
DESCRIPTION:Schalkau
DTSTART;TZID=Europe/Berlin:20160507T130000
DTEND;TZID=Europe/Berlin:20160507T144500
LOCATION:Katzberger Straße 6\n96528 Schalkau\, 96528 Schalkau
SUMMARY:15/16 Herren 2.KK-O: SG 1951 Sonneberg II - SG Lauscha/Neuhaus II
END:VEVENT
BEGIN:VEVENT
UID:20260421T232707CEST-52986nfURs@85.13.129.106
DTSTAMP:20260421T212707Z
DESCRIPTION:Schalkau
DTSTART;TZID=Europe/Berlin:20160514T150000
DTEND;TZID=Europe/Berlin:20160514T164500
LOCATION:Katzberger Straße 6\n96528 Schalkau\, 96528 Schalkau
SUMMARY:15/16 Herren 2.KK-O: SG Lauscha/Neuhaus II - 1. FC Sonneberg 04 II
END:VEVENT
BEGIN:VEVENT
UID:20260421T232707CEST-5302AUCwuG@85.13.129.106
DTSTAMP:20260421T212707Z
DESCRIPTION:Schalkau
DTSTART;TZID=Europe/Berlin:20160528T160000
DTEND;TZID=Europe/Berlin:20160528T174500
LOCATION:Katzberger Straße 6\n96528 Schalkau\, 96528 Schalkau
SUMMARY:15/16 Herren 2.KK-O: 1. FC Köppelsdorf II - SG Lauscha/Neuhaus II
END:VEVENT
BEGIN:VEVENT
UID:20260421T232707CEST-5307cu0lgz@85.13.129.106
DTSTAMP:20260421T212707Z
DESCRIPTION:Schalkau
DTSTART;TZID=Europe/Berlin:20160604T140000
DTEND;TZID=Europe/Berlin:20160604T154500
LOCATION:Katzberger Straße 6\n96528 Schalkau\, 96528 Schalkau
SUMMARY:15/16 Herren 2.KK-O: SG Lauscha/Neuhaus II - SV Rottmar/Gefell
END:VEVENT
END:VCALENDAR
