BEGIN:VCALENDAR
VERSION:2.0
PRODID:-//85.13.129.106//NONSGML kigkonsult.se iCalcreator 2.10.23//
BEGIN:VEVENT
UID:20260425T194231CEST-2231GuFhvO@85.13.129.106
DTSTAMP:20260425T174231Z
DESCRIPTION:
DTSTART;TZID=Europe/Berlin:20150802T130000
DTEND;TZID=Europe/Berlin:20150802T144500
LOCATION:
SUMMARY:15/16 Herren 2.KK-O: SC 06 Oberlind II - 1. FC Köppelsdorf II
END:VEVENT
BEGIN:VEVENT
UID:20260425T194231CEST-22365ZgEvB@85.13.129.106
DTSTAMP:20260425T174231Z
DESCRIPTION:
DTSTART;TZID=Europe/Berlin:20150809T150000
DTEND;TZID=Europe/Berlin:20150809T164500
LOCATION:
SUMMARY:15/16 Herren 2.KK-O: SV Rottmar/Gefell - SC 06 Oberlind II
END:VEVENT
BEGIN:VEVENT
UID:20260425T194231CEST-2240kFALJn@85.13.129.106
DTSTAMP:20260425T174231Z
DESCRIPTION:
DTSTART;TZID=Europe/Berlin:20160326T140000
DTEND;TZID=Europe/Berlin:20160326T154500
LOCATION:
SUMMARY:15/16 Herren 2.KK-O: SC 06 Oberlind II - FC-BW Schalkau II
END:VEVENT
BEGIN:VEVENT
UID:20260425T194231CEST-2244Hj3UNU@85.13.129.106
DTSTAMP:20260425T174231Z
DESCRIPTION:
DTSTART;TZID=Europe/Berlin:20150829T160000
DTEND;TZID=Europe/Berlin:20150829T174500
LOCATION:
SUMMARY:15/16 Herren 2.KK-O: SC 06 Oberlind II - SG Lauscha/Neuhaus II
END:VEVENT
BEGIN:VEVENT
UID:20260425T194231CEST-2249VogKPU@85.13.129.106
DTSTAMP:20260425T174231Z
DESCRIPTION:
DTSTART;TZID=Europe/Berlin:20150906T150000
DTEND;TZID=Europe/Berlin:20150906T164500
LOCATION:
SUMMARY:15/16 Herren 2.KK-O: FC Heinersdorf - SC 06 Oberlind II
END:VEVENT
BEGIN:VEVENT
UID:20260425T194231CEST-2253CFAbUW@85.13.129.106
DTSTAMP:20260425T174231Z
DESCRIPTION:
DTSTART;TZID=Europe/Berlin:20150913T130000
DTEND;TZID=Europe/Berlin:20150913T144500
LOCATION:
SUMMARY:15/16 Herren 2.KK-O: SV Iso. Neuhaus Schierschnitz II - SC 06 Oberl
 ind II
END:VEVENT
BEGIN:VEVENT
UID:20260425T194231CEST-2257tDSGGv@85.13.129.106
DTSTAMP:20260425T174231Z
DESCRIPTION:
DTSTART;TZID=Europe/Berlin:20150920T130000
DTEND;TZID=Europe/Berlin:20150920T144500
LOCATION:
SUMMARY:15/16 Herren 2.KK-O: SC 06 Oberlind II - SV Rennsteig Ernstthal
END:VEVENT
BEGIN:VEVENT
UID:20260425T194231CEST-2262V6r0bz@85.13.129.106
DTSTAMP:20260425T174231Z
DESCRIPTION:
DTSTART;TZID=Europe/Berlin:20150927T150000
DTEND;TZID=Europe/Berlin:20150927T164500
LOCATION:
SUMMARY:15/16 Herren 2.KK-O: SG Haselbach/ Hasenthal - SC 06 Oberlind II
END:VEVENT
BEGIN:VEVENT
UID:20260425T194231CEST-2266jHvbi5@85.13.129.106
DTSTAMP:20260425T174231Z
DESCRIPTION:
DTSTART;TZID=Europe/Berlin:20151004T130000
DTEND;TZID=Europe/Berlin:20151004T144500
LOCATION:
SUMMARY:15/16 Herren 2.KK-O: SC 06 Oberlind II - SG SV 08 Steinach III
END:VEVENT
BEGIN:VEVENT
UID:20260425T194231CEST-2270Vhbwuo@85.13.129.106
DTSTAMP:20260425T174231Z
DESCRIPTION:
DTSTART;TZID=Europe/Berlin:20151011T150000
DTEND;TZID=Europe/Berlin:20151011T164500
LOCATION:
SUMMARY:15/16 Herren 2.KK-O: TSV 1923 Neuenbau - SC 06 Oberlind II
END:VEVENT
BEGIN:VEVENT
UID:20260425T194231CEST-2274hIIVO1@85.13.129.106
DTSTAMP:20260425T174231Z
DESCRIPTION:
DTSTART;TZID=Europe/Berlin:20151018T130000
DTEND;TZID=Europe/Berlin:20151018T144500
LOCATION:
SUMMARY:15/16 Herren 2.KK-O: SC 06 Oberlind II - SG 1951 Sonneberg II
END:VEVENT
BEGIN:VEVENT
UID:20260425T194231CEST-2279FB6fhO@85.13.129.106
DTSTAMP:20260425T174231Z
DESCRIPTION:
DTSTART;TZID=Europe/Berlin:20151024T150000
DTEND;TZID=Europe/Berlin:20151024T164500
LOCATION:
SUMMARY:15/16 Herren 2.KK-O: 1. FC Sonneberg 04 II - SC 06 Oberlind II
END:VEVENT
BEGIN:VEVENT
UID:20260425T194231CEST-22830h9wwC@85.13.129.106
DTSTAMP:20260425T174231Z
DESCRIPTION:
DTSTART;TZID=Europe/Berlin:20151031T120000
DTEND;TZID=Europe/Berlin:20151031T134500
LOCATION:
SUMMARY:15/16 Herren 2.KK-O: 1. FC Köppelsdorf II - SC 06 Oberlind II
END:VEVENT
BEGIN:VEVENT
UID:20260425T194231CEST-22878Kb2zW@85.13.129.106
DTSTAMP:20260425T174231Z
DESCRIPTION:
DTSTART;TZID=Europe/Berlin:20151108T123000
DTEND;TZID=Europe/Berlin:20151108T141500
LOCATION:
SUMMARY:15/16 Herren 2.KK-O: SC 06 Oberlind II - SV Rottmar/Gefell
END:VEVENT
BEGIN:VEVENT
UID:20260425T194231CEST-2292Evnwsa@85.13.129.106
DTSTAMP:20260425T174231Z
DESCRIPTION:Schalkau
DTSTART;TZID=Europe/Berlin:20160313T130000
DTEND;TZID=Europe/Berlin:20160313T144500
LOCATION:Katzberger Straße 6\n96528 Schalkau\, 96528 Schalkau
SUMMARY:15/16 Herren 2.KK-O: FC-BW Schalkau II - SC 06 Oberlind II
END:VEVENT
BEGIN:VEVENT
UID:20260425T194231CEST-2296XuIWAb@85.13.129.106
DTSTAMP:20260425T174231Z
DESCRIPTION:Schalkau
DTSTART;TZID=Europe/Berlin:20160402T130000
DTEND;TZID=Europe/Berlin:20160402T144500
LOCATION:Katzberger Straße 6\n96528 Schalkau\, 96528 Schalkau
SUMMARY:15/16 Herren 2.KK-O: SG Lauscha/Neuhaus II - SC 06 Oberlind II
END:VEVENT
BEGIN:VEVENT
UID:20260425T194231CEST-23001bFHfC@85.13.129.106
DTSTAMP:20260425T174231Z
DESCRIPTION:Schalkau
DTSTART;TZID=Europe/Berlin:20160514T150000
DTEND;TZID=Europe/Berlin:20160514T164500
LOCATION:Katzberger Straße 6\n96528 Schalkau\, 96528 Schalkau
SUMMARY:15/16 Herren 2.KK-O: SC 06 Oberlind II - FC Heinersdorf
END:VEVENT
BEGIN:VEVENT
UID:20260425T194231CEST-2304H2wuOI@85.13.129.106
DTSTAMP:20260425T174231Z
DESCRIPTION:Schalkau
DTSTART;TZID=Europe/Berlin:20160417T130000
DTEND;TZID=Europe/Berlin:20160417T144500
LOCATION:Katzberger Straße 6\n96528 Schalkau\, 96528 Schalkau
SUMMARY:15/16 Herren 2.KK-O: SC 06 Oberlind II - SV Iso. Neuhaus Schierschn
 itz II
END:VEVENT
BEGIN:VEVENT
UID:20260425T194231CEST-23082JZWI2@85.13.129.106
DTSTAMP:20260425T174231Z
DESCRIPTION:Schalkau
DTSTART;TZID=Europe/Berlin:20160424T150000
DTEND;TZID=Europe/Berlin:20160424T164500
LOCATION:Katzberger Straße 6\n96528 Schalkau\, 96528 Schalkau
SUMMARY:15/16 Herren 2.KK-O: SV Rennsteig Ernstthal - SC 06 Oberlind II
END:VEVENT
BEGIN:VEVENT
UID:20260425T194231CEST-2312G55dUD@85.13.129.106
DTSTAMP:20260425T174231Z
DESCRIPTION:Schalkau
DTSTART;TZID=Europe/Berlin:20160501T130000
DTEND;TZID=Europe/Berlin:20160501T144500
LOCATION:Katzberger Straße 6\n96528 Schalkau\, 96528 Schalkau
SUMMARY:15/16 Herren 2.KK-O: SC 06 Oberlind II - SG Haselbach/ Hasenthal
END:VEVENT
BEGIN:VEVENT
UID:20260425T194231CEST-2316AxAI8g@85.13.129.106
DTSTAMP:20260425T174231Z
DESCRIPTION:Schalkau
DTSTART;TZID=Europe/Berlin:20160507T130000
DTEND;TZID=Europe/Berlin:20160507T144500
LOCATION:Katzberger Straße 6\n96528 Schalkau\, 96528 Schalkau
SUMMARY:15/16 Herren 2.KK-O: SG SV 08 Steinach III - SC 06 Oberlind II
END:VEVENT
BEGIN:VEVENT
UID:20260425T194231CEST-2321ZN07WA@85.13.129.106
DTSTAMP:20260425T174231Z
DESCRIPTION:Schalkau
DTSTART;TZID=Europe/Berlin:20160521T130000
DTEND;TZID=Europe/Berlin:20160521T144500
LOCATION:Katzberger Straße 6\n96528 Schalkau\, 96528 Schalkau
SUMMARY:15/16 Herren 2.KK-O: SC 06 Oberlind II - TSV 1923 Neuenbau
END:VEVENT
BEGIN:VEVENT
UID:20260425T194231CEST-2325kUlhuC@85.13.129.106
DTSTAMP:20260425T174231Z
DESCRIPTION:Schalkau
DTSTART;TZID=Europe/Berlin:20160528T130000
DTEND;TZID=Europe/Berlin:20160528T144500
LOCATION:Katzberger Straße 6\n96528 Schalkau\, 96528 Schalkau
SUMMARY:15/16 Herren 2.KK-O: SG 1951 Sonneberg II - SC 06 Oberlind II
END:VEVENT
BEGIN:VEVENT
UID:20260425T194231CEST-2329ZGg0Wt@85.13.129.106
DTSTAMP:20260425T174231Z
DESCRIPTION:Schalkau
DTSTART;TZID=Europe/Berlin:20160604T140000
DTEND;TZID=Europe/Berlin:20160604T154500
LOCATION:Katzberger Straße 6\n96528 Schalkau\, 96528 Schalkau
SUMMARY:15/16 Herren 2.KK-O: SC 06 Oberlind II - 1. FC Sonneberg 04 II
END:VEVENT
END:VCALENDAR
