BEGIN:VCALENDAR
VERSION:2.0
PRODID:-//85.13.129.106//NONSGML kigkonsult.se iCalcreator 2.10.23//
BEGIN:VEVENT
UID:20260423T183941CEST-2860uei0F0@85.13.129.106
DTSTAMP:20260423T163941Z
DESCRIPTION:
DTSTART;TZID=Europe/Berlin:20140720T150000
DTEND;TZID=Europe/Berlin:20140720T164500
LOCATION:
SUMMARY:14/15 Herren Kreispokal: SV 07 Häselrieth - SV Eintracht Heldburg
END:VEVENT
BEGIN:VEVENT
UID:20260423T183941CEST-28650S8Vdo@85.13.129.106
DTSTAMP:20260423T163941Z
DESCRIPTION:
DTSTART;TZID=Europe/Berlin:20141003T140000
DTEND;TZID=Europe/Berlin:20141003T154500
LOCATION:
SUMMARY:14/15 Herren Kreispokal: SC 09 Effelder II - SV Eintracht Heldburg
END:VEVENT
BEGIN:VEVENT
UID:20260423T183941CEST-286977UeUc@85.13.129.106
DTSTAMP:20260423T163941Z
DESCRIPTION:
DTSTART;TZID=Europe/Berlin:20141122T133000
DTEND;TZID=Europe/Berlin:20141122T151500
LOCATION:
SUMMARY:14/15 Herren Kreispokal: TSV 1868 Ummerstadt - SV Eintracht Heldbur
 g
END:VEVENT
END:VCALENDAR
