BEGIN:VCALENDAR
VERSION:2.0
PRODID:-//85.13.129.106//NONSGML kigkonsult.se iCalcreator 2.10.23//
BEGIN:VEVENT
UID:20260421T082915CEST-2015Vo0Jg9@85.13.129.106
DTSTAMP:20260421T062915Z
DESCRIPTION:
DTSTART;TZID=Europe/Amsterdam:20130918T180000
DTEND;TZID=Europe/Amsterdam:20130918T194500
LOCATION:
SUMMARY:13/14 D-Jun. Pokal: Freilos - SG Lauscha/Neuhaus D
END:VEVENT
BEGIN:VEVENT
UID:20260421T082915CEST-20205GgVhE@85.13.129.106
DTSTAMP:20260421T062915Z
DESCRIPTION:
DTSTART;TZID=Europe/Amsterdam:20131006T103000
DTEND;TZID=Europe/Amsterdam:20131006T121500
LOCATION:
SUMMARY:13/14 D-Jun. Pokal: SG Lauscha/Neuhaus D - SG Neuhaus Schierschnitz
  D
END:VEVENT
END:VCALENDAR
