BEGIN:VCALENDAR
VERSION:2.0
PRODID:-//85.13.129.106//NONSGML kigkonsult.se iCalcreator 2.10.23//
BEGIN:VEVENT
UID:20260423T170151CEST-9619s9p7VI@85.13.129.106
DTSTAMP:20260423T150151Z
DESCRIPTION:
DTSTART;TZID=Europe/Berlin:20160813T140000
DTEND;TZID=Europe/Berlin:20160813T154500
LOCATION:
SUMMARY:16/17 Herren 2.KK-O: 1. FC Köppelsdorf II - SG Heinersdorf/Neuenbau
END:VEVENT
BEGIN:VEVENT
UID:20260423T170151CEST-9624l9rouh@85.13.129.106
DTSTAMP:20260423T150151Z
DESCRIPTION:
DTSTART;TZID=Europe/Berlin:20160821T150000
DTEND;TZID=Europe/Berlin:20160821T164500
LOCATION:
SUMMARY:16/17 Herren 2.KK-O: SG Heinersdorf/Neuenbau - SG 1951 Sonneberg II
END:VEVENT
BEGIN:VEVENT
UID:20260423T170151CEST-9628mraU4k@85.13.129.106
DTSTAMP:20260423T150151Z
DESCRIPTION:
DTSTART;TZID=Europe/Berlin:20160828T130000
DTEND;TZID=Europe/Berlin:20160828T144500
LOCATION:
SUMMARY:16/17 Herren 2.KK-O: SV Iso. Neuhaus Schierschnitz II - SG Heinersd
 orf/Neuenbau
END:VEVENT
BEGIN:VEVENT
UID:20260423T170151CEST-9632RLH3ks@85.13.129.106
DTSTAMP:20260423T150151Z
DESCRIPTION:
DTSTART;TZID=Europe/Berlin:20160904T150000
DTEND;TZID=Europe/Berlin:20160904T164500
LOCATION:
SUMMARY:16/17 Herren 2.KK-O: SG Heinersdorf/Neuenbau - SG Lauscha/Neuhaus I
 I
END:VEVENT
BEGIN:VEVENT
UID:20260423T170151CEST-9637I5UVGj@85.13.129.106
DTSTAMP:20260423T150151Z
DESCRIPTION:
DTSTART;TZID=Europe/Berlin:20160911T130000
DTEND;TZID=Europe/Berlin:20160911T144500
LOCATION:
SUMMARY:16/17 Herren 2.KK-O: SC 06 Oberlind II - SG Heinersdorf/Neuenbau
END:VEVENT
BEGIN:VEVENT
UID:20260423T170151CEST-9641NBAAlM@85.13.129.106
DTSTAMP:20260423T150151Z
DESCRIPTION:
DTSTART;TZID=Europe/Berlin:20160918T150000
DTEND;TZID=Europe/Berlin:20160918T164500
LOCATION:
SUMMARY:16/17 Herren 2.KK-O: SG Heinersdorf/Neuenbau - SG Haselbach/ Hasent
 hal
END:VEVENT
BEGIN:VEVENT
UID:20260423T170151CEST-9645ExmKwh@85.13.129.106
DTSTAMP:20260423T150151Z
DESCRIPTION:
DTSTART;TZID=Europe/Berlin:20160925T150000
DTEND;TZID=Europe/Berlin:20160925T164500
LOCATION:
SUMMARY:16/17 Herren 2.KK-O: SV Rottmar/Gefell - SG Heinersdorf/Neuenbau
END:VEVENT
BEGIN:VEVENT
UID:20260423T170151CEST-9650FvFjFs@85.13.129.106
DTSTAMP:20260423T150151Z
DESCRIPTION:Schalkau
DTSTART;TZID=Europe/Berlin:20161009T130000
DTEND;TZID=Europe/Berlin:20161009T144500
LOCATION:Katzberger Straße 6\n96528 Schalkau\, 96528 Schalkau
SUMMARY:16/17 Herren 2.KK-O: FC-BW Schalkau II - SG Heinersdorf/Neuenbau
END:VEVENT
BEGIN:VEVENT
UID:20260423T170151CEST-9654JOcCCS@85.13.129.106
DTSTAMP:20260423T150151Z
DESCRIPTION:Schalkau
DTSTART;TZID=Europe/Berlin:20161023T150000
DTEND;TZID=Europe/Berlin:20161023T164500
LOCATION:Katzberger Straße 6\n96528 Schalkau\, 96528 Schalkau
SUMMARY:16/17 Herren 2.KK-O: SG Heinersdorf/Neuenbau - SG SV 08 Steinach II
 I
END:VEVENT
BEGIN:VEVENT
UID:20260423T170151CEST-9658oL24zl@85.13.129.106
DTSTAMP:20260423T150151Z
DESCRIPTION:Schalkau
DTSTART;TZID=Europe/Berlin:20161106T140000
DTEND;TZID=Europe/Berlin:20161106T154500
LOCATION:Katzberger Straße 6\n96528 Schalkau\, 96528 Schalkau
SUMMARY:16/17 Herren 2.KK-O: SG Heinersdorf/Neuenbau - 1. FC Köppelsdorf II
END:VEVENT
BEGIN:VEVENT
UID:20260423T170151CEST-9662OuZSEz@85.13.129.106
DTSTAMP:20260423T150151Z
DESCRIPTION:Schalkau
DTSTART;TZID=Europe/Berlin:20170415T130000
DTEND;TZID=Europe/Berlin:20170415T144500
LOCATION:Katzberger Straße 6\n96528 Schalkau\, 96528 Schalkau
SUMMARY:16/17 Herren 2.KK-O: SG 1951 Sonneberg II - SG Heinersdorf/Neuenbau
END:VEVENT
BEGIN:VEVENT
UID:20260423T170151CEST-9667iD2sU5@85.13.129.106
DTSTAMP:20260423T150151Z
DESCRIPTION:Schalkau
DTSTART;TZID=Europe/Berlin:20170326T150000
DTEND;TZID=Europe/Berlin:20170326T164500
LOCATION:Katzberger Straße 6\n96528 Schalkau\, 96528 Schalkau
SUMMARY:16/17 Herren 2.KK-O: SG Heinersdorf/Neuenbau - SV Iso. Neuhaus Schi
 erschnitz II
END:VEVENT
BEGIN:VEVENT
UID:20260423T170151CEST-9671CgC1uO@85.13.129.106
DTSTAMP:20260423T150151Z
DESCRIPTION:Schalkau
DTSTART;TZID=Europe/Berlin:20170402T150000
DTEND;TZID=Europe/Berlin:20170402T164500
LOCATION:Katzberger Straße 6\n96528 Schalkau\, 96528 Schalkau
SUMMARY:16/17 Herren 2.KK-O: SG Lauscha/Neuhaus II - SG Heinersdorf/Neuenba
 u
END:VEVENT
BEGIN:VEVENT
UID:20260423T170151CEST-9675AlX0uI@85.13.129.106
DTSTAMP:20260423T150151Z
DESCRIPTION:Schalkau
DTSTART;TZID=Europe/Berlin:20170409T150000
DTEND;TZID=Europe/Berlin:20170409T164500
LOCATION:Katzberger Straße 6\n96528 Schalkau\, 96528 Schalkau
SUMMARY:16/17 Herren 2.KK-O: SG Heinersdorf/Neuenbau - SC 06 Oberlind II
END:VEVENT
BEGIN:VEVENT
UID:20260423T170151CEST-9679DnGGHF@85.13.129.106
DTSTAMP:20260423T150151Z
DESCRIPTION:Schalkau
DTSTART;TZID=Europe/Berlin:20170423T150000
DTEND;TZID=Europe/Berlin:20170423T164500
LOCATION:Katzberger Straße 6\n96528 Schalkau\, 96528 Schalkau
SUMMARY:16/17 Herren 2.KK-O: SG Haselbach/ Hasenthal - SG Heinersdorf/Neuen
 bau
END:VEVENT
BEGIN:VEVENT
UID:20260423T170151CEST-9683AUSu7g@85.13.129.106
DTSTAMP:20260423T150151Z
DESCRIPTION:Schalkau
DTSTART;TZID=Europe/Berlin:20170507T150000
DTEND;TZID=Europe/Berlin:20170507T164500
LOCATION:Katzberger Straße 6\n96528 Schalkau\, 96528 Schalkau
SUMMARY:16/17 Herren 2.KK-O: SG Heinersdorf/Neuenbau - SV Rottmar/Gefell
END:VEVENT
BEGIN:VEVENT
UID:20260423T170151CEST-9688zvtSDv@85.13.129.106
DTSTAMP:20260423T150151Z
DESCRIPTION:Schalkau
DTSTART;TZID=Europe/Berlin:20170521T150000
DTEND;TZID=Europe/Berlin:20170521T164500
LOCATION:Katzberger Straße 6\n96528 Schalkau\, 96528 Schalkau
SUMMARY:16/17 Herren 2.KK-O: SG Heinersdorf/Neuenbau - FC-BW Schalkau II
END:VEVENT
BEGIN:VEVENT
UID:20260423T170151CEST-9692s0um3P@85.13.129.106
DTSTAMP:20260423T150151Z
DESCRIPTION:Schalkau
DTSTART;TZID=Europe/Berlin:20170528T140000
DTEND;TZID=Europe/Berlin:20170528T154500
LOCATION:Katzberger Straße 6\n96528 Schalkau\, 96528 Schalkau
SUMMARY:16/17 Herren 2.KK-O: SG SV 08 Steinach III - SG Heinersdorf/Neuenba
 u
END:VEVENT
END:VCALENDAR
