BEGIN:VCALENDAR
VERSION:2.0
PRODID:-//85.13.129.106//NONSGML kigkonsult.se iCalcreator 2.10.23//
BEGIN:VEVENT
UID:20260421T041851CEST-22706u0CVt@85.13.129.106
DTSTAMP:20260421T021851Z
DESCRIPTION:
DTSTART;TZID=Europe/Berlin:20161001T130000
DTEND;TZID=Europe/Berlin:20161001T144500
LOCATION:
SUMMARY:16/17 Herren 2.KK-O: SG 1951 Sonneberg II - SV Rottmar/Gefell
END:VEVENT
BEGIN:VEVENT
UID:20260421T041851CEST-2274m6Ir5H@85.13.129.106
DTSTAMP:20260421T021851Z
DESCRIPTION:
DTSTART;TZID=Europe/Berlin:20161002T150000
DTEND;TZID=Europe/Berlin:20161002T164500
LOCATION:
SUMMARY:16/17 Herren 2.KK-O: SV Rottmar/Gefell - SV Iso. Neuhaus Schierschn
 itz II
END:VEVENT
BEGIN:VEVENT
UID:20260421T041851CEST-2279ea2OVP@85.13.129.106
DTSTAMP:20260421T021851Z
DESCRIPTION:
DTSTART;TZID=Europe/Berlin:20160827T130000
DTEND;TZID=Europe/Berlin:20160827T144500
LOCATION:
SUMMARY:16/17 Herren 2.KK-O: SG Lauscha/Neuhaus II - SV Rottmar/Gefell
END:VEVENT
BEGIN:VEVENT
UID:20260421T041851CEST-2284NiiPGV@85.13.129.106
DTSTAMP:20260421T021851Z
DESCRIPTION:
DTSTART;TZID=Europe/Berlin:20160904T150000
DTEND;TZID=Europe/Berlin:20160904T164500
LOCATION:
SUMMARY:16/17 Herren 2.KK-O: SV Rottmar/Gefell - SC 06 Oberlind II
END:VEVENT
BEGIN:VEVENT
UID:20260421T041851CEST-2289sBzRtC@85.13.129.106
DTSTAMP:20260421T021851Z
DESCRIPTION:
DTSTART;TZID=Europe/Berlin:20160911T150000
DTEND;TZID=Europe/Berlin:20160911T164500
LOCATION:
SUMMARY:16/17 Herren 2.KK-O: SG Haselbach/ Hasenthal - SV Rottmar/Gefell
END:VEVENT
BEGIN:VEVENT
UID:20260421T041851CEST-2293OpkZnz@85.13.129.106
DTSTAMP:20260421T021851Z
DESCRIPTION:
DTSTART;TZID=Europe/Berlin:20160918T150000
DTEND;TZID=Europe/Berlin:20160918T164500
LOCATION:
SUMMARY:16/17 Herren 2.KK-O: SV Rottmar/Gefell - FC-BW Schalkau II
END:VEVENT
BEGIN:VEVENT
UID:20260421T041851CEST-2298hePErc@85.13.129.106
DTSTAMP:20260421T021851Z
DESCRIPTION:
DTSTART;TZID=Europe/Berlin:20160925T150000
DTEND;TZID=Europe/Berlin:20160925T164500
LOCATION:
SUMMARY:16/17 Herren 2.KK-O: SV Rottmar/Gefell - SG Heinersdorf/Neuenbau
END:VEVENT
BEGIN:VEVENT
UID:20260421T041851CEST-2303E19z5v@85.13.129.106
DTSTAMP:20260421T021851Z
DESCRIPTION:
DTSTART;TZID=Europe/Berlin:20161009T130000
DTEND;TZID=Europe/Berlin:20161009T144500
LOCATION:
SUMMARY:16/17 Herren 2.KK-O: SG SV 08 Steinach III - SV Rottmar/Gefell
END:VEVENT
BEGIN:VEVENT
UID:20260421T041851CEST-230712VMN0@85.13.129.106
DTSTAMP:20260421T021851Z
DESCRIPTION:
DTSTART;TZID=Europe/Berlin:20161023T150000
DTEND;TZID=Europe/Berlin:20161023T164500
LOCATION:
SUMMARY:16/17 Herren 2.KK-O: SV Rottmar/Gefell - 1. FC Köppelsdorf II
END:VEVENT
BEGIN:VEVENT
UID:20260421T041851CEST-2311HHcM4G@85.13.129.106
DTSTAMP:20260421T021851Z
DESCRIPTION:
DTSTART;TZID=Europe/Berlin:20161106T140000
DTEND;TZID=Europe/Berlin:20161106T154500
LOCATION:
SUMMARY:16/17 Herren 2.KK-O: SV Rottmar/Gefell - SG 1951 Sonneberg II
END:VEVENT
BEGIN:VEVENT
UID:20260421T041851CEST-2316r8wLBx@85.13.129.106
DTSTAMP:20260421T021851Z
DESCRIPTION:
DTSTART;TZID=Europe/Berlin:20170430T130000
DTEND;TZID=Europe/Berlin:20170430T144500
LOCATION:
SUMMARY:16/17 Herren 2.KK-O: SV Iso. Neuhaus Schierschnitz II - SV Rottmar/
 Gefell
END:VEVENT
BEGIN:VEVENT
UID:20260421T041851CEST-2320zv0do0@85.13.129.106
DTSTAMP:20260421T021851Z
DESCRIPTION:
DTSTART;TZID=Europe/Berlin:20170326T150000
DTEND;TZID=Europe/Berlin:20170326T164500
LOCATION:
SUMMARY:16/17 Herren 2.KK-O: SG Lauscha/Neuhaus II - SV Rottmar/Gefell
END:VEVENT
BEGIN:VEVENT
UID:20260421T041851CEST-23249aux08@85.13.129.106
DTSTAMP:20260421T021851Z
DESCRIPTION:
DTSTART;TZID=Europe/Berlin:20170513T160000
DTEND;TZID=Europe/Berlin:20170513T174500
LOCATION:
SUMMARY:16/17 Herren 2.KK-O: SC 06 Oberlind II - SV Rottmar/Gefell
END:VEVENT
BEGIN:VEVENT
UID:20260421T041851CEST-2329NJJ056@85.13.129.106
DTSTAMP:20260421T021851Z
DESCRIPTION:
DTSTART;TZID=Europe/Berlin:20170409T150000
DTEND;TZID=Europe/Berlin:20170409T164500
LOCATION:
SUMMARY:16/17 Herren 2.KK-O: SV Rottmar/Gefell - SG Haselbach/ Hasenthal
END:VEVENT
BEGIN:VEVENT
UID:20260421T041851CEST-2333ntF7tx@85.13.129.106
DTSTAMP:20260421T021851Z
DESCRIPTION:Schalkau
DTSTART;TZID=Europe/Berlin:20170423T130000
DTEND;TZID=Europe/Berlin:20170423T144500
LOCATION:Katzberger Straße 6\n96528 Schalkau\, 96528 Schalkau
SUMMARY:16/17 Herren 2.KK-O: FC-BW Schalkau II - SV Rottmar/Gefell
END:VEVENT
BEGIN:VEVENT
UID:20260421T041851CEST-2337cB9LNB@85.13.129.106
DTSTAMP:20260421T021851Z
DESCRIPTION:Schalkau
DTSTART;TZID=Europe/Berlin:20170507T150000
DTEND;TZID=Europe/Berlin:20170507T164500
LOCATION:Katzberger Straße 6\n96528 Schalkau\, 96528 Schalkau
SUMMARY:16/17 Herren 2.KK-O: SG Heinersdorf/Neuenbau - SV Rottmar/Gefell
END:VEVENT
BEGIN:VEVENT
UID:20260421T041851CEST-2341wuiHn5@85.13.129.106
DTSTAMP:20260421T021851Z
DESCRIPTION:Schalkau
DTSTART;TZID=Europe/Berlin:20170521T150000
DTEND;TZID=Europe/Berlin:20170521T164500
LOCATION:Katzberger Straße 6\n96528 Schalkau\, 96528 Schalkau
SUMMARY:16/17 Herren 2.KK-O: SV Rottmar/Gefell - SG SV 08 Steinach III
END:VEVENT
BEGIN:VEVENT
UID:20260421T041851CEST-23466dBo3h@85.13.129.106
DTSTAMP:20260421T021851Z
DESCRIPTION:Schalkau
DTSTART;TZID=Europe/Berlin:20170527T150000
DTEND;TZID=Europe/Berlin:20170527T164500
LOCATION:Katzberger Straße 6\n96528 Schalkau\, 96528 Schalkau
SUMMARY:16/17 Herren 2.KK-O: 1. FC Köppelsdorf II - SV Rottmar/Gefell
END:VEVENT
END:VCALENDAR
