BEGIN:VCALENDAR
VERSION:2.0
PRODID:-//85.13.129.106//NONSGML kigkonsult.se iCalcreator 2.10.23//
BEGIN:VEVENT
UID:20260423T063728CEST-7272KRmjv2@85.13.129.106
DTSTAMP:20260423T043728Z
DESCRIPTION:
DTSTART;TZID=Europe/Berlin:20160522T105000
DTEND;TZID=Europe/Berlin:20160522T123500
LOCATION:
SUMMARY:15/16 F1-Jun. KOL: SG Effelder/Schalkau F - TSV 1911 Themar F
END:VEVENT
BEGIN:VEVENT
UID:20260423T063728CEST-7277Ush8mR@85.13.129.106
DTSTAMP:20260423T043728Z
DESCRIPTION:
DTSTART;TZID=Europe/Berlin:20160612T101000
DTEND;TZID=Europe/Berlin:20160612T115500
LOCATION:
SUMMARY:15/16 F1-Jun. KOL: TSV 1911 Themar F - SC 06 Oberlind F
END:VEVENT
BEGIN:VEVENT
UID:20260423T063728CEST-7281hvDV5C@85.13.129.106
DTSTAMP:20260423T043728Z
DESCRIPTION:
DTSTART;TZID=Europe/Berlin:20160501T120000
DTEND;TZID=Europe/Berlin:20160501T134500
LOCATION:
SUMMARY:15/16 F1-Jun. KOL: SV Empor 90 Eishausen F - TSV 1911 Themar F
END:VEVENT
BEGIN:VEVENT
UID:20260423T063728CEST-7285N34f3o@85.13.129.106
DTSTAMP:20260423T043728Z
DESCRIPTION:
DTSTART;TZID=Europe/Berlin:20160605T103000
DTEND;TZID=Europe/Berlin:20160605T121500
LOCATION:
SUMMARY:15/16 F1-Jun. KOL: SG Goßmannsrod/Oberland F - TSV 1911 Themar F
END:VEVENT
BEGIN:VEVENT
UID:20260423T063728CEST-7290v0u3SR@85.13.129.106
DTSTAMP:20260423T043728Z
DESCRIPTION:
DTSTART;TZID=Europe/Berlin:20160501T093000
DTEND;TZID=Europe/Berlin:20160501T111500
LOCATION:
SUMMARY:15/16 F1-Jun. KOL: TSV 1911 Themar F - SG Effelder/Schalkau F
END:VEVENT
BEGIN:VEVENT
UID:20260423T063728CEST-7294Z9urnc@85.13.129.106
DTSTAMP:20260423T043728Z
DESCRIPTION:
DTSTART;TZID=Europe/Berlin:20160501T113000
DTEND;TZID=Europe/Berlin:20160501T131500
LOCATION:
SUMMARY:15/16 F1-Jun. KOL: TSV 1911 Themar F - SV Eintracht Heldburg F
END:VEVENT
BEGIN:VEVENT
UID:20260423T063728CEST-7298e9BA57@85.13.129.106
DTSTAMP:20260423T043728Z
DESCRIPTION:
DTSTART;TZID=Europe/Berlin:20160522T093000
DTEND;TZID=Europe/Berlin:20160522T111500
LOCATION:
SUMMARY:15/16 F1-Jun. KOL: SC 06 Oberlind F - TSV 1911 Themar F
END:VEVENT
BEGIN:VEVENT
UID:20260423T063728CEST-7303EvcU2K@85.13.129.106
DTSTAMP:20260423T043728Z
DESCRIPTION:
DTSTART;TZID=Europe/Berlin:20160605T113000
DTEND;TZID=Europe/Berlin:20160605T131500
LOCATION:
SUMMARY:15/16 F1-Jun. KOL: TSV 1911 Themar F - SV Empor 90 Eishausen F
END:VEVENT
BEGIN:VEVENT
UID:20260423T063728CEST-7307vvEARl@85.13.129.106
DTSTAMP:20260423T043728Z
DESCRIPTION:
DTSTART;TZID=Europe/Berlin:20160522T111000
DTEND;TZID=Europe/Berlin:20160522T125500
LOCATION:
SUMMARY:15/16 F1-Jun. KOL: TSV 1911 Themar F - SG Goßmannsrod/Oberland F
END:VEVENT
BEGIN:VEVENT
UID:20260423T063728CEST-7312zb55aj@85.13.129.106
DTSTAMP:20260423T043728Z
DESCRIPTION:
DTSTART;TZID=Europe/Berlin:20160605T105000
DTEND;TZID=Europe/Berlin:20160605T123500
LOCATION:
SUMMARY:15/16 F1-Jun. KOL: SV Eintracht Heldburg F - TSV 1911 Themar F
END:VEVENT
END:VCALENDAR
