BEGIN:VCALENDAR
VERSION:2.0
PRODID:-//85.13.129.106//NONSGML kigkonsult.se iCalcreator 2.10.23//
BEGIN:VEVENT
UID:20260421T041803CEST-6727kvl2vC@85.13.129.106
DTSTAMP:20260421T021803Z
DESCRIPTION:
DTSTART;TZID=Europe/Berlin:20160501T103000
DTEND;TZID=Europe/Berlin:20160501T121500
LOCATION:
SUMMARY:15/16 F1-Jun. KOL: SG Effelder/Schalkau F - SV Eintracht Heldburg F
END:VEVENT
BEGIN:VEVENT
UID:20260421T041803CEST-6732N03MCk@85.13.129.106
DTSTAMP:20260421T021803Z
DESCRIPTION:
DTSTART;TZID=Europe/Berlin:20160522T103000
DTEND;TZID=Europe/Berlin:20160522T121500
LOCATION:
SUMMARY:15/16 F1-Jun. KOL: SG Goßmannsrod/Oberland F - SV Eintracht Heldbur
 g F
END:VEVENT
BEGIN:VEVENT
UID:20260421T041803CEST-6736ohp32g@85.13.129.106
DTSTAMP:20260421T021803Z
DESCRIPTION:
DTSTART;TZID=Europe/Berlin:20160501T100000
DTEND;TZID=Europe/Berlin:20160501T114500
LOCATION:
SUMMARY:15/16 F1-Jun. KOL: SV Empor 90 Eishausen F - SV Eintracht Heldburg 
 F
END:VEVENT
BEGIN:VEVENT
UID:20260421T041803CEST-6740iN8ewl@85.13.129.106
DTSTAMP:20260421T021803Z
DESCRIPTION:
DTSTART;TZID=Europe/Berlin:20160508T113000
DTEND;TZID=Europe/Berlin:20160508T131500
LOCATION:
SUMMARY:15/16 F1-Jun. KOL: SC 06 Oberlind F - SV Eintracht Heldburg F
END:VEVENT
BEGIN:VEVENT
UID:20260421T041803CEST-6744X7EItj@85.13.129.106
DTSTAMP:20260421T021803Z
DESCRIPTION:
DTSTART;TZID=Europe/Berlin:20160501T113000
DTEND;TZID=Europe/Berlin:20160501T131500
LOCATION:
SUMMARY:15/16 F1-Jun. KOL: TSV 1911 Themar F - SV Eintracht Heldburg F
END:VEVENT
BEGIN:VEVENT
UID:20260421T041803CEST-6748Tc3vt6@85.13.129.106
DTSTAMP:20260421T021803Z
DESCRIPTION:
DTSTART;TZID=Europe/Berlin:20160605T095000
DTEND;TZID=Europe/Berlin:20160605T113500
LOCATION:
SUMMARY:15/16 F1-Jun. KOL: SV Eintracht Heldburg F - SG Goßmannsrod/Oberlan
 d F
END:VEVENT
BEGIN:VEVENT
UID:20260421T041803CEST-6752uobdwB@85.13.129.106
DTSTAMP:20260421T021803Z
DESCRIPTION:
DTSTART;TZID=Europe/Berlin:20160508T100000
DTEND;TZID=Europe/Berlin:20160508T114500
LOCATION:
SUMMARY:15/16 F1-Jun. KOL: SV Eintracht Heldburg F - SG Effelder/Schalkau F
END:VEVENT
BEGIN:VEVENT
UID:20260421T041803CEST-6755dIlUMo@85.13.129.106
DTSTAMP:20260421T021803Z
DESCRIPTION:
DTSTART;TZID=Europe/Berlin:20160522T095000
DTEND;TZID=Europe/Berlin:20160522T113500
LOCATION:
SUMMARY:15/16 F1-Jun. KOL: SV Eintracht Heldburg F - SC 06 Oberlind F
END:VEVENT
BEGIN:VEVENT
UID:20260421T041803CEST-6760WWZtzK@85.13.129.106
DTSTAMP:20260421T021803Z
DESCRIPTION:
DTSTART;TZID=Europe/Berlin:20160508T103000
DTEND;TZID=Europe/Berlin:20160508T121500
LOCATION:
SUMMARY:15/16 F1-Jun. KOL: SV Eintracht Heldburg F - SV Empor 90 Eishausen 
 F
END:VEVENT
BEGIN:VEVENT
UID:20260421T041803CEST-6763sAmTGb@85.13.129.106
DTSTAMP:20260421T021803Z
DESCRIPTION:
DTSTART;TZID=Europe/Berlin:20160605T105000
DTEND;TZID=Europe/Berlin:20160605T123500
LOCATION:
SUMMARY:15/16 F1-Jun. KOL: SV Eintracht Heldburg F - TSV 1911 Themar F
END:VEVENT
END:VCALENDAR
