BEGIN:VCALENDAR
VERSION:2.0
PRODID:-//85.13.129.106//NONSGML kigkonsult.se iCalcreator 2.10.23//
BEGIN:VEVENT
UID:20260422T181752CEST-8447D5lUTS@85.13.129.106
DTSTAMP:20260422T161752Z
DESCRIPTION:
DTSTART;TZID=Europe/Berlin:20160130T090000
DTEND;TZID=Europe/Berlin:20160130T104500
LOCATION:
SUMMARY:15/16 F1-Junioren HKM VR: SG Lauscha/Neuhaus F2 - SG Effelder/Schal
 kau F
END:VEVENT
BEGIN:VEVENT
UID:20260422T181752CEST-8452JWsUsw@85.13.129.106
DTSTAMP:20260422T161752Z
DESCRIPTION:
DTSTART;TZID=Europe/Berlin:20160130T092200
DTEND;TZID=Europe/Berlin:20160130T110700
LOCATION:
SUMMARY:15/16 F1-Junioren HKM VR: SV Germania Judenbach F - SG Lauscha/Neuh
 aus F2
END:VEVENT
BEGIN:VEVENT
UID:20260422T181752CEST-8457GOVrjf@85.13.129.106
DTSTAMP:20260422T161752Z
DESCRIPTION:
DTSTART;TZID=Europe/Berlin:20160130T095500
DTEND;TZID=Europe/Berlin:20160130T114000
LOCATION:
SUMMARY:15/16 F1-Junioren HKM VR: SG Lauscha/Neuhaus F2 - TSV Germ. Sonnebe
 rg West F
END:VEVENT
BEGIN:VEVENT
UID:20260422T181752CEST-8462PV9khK@85.13.129.106
DTSTAMP:20260422T161752Z
DESCRIPTION:
DTSTART;TZID=Europe/Berlin:20160130T101700
DTEND;TZID=Europe/Berlin:20160130T120200
LOCATION:
SUMMARY:15/16 F1-Junioren HKM VR: SV 08 Steinach F - SG Lauscha/Neuhaus F2
END:VEVENT
END:VCALENDAR
