BEGIN:VCALENDAR
VERSION:2.0
PRODID:-//85.13.129.106//NONSGML kigkonsult.se iCalcreator 2.10.23//
BEGIN:VEVENT
UID:20260422T171712CEST-7031mdjxeB@85.13.129.106
DTSTAMP:20260422T151712Z
DESCRIPTION:
DTSTART;TZID=Europe/Berlin:20150904T163000
DTEND;TZID=Europe/Berlin:20150904T180500
LOCATION:
SUMMARY:15/16 D2-Jun. KL: SG FSV Mengersgereuth-Hämmern D - SV 03 Eisfeld D
END:VEVENT
BEGIN:VEVENT
UID:20260422T171712CEST-7035cAwAHO@85.13.129.106
DTSTAMP:20260422T151712Z
DESCRIPTION:
DTSTART;TZID=Europe/Berlin:20150909T180000
DTEND;TZID=Europe/Berlin:20150909T193500
LOCATION:
SUMMARY:15/16 D2-Jun. KL: SV 03 Eisfeld D - SV EK Veilsdorf D
END:VEVENT
BEGIN:VEVENT
UID:20260422T171712CEST-7040vRCCnw@85.13.129.106
DTSTAMP:20260422T151712Z
DESCRIPTION:
DTSTART;TZID=Europe/Berlin:20150913T103000
DTEND;TZID=Europe/Berlin:20150913T120500
LOCATION:
SUMMARY:15/16 D2-Jun. KL: SG Lauscha/Neuhaus D - SV 03 Eisfeld D
END:VEVENT
BEGIN:VEVENT
UID:20260422T171712CEST-7044rjfC2F@85.13.129.106
DTSTAMP:20260422T151712Z
DESCRIPTION:
DTSTART;TZID=Europe/Berlin:20150927T103000
DTEND;TZID=Europe/Berlin:20150927T120500
LOCATION:
SUMMARY:15/16 D2-Jun. KL: SV 03 Eisfeld D - SG Sbg.-W./ Schalkau D2
END:VEVENT
END:VCALENDAR
