BEGIN:VCALENDAR
VERSION:2.0
PRODID:-//85.13.129.106//NONSGML kigkonsult.se iCalcreator 2.10.23//
BEGIN:VEVENT
UID:20260421T232341CEST-1449pPrUsr@85.13.129.106
DTSTAMP:20260421T212341Z
DESCRIPTION:
DTSTART;TZID=Europe/Berlin:20150830T100000
DTEND;TZID=Europe/Berlin:20150830T113500
LOCATION:
SUMMARY:15/16 B-Jun. Pokal: Erlauer SV Grün-Weiß B - SV EK Veilsdorf B
END:VEVENT
BEGIN:VEVENT
UID:20260421T232341CEST-14539RKIGe@85.13.129.106
DTSTAMP:20260421T212341Z
DESCRIPTION:
DTSTART;TZID=Europe/Berlin:20151004T150000
DTEND;TZID=Europe/Berlin:20151004T163500
LOCATION:
SUMMARY:15/16 B-Jun. Pokal: Erlauer SV Grün-Weiß B - SC 06 Oberlind B
END:VEVENT
BEGIN:VEVENT
UID:20260421T232341CEST-14585C1ov9@85.13.129.106
DTSTAMP:20260421T212341Z
DESCRIPTION:
DTSTART;TZID=Europe/Berlin:20150402T133000
DTEND;TZID=Europe/Berlin:20150402T150500
LOCATION:
SUMMARY:15/16 B-Jun. Pokal: SC 07 Schleusingen B - Erlauer SV Grün-Weiß B
END:VEVENT
END:VCALENDAR
