BEGIN:VCALENDAR
VERSION:2.0
PRODID:-//85.13.129.106//NONSGML kigkonsult.se iCalcreator 2.10.23//
BEGIN:VEVENT
UID:20260423T201712CEST-7278OBebwM@85.13.129.106
DTSTAMP:20260423T181712Z
DESCRIPTION:
DTSTART;TZID=Europe/Berlin:20140727T150000
DTEND;TZID=Europe/Berlin:20140727T164500
LOCATION:
SUMMARY:14/15 Herren Kreispokal: TSV Wacker Steinheid - SV Empor Heßberg
END:VEVENT
BEGIN:VEVENT
UID:20260423T201712CEST-7283w2lvam@85.13.129.106
DTSTAMP:20260423T181712Z
DESCRIPTION:
DTSTART;TZID=Europe/Berlin:20141003T150000
DTEND;TZID=Europe/Berlin:20141003T164500
LOCATION:
SUMMARY:14/15 Herren Kreispokal: SV 1897 Goßmannsrod II - SV Empor Heßberg
END:VEVENT
BEGIN:VEVENT
UID:20260423T201712CEST-7287utU2Dh@85.13.129.106
DTSTAMP:20260423T181712Z
DESCRIPTION:
DTSTART;TZID=Europe/Berlin:20141116T133000
DTEND;TZID=Europe/Berlin:20141116T151500
LOCATION:
SUMMARY:14/15 Herren Kreispokal: SV Empor Heßberg - SV EK Veilsdorf
END:VEVENT
BEGIN:VEVENT
UID:20260423T201712CEST-7291JtIAVW@85.13.129.106
DTSTAMP:20260423T181712Z
DESCRIPTION:
DTSTART;TZID=Europe/Berlin:20150404T150000
DTEND;TZID=Europe/Berlin:20150404T164500
LOCATION:
SUMMARY:14/15 Herren Kreispokal: SV Empor Heßberg - SC 09 Effelder
END:VEVENT
END:VCALENDAR
