BEGIN:VCALENDAR
VERSION:2.0
PRODID:-//85.13.129.106//NONSGML kigkonsult.se iCalcreator 2.10.23//
BEGIN:VEVENT
UID:20260422T153754CEST-5348JIuUr5@85.13.129.106
DTSTAMP:20260422T133754Z
DESCRIPTION:
DTSTART;TZID=Europe/Berlin:20181020T140000
DTEND;TZID=Europe/Berlin:20181020T153500
LOCATION:
SUMMARY:18/19 B-Jun. KOL: SG Römhild B - SV 03 Eisfeld/Schalkau B
END:VEVENT
BEGIN:VEVENT
UID:20260422T153754CEST-5353M31ZG7@85.13.129.106
DTSTAMP:20260422T133754Z
DESCRIPTION:
DTSTART;TZID=Europe/Berlin:20181027T140000
DTEND;TZID=Europe/Berlin:20181027T153500
LOCATION:
SUMMARY:18/19 B-Jun. KOL: SV 03 Eisfeld/Schalkau B - FSV 06 Eintr. Hildburg
 hausen B
END:VEVENT
BEGIN:VEVENT
UID:20260422T153754CEST-5357D3SgOS@85.13.129.106
DTSTAMP:20260422T133754Z
DESCRIPTION:
DTSTART;TZID=Europe/Berlin:20181103T140000
DTEND;TZID=Europe/Berlin:20181103T153500
LOCATION:
SUMMARY:18/19 B-Jun. KOL: SG Goßmannsrod/Oberland B - SV 03 Eisfeld/Schalka
 u B
END:VEVENT
BEGIN:VEVENT
UID:20260422T153754CEST-5363VEB7wS@85.13.129.106
DTSTAMP:20260422T133754Z
DESCRIPTION:
DTSTART;TZID=Europe/Berlin:20190329T180000
DTEND;TZID=Europe/Berlin:20190329T193500
LOCATION:
SUMMARY:18/19 B-Jun. KOL: SV 03 Eisfeld/Schalkau B - SG SC 06 Oberlind B
END:VEVENT
BEGIN:VEVENT
UID:20260422T153754CEST-5367hVAc9G@85.13.129.106
DTSTAMP:20260422T133754Z
DESCRIPTION:
DTSTART;TZID=Europe/Berlin:20190406T130000
DTEND;TZID=Europe/Berlin:20190406T143500
LOCATION:
SUMMARY:18/19 B-Jun. KOL: SG Lauscha/Neuhaus B - SV 03 Eisfeld/Schalkau B
END:VEVENT
BEGIN:VEVENT
UID:20260422T153754CEST-5373U2e7uh@85.13.129.106
DTSTAMP:20260422T133754Z
DESCRIPTION:
DTSTART;TZID=Europe/Berlin:20190504T140000
DTEND;TZID=Europe/Berlin:20190504T153500
LOCATION:
SUMMARY:18/19 B-Jun. KOL: SV 03 Eisfeld/Schalkau B - SG Römhild B
END:VEVENT
BEGIN:VEVENT
UID:20260422T153754CEST-5377mzrOVI@85.13.129.106
DTSTAMP:20260422T133754Z
DESCRIPTION:
DTSTART;TZID=Europe/Berlin:20190510T173000
DTEND;TZID=Europe/Berlin:20190510T190500
LOCATION:
SUMMARY:18/19 B-Jun. KOL: FSV 06 Eintr. Hildburghausen B - SV 03 Eisfeld/Sc
 halkau B
END:VEVENT
BEGIN:VEVENT
UID:20260422T153754CEST-5381JgKj6L@85.13.129.106
DTSTAMP:20260422T133754Z
DESCRIPTION:
DTSTART;TZID=Europe/Berlin:20190518T140000
DTEND;TZID=Europe/Berlin:20190518T153500
LOCATION:
SUMMARY:18/19 B-Jun. KOL: SV 03 Eisfeld/Schalkau B - SG Goßmannsrod/Oberlan
 d B
END:VEVENT
BEGIN:VEVENT
UID:20260422T153754CEST-5386DmOA5W@85.13.129.106
DTSTAMP:20260422T133754Z
DESCRIPTION:
DTSTART;TZID=Europe/Berlin:20190525T140000
DTEND;TZID=Europe/Berlin:20190525T153500
LOCATION:
SUMMARY:18/19 B-Jun. KOL: SG SC 06 Oberlind B - SV 03 Eisfeld/Schalkau B
END:VEVENT
BEGIN:VEVENT
UID:20260422T153754CEST-5390gip3wg@85.13.129.106
DTSTAMP:20260422T133754Z
DESCRIPTION:
DTSTART;TZID=Europe/Berlin:20190601T140000
DTEND;TZID=Europe/Berlin:20190601T153500
LOCATION:
SUMMARY:18/19 B-Jun. KOL: SV 03 Eisfeld/Schalkau B - SG Lauscha/Neuhaus B
END:VEVENT
END:VCALENDAR
