BEGIN:VCALENDAR
VERSION:2.0
PRODID:-//85.13.129.106//NONSGML kigkonsult.se iCalcreator 2.10.23//
BEGIN:VEVENT
UID:20260421T113045CEST-7878w7PppJ@85.13.129.106
DTSTAMP:20260421T093045Z
DESCRIPTION:
DTSTART;TZID=Europe/Berlin:20170407T173000
DTEND;TZID=Europe/Berlin:20170407T181500
LOCATION:
SUMMARY:16/17 F-Jun. Kreispokal: SG Milz/Haina F - SV Empor 90 Eishausen F
END:VEVENT
BEGIN:VEVENT
UID:20260421T113045CEST-7886uUiVk9@85.13.129.106
DTSTAMP:20260421T093045Z
DESCRIPTION:
DTSTART;TZID=Europe/Berlin:20170505T173000
DTEND;TZID=Europe/Berlin:20170505T181500
LOCATION:
SUMMARY:16/17 F-Jun. Kreispokal: SG Milz/Haina F - TSV 1911 Themar F
END:VEVENT
END:VCALENDAR
