BEGIN:VCALENDAR
VERSION:2.0
PRODID:-//85.13.129.106//NONSGML kigkonsult.se iCalcreator 2.10.23//
BEGIN:VEVENT
UID:20260421T010720CEST-1096TVM9Ik@85.13.129.106
DTSTAMP:20260420T230720Z
DESCRIPTION:
DTSTART;TZID=Europe/Berlin:20170423T093000
DTEND;TZID=Europe/Berlin:20170423T111500
LOCATION:
SUMMARY:16/17 F1-Jun. KOL: 1. FC Sonneberg 04 F - TSV 1911 Themar F
END:VEVENT
BEGIN:VEVENT
UID:20260421T010720CEST-1100DKuBbo@85.13.129.106
DTSTAMP:20260420T230720Z
DESCRIPTION:
DTSTART;TZID=Europe/Berlin:20170423T113000
DTEND;TZID=Europe/Berlin:20170423T131500
LOCATION:
SUMMARY:16/17 F1-Jun. KOL: TSV 1911 Themar F - SV Falke Sachsenbrunn F
END:VEVENT
BEGIN:VEVENT
UID:20260421T010720CEST-1105bgiNnV@85.13.129.106
DTSTAMP:20260420T230720Z
DESCRIPTION:
DTSTART;TZID=Europe/Berlin:20170507T093000
DTEND;TZID=Europe/Berlin:20170507T111500
LOCATION:
SUMMARY:16/17 F1-Jun. KOL: SC 07 Schleusingen F - TSV 1911 Themar F
END:VEVENT
BEGIN:VEVENT
UID:20260421T010720CEST-1109aGj55f@85.13.129.106
DTSTAMP:20260420T230720Z
DESCRIPTION:
DTSTART;TZID=Europe/Berlin:20170507T110000
DTEND;TZID=Europe/Berlin:20170507T124500
LOCATION:
SUMMARY:16/17 F1-Jun. KOL: TSV 1911 Themar F - SV Empor 90 Eishausen F
END:VEVENT
BEGIN:VEVENT
UID:20260421T010720CEST-1114VwJXub@85.13.129.106
DTSTAMP:20260420T230720Z
DESCRIPTION:
DTSTART;TZID=Europe/Berlin:20170514T093000
DTEND;TZID=Europe/Berlin:20170514T111500
LOCATION:
SUMMARY:16/17 F1-Jun. KOL: SG Effelder/Schalkau F - TSV 1911 Themar F
END:VEVENT
BEGIN:VEVENT
UID:20260421T010720CEST-1118RgiBxn@85.13.129.106
DTSTAMP:20260420T230720Z
DESCRIPTION:
DTSTART;TZID=Europe/Berlin:20170514T113000
DTEND;TZID=Europe/Berlin:20170514T131500
LOCATION:
SUMMARY:16/17 F1-Jun. KOL: TSV 1911 Themar F - 1. FC Sonneberg 04 F
END:VEVENT
BEGIN:VEVENT
UID:20260421T010720CEST-1122zUVlmz@85.13.129.106
DTSTAMP:20260420T230720Z
DESCRIPTION:
DTSTART;TZID=Europe/Berlin:20170528T093000
DTEND;TZID=Europe/Berlin:20170528T111500
LOCATION:
SUMMARY:16/17 F1-Jun. KOL: SV Falke Sachsenbrunn F - TSV 1911 Themar F
END:VEVENT
BEGIN:VEVENT
UID:20260421T010720CEST-1126GfUk5r@85.13.129.106
DTSTAMP:20260420T230720Z
DESCRIPTION:
DTSTART;TZID=Europe/Berlin:20170528T110000
DTEND;TZID=Europe/Berlin:20170528T124500
LOCATION:
SUMMARY:16/17 F1-Jun. KOL: TSV 1911 Themar F - SC 07 Schleusingen F
END:VEVENT
BEGIN:VEVENT
UID:20260421T010720CEST-11316mMnAO@85.13.129.106
DTSTAMP:20260420T230720Z
DESCRIPTION:
DTSTART;TZID=Europe/Berlin:20170611T100000
DTEND;TZID=Europe/Berlin:20170611T114500
LOCATION:
SUMMARY:16/17 F1-Jun. KOL: SV Empor 90 Eishausen F - TSV 1911 Themar F
END:VEVENT
BEGIN:VEVENT
UID:20260421T010720CEST-1135CIUPRG@85.13.129.106
DTSTAMP:20260420T230720Z
DESCRIPTION:
DTSTART;TZID=Europe/Berlin:20170611T110000
DTEND;TZID=Europe/Berlin:20170611T124500
LOCATION:
SUMMARY:16/17 F1-Jun. KOL: TSV 1911 Themar F - SG Effelder/Schalkau F
END:VEVENT
END:VCALENDAR
