BEGIN:VCALENDAR
VERSION:2.0
PRODID:-//85.13.129.106//NONSGML kigkonsult.se iCalcreator 2.10.23//
BEGIN:VEVENT
UID:20260420T074530CEST-4925hM1n2k@85.13.129.106
DTSTAMP:20260420T054530Z
DESCRIPTION:
DTSTART;TZID=Europe/Berlin:20150712T150000
DTEND;TZID=Europe/Berlin:20150712T164500
LOCATION:
SUMMARY:15/16 Herren Kreispokal: TSV 08 Gleichamberg II - SV 07 Häselrieth 
 II
END:VEVENT
END:VCALENDAR
